Workbook

Sheet sd
F4: HAFTA | G4: 1
D6: =ana!E12 -> ŞÜKRÜPAŞA İLKOKULU | J6: =ana!E13 -> 4 / B
B7: DERSLER | C7: =INDEX(trhg!C10:C45,G4,1) -> 46279 | F7: =INDEX(trhg!D10:D45,G4,1) -> 46280 | I7: =INDEX(trhg!E10:E45,$G4,1) -> 46281 | L7: =INDEX(trhg!F10:F45,$G4,1) -> 46282 | O7: =INDEX(trhg!G10:G45,$G4,1) -> 46283
C8: PAZARTESİ | F8: SALI | I8: ÇARŞAMBA | L8: PERŞEMBE | O8: CUMA
B10: 1.DERS | C10: SOSYAL BİLGİLER 1 | F10: FEN BİLİMLERİ 1 | I10: SOSYAL BİLGİLER 3 | L10: FEN BİLİMLERİ 3 | O10: SOSYAL BİLGİLER 2
C11: =INDEX(sb!C$9:C$47,$G$4,1) -> 4.1.1. Resmî kimlik belgesini inceleyerek kişisel kimliğine ilişkin çıkarımlarda bulunur. | F11: =INDEX(fb!C$9:C$48,$G$4,1) -> 4.1.1.1. Yer kabuğunun kara tabakasının kayaçlardan oluştuğunu belirtir. | I11: =INDEX(sb!E$9:E$47,$G$4,1) -> 4.1.1. Resmî kimlik belgesini inceleyerek kişisel kimliğine ilişkin çıkarımlarda bulunur. | L11: =$F$11 -> 4.1.1.1. Yer kabuğunun kara tabakasının kayaçlardan oluştuğunu belirtir. | O11: =INDEX(sb!D$9:D$47,$G$4,1) -> 4.1.1. Resmî kimlik belgesini inceleyerek kişisel kimliğine ilişkin çıkarımlarda bulunur.
B14: 2.DERS | C14: MATEMATİK 1 | F14: MATEMATİK 2 | I14: MATEMATİK 3 | L14: MATEMATİK 4 | O14: MATEMATİK 5
C15: =INDEX(mtm!$C$9:$C$46,$G$4,1) -> M.4.1.1.1. 4, 5 ve 6 basamaklı doğal sayıları okur ve yazar. | F15: =INDEX(mtm!D$9:D$46,$G$4,1) -> M.4.1.1.1. 4, 5 ve 6 basamaklı doğal sayıları okur ve yazar. | I15: =INDEX(mtm!$E$9:$F$46,$G$4,1) -> M.4.1.1.1. 4, 5 ve 6 basamaklı doğal sayıları okur ve yazar. | L15: =INDEX(mtm!$F$9:$G$46,$G$4,1) -> M.4.1.1.1. 4, 5 ve 6 basamaklı doğal sayıları okur ve yazar. | O15: =INDEX(mtm!$G$9:$H$46,$G$4,1) -> M.4.1.1.2. 10 000’e kadar (10 000 dâhil) yüzer ve biner sayar.
B18: 3.DERS | C18: TÜRKÇE 1 | F18: TÜRKÇE 3 | I18: FEN BİLİMLERİ 2 | L18: TÜRKÇE 6 | O18: TÜRKÇE 8
C19: =INDEX(tr!C$9:C$47,$G$4,1) -> OKULUM AÇILIYOR T.4.2.2. Hazırlıksız konuşmalar yapar. T.4.3.3. Şiir okur. | F19: =INDEX(tr!$E$9:$E$47,$G$4,1) -> T.4.3.18. Okuduğu metinle ilgili soruları cevaplar. | I19: =$F$11 -> 4.1.1.1. Yer kabuğunun kara tabakasının kayaçlardan oluştuğunu belirtir. | L19: =INDEX(tr!H$9:I$50,$G$4,1) -> T.4.3.8. Kelimelerin zıt anlamlılarını bulur. | O19: =INDEX(tr!$J$9:J$50,$G$4,1) -> T.4.4.21. Yazma stratejilerini uygular.
B22: 4.DERS | C22: TÜRKÇE 2 | F22: TÜRKÇE 4 | I22: TÜRKÇE 5 | L22: TÜRKÇE 7 | O22: TRAFİK GÜVENLİĞİ
C23: =INDEX(tr!D$9:D$47,$G$4,1) -> T.4.3.12. Bağlamdan yararlanarak bilmediği kelime ve kelime gruplarının anlamını tahmin eder. | F23: =INDEX(tr!F$9:F$47,$G$4,1) -> T.4.3.17. Metnin ana fikri/ana duygusunu belirler. | I23: =INDEX(tr!$G$9:$G$50,$G$4,1) -> T.4.4.10. Büyük harfleri ve noktalama işaretlerini uygun yerlerde kullanır. | L23: =INDEX(tr!$I$9:I$50,$G$4,1) -> T.4.3.32. Kısa ve basit dijital metinlerdeki mesajı kavrar. | O23: =INDEX(tg!C$9:E$46,$G$4,1) -> 4.1.1. Trafikte kendisinin ve başkalarının hayatının önemli olduğunu fark eder.
B26: 5.DERS | C26: İNSAN HAKLARI, YURT VE DEMOK 1 | F26: İNSAN HAKLARI, YURT VE DEMOK 2 | I26: BEDEN EĞİTİMİ VE OYUN1 | L26: DİN KÜLTÜRÜ VE AHLAK BİLGİSİ 1 | O26: İNGİLİZCE1
C27: =INDEX(ih!$C$9:$C$47,$G$4,1) -> Y4.1.1. İnsan olmanın niteliklerini açıklar. | F27: =INDEX(ih!$D$9:$D$47,$G$4,1) -> Y4.1.1. İnsan olmanın niteliklerini açıklar. | I27: =INDEX(BEO!$C$9:$C$47,$G$4,1) -> 4.1.1.1. Yer değiştirme hareketlerini artan kuvvet, hız ve çeviklikle yapar | L27: =INDEX(dkab!C$9:C$51,$G$4,1) -> 4.1.1. Dinî ifadeleri, günlük konuşmalarda doğru ve yerinde kullanır. | O27: =INDEX(ing!$C$9:$C$47,$G$4,1) -> İNG 1
B30: 6.DERS | C30: MÜZİK | F30: GÖRSEL SANATLAR | I30: BEDEN EĞİTİMİ VE OYUN 2 | L30: DİN KÜLTÜRÜ VE AHLAK BİLGİSİ 2 | O30: İNGİLİZCE 2
C31: =INDEX(mz!$C$9:$C$45,$G$4,1) -> Mü.4.A.2. İstiklâl Marşı’nı doğru söylemeye özen gösterir | F31: =INDEX(gs!$C$9:$C$47,$G$4,1) -> G.4.1.1. Görsel sanat çalışmasını oluştururken biçimlendirme basamaklarını kullanır. | I31: =INDEX(BEO!$D$9:$D$47,$G$4,1) -> 4.1.1.1. Yer değiştirme hareketlerini artan kuvvet, hız ve çeviklikle yapar | L31: =INDEX(dkab!C$9:D$51,$G$4,1) -> 4.1.1. Dinî ifadeleri, günlük konuşmalarda doğru ve yerinde kullanır. | O31: =INDEX(ing!$D$9:$D$47,$G$4,1) -> İNG 2

Sheet HDPO
F5: DERS PROGRAMININ UYARLANMASI

Sheet trhg
C8: GÜN GİRİŞİ
B9: HAFTALAR | C9: PAZARTESİ | D9: SALI | E9: ÇARŞAMBA | F9: PERŞEMBE | G9: CUMA | H9: HAFTALAR
B10: 1. HAFTA | C10: 46279 | D10: =C10+1 -> 46280 | E10: =D10+1 -> 46281 | F10: =E10+1 -> 46282 | G10: =F10+1 -> 46283 | H10: =TEXT(C10,"gg/aaa/yyyy")&"-"&TEXT(G10,"gg/aaa/yyyy") -> 14/Eyl/2026-18/Eyl/2026
B11: 2. HAFTA | C11: 46286 | D11: =C11+1 -> 46287 | E11: =D11+1 -> 46288 | F11: =E11+1 -> 46289 | G11: =F11+1 -> 46290 | H11: =TEXT(C11,"gg/aaa/yyyy")&"-"&TEXT(G11,"gg/aaa/yyyy") -> 21/Eyl/2026-25/Eyl/2026
B12: 3. HAFTA | C12: 46293 | D12: =C12+1 -> 46294 | E12: =D12+1 -> 46295 | F12: =E12+1 -> 46296 | G12: =F12+1 -> 46297 | H12: =TEXT(C12,"gg/aaa/yyyy")&"-"&TEXT(G12,"gg/aaa/yyyy") -> 28/Eyl/2026-02/Eki/2026
B13: 4. HAFTA | C13: 46300 | D13: =C13+1 -> 46301 | E13: =D13+1 -> 46302 | F13: =E13+1 -> 46303 | G13: =F13+1 -> 46304 | H13: =TEXT(C13,"gg/aaa/yyyy")&"-"&TEXT(G13,"gg/aaa/yyyy") -> 05/Eki/2026-09/Eki/2026
B14: 5. HAFTA | C14: 46307 | D14: =C14+1 -> 46308 | E14: =D14+1 -> 46309 | F14: =E14+1 -> 46310 | G14: =F14+1 -> 46311 | H14: =TEXT(C14,"gg/aaa/yyyy")&"-"&TEXT(G14,"gg/aaa/yyyy") -> 12/Eki/2026-16/Eki/2026
B15: 6. HAFTA | C15: 46314 | D15: =C15+1 -> 46315 | E15: =D15+1 -> 46316 | F15: =E15+1 -> 46317 | G15: =F15+1 -> 46318 | H15: =TEXT(C15,"gg/aaa/yyyy")&"-"&TEXT(G15,"gg/aaa/yyyy") -> 19/Eki/2026-23/Eki/2026
B16: 7. HAFTA | C16: 46321 | D16: =C16+1 -> 46322 | E16: =D16+1 -> 46323 | F16: =E16+1 -> 46324 | G16: =F16+1 -> 46325 | H16: =TEXT(C16,"gg/aaa/yyyy")&"-"&TEXT(G16,"gg/aaa/yyyy") -> 26/Eki/2026-30/Eki/2026
B17: 8. HAFTA | C17: 46328 | D17: =C17+1 -> 46329 | E17: =D17+1 -> 46330 | F17: =E17+1 -> 46331 | G17: =F17+1 -> 46332 | H17: =TEXT(C17,"gg/aaa/yyyy")&"-"&TEXT(G17,"gg/aaa/yyyy") -> 02/Kas/2026-06/Kas/2026
B18: 9. HAFTA | C18: 46335 | D18: =C18+1 -> 46336 | E18: =D18+1 -> 46337 | F18: =E18+1 -> 46338 | G18: =F18+1 -> 46339 | H18: =TEXT(C18,"gg/aaa/yyyy")&"-"&TEXT(G18,"gg/aaa/yyyy") -> 09/Kas/2026-13/Kas/2026
B19: Ara Tatil | C19: 46342 | D19: =C19+1 -> 46343 | E19: =D19+1 -> 46344 | F19: =E19+1 -> 46345 | G19: =F19+1 -> 46346 | H19: =TEXT(C19,"gg/aaa/yyyy")&"-"&TEXT(G19,"gg/aaa/yyyy") -> 16/Kas/2026-20/Kas/2026
B20: 10. HAFTA | C20: 46349 | D20: =C20+1 -> 46350 | E20: =D20+1 -> 46351 | F20: =E20+1 -> 46352 | G20: =F20+1 -> 46353 | H20: =TEXT(C20,"gg/aaa/yyyy")&"-"&TEXT(G20,"gg/aaa/yyyy") -> 23/Kas/2026-27/Kas/2026
B21: 11. HAFTA | C21: 46356 | D21: =C21+1 -> 46357 | E21: =D21+1 -> 46358 | F21: =E21+1 -> 46359 | G21: =F21+1 -> 46360 | H21: =TEXT(C21,"gg/aaa/yyyy")&"-"&TEXT(G21,"gg/aaa/yyyy") -> 30/Kas/2026-04/Ara/2026
... B48: 37. HAFTA | C48: 46559 | D48: =C48+1 -> 46560 | E48: =D48+1 -> 46561 | F48: =E48+1 -> 46562 | G48: =F48+1 -> 46563 | H48: =TEXT(C48,"gg/aaa/yyyy")&"-"&TEXT(G48,"gg/aaa/yyyy") -> 21/Haz/2027-25/Haz/2027

Sheet topk
B8: MATEMATİK KAZANIMLARI | H8: SOSYAL BİLGİLER KAZANIMLARI | L8: TÜRKÇE KAZANIMLARI | U8: MÜZİK | W8: TRAFİK GÜVENLİĞİ | Y8: GÖRSEL SANAT. KAZANIMLARI | AB8: DİN KÜLTÜRÜ VE AHLAK BİLGİSİ KAZANIMLARI | AE8: FEN BİLİMLERİ KAZANIMLARI | AI8: BEDEN EĞİTMİ VEOYUN | AM8: İNGİLİZCE
B9: 1 DERS | C9: 2 DERS | D9: 3 DERS | E9: 4 DERS | F9: 5 DERS | H9: 1. DERS | I9: 2. DERS | J9: 3. DERS | L9: 1.DERS | M9: 2.DERS | N9: 3.DERS | O9: 4.DERS | P9: 5.DERS | Q9: 6.DERS | R9: 7.DERS | S9: 8.DERS | U9: 1. DERS | W9: 1. DERS | Y9: 1.DERS | Z9: 2.DERS | AB9: 1.DERS | AC9: 2.DERS | AE9: 1. DERS | AF9: 2. DERS | AG9: 3. DERS | AI9: 1.DERS | AJ9: 2.DERS | AM9: 1.DERS | AN9: 2.DERS
A10: =trhg!H10 -> 14/Eyl/2026-18/Eyl/2026 | B10: =mtm!C9 -> M.4.1.1.1. 4, 5 ve 6 basamaklı doğal sayıları okur ve yazar. | C10: =mtm!D9 -> M.4.1.1.1. 4, 5 ve 6 basamaklı doğal sayıları okur ve yazar. | D10: =mtm!E9 -> M.4.1.1.1. 4, 5 ve 6 basamaklı doğal sayıları okur ve yazar. | E10: =mtm!F9 -> M.4.1.1.1. 4, 5 ve 6 basamaklı doğal sayıları okur ve yazar. | F10: =mtm!G9 -> M.4.1.1.2. 10 000’e kadar (10 000 dâhil) yüzer ve biner sayar. | G10: =A10 -> 14/Eyl/2026-18/Eyl/2026 | H10: =sb!C9 -> 4.1.1. Resmî kimlik belgesini inceleyerek kişisel kimliğine ilişkin çıkarımlarda bulunur. | I10: =sb!D9 -> 4.1.1. Resmî kimlik belgesini inceleyerek kişisel kimliğine ilişkin çıkarımlarda bulunur. | J10: =sb!E9 -> 4.1.1. Resmî kimlik belgesini inceleyerek kişisel kimliğine ilişkin çıkarımlarda bulunur. | K10: =G10 -> 14/Eyl/2026-18/Eyl/2026 | L10: =tr!C9 -> OKULUM AÇILIYOR T.4.2.2. Hazırlıksız konuşmalar yapar. T.4.3.3. Şiir okur. | M10: =tr!D9 -> T.4.3.12. Bağlamdan yararlanarak bilmediği kelime ve kelime gruplarının anlamını tahmin eder. | N10: =tr!E9 -> T.4.3.18. Okuduğu metinle ilgili soruları cevaplar. | O10: =tr!F9 -> T.4.3.17. Metnin ana fikri/ana duygusunu belirler. | P10: =tr!G9 -> T.4.4.10. Büyük harfleri ve noktalama işaretlerini uygun yerlerde kullanır. | Q10: =tr!H9 -> T.4.3.8. Kelimelerin zıt anlamlılarını bulur. | R10: =tr!I9 -> T.4.3.32. Kısa ve basit dijital metinlerdeki mesajı kavrar. | S10: =tr!J9 -> T.4.4.21. Yazma stratejilerini uygular. | T10: =G10 -> 14/Eyl/2026-18/Eyl/2026 | U10: =mz!C9 -> Mü.4.A.2. İstiklâl Marşı’nı doğru söylemeye özen gösterir | V10: 18/Eyl/2017-22/Eyl/2017 | W10: =tg!C9 -> 4.1.1. Trafikte kendisinin ve başkalarının hayatının önemli olduğunu fark eder. | X10: =T10 -> 14/Eyl/2026-18/Eyl/2026 | Y10: =gs!C9 -> G.4.1.1. Görsel sanat çalışmasını oluştururken biçimlendirme basamaklarını kullanır. | AA10: =X10 -> 14/Eyl/2026-18/Eyl/2026 | AD10: =X10 -> 14/Eyl/2026-18/Eyl/2026 | AE10: =fb!C9 -> 4.1.1.1. Yer kabuğunun kara tabakasının kayaçlardan oluştuğunu belirtir. | AF10: =fb!D9 -> 4.1.1.2. Kayaçlarla madenleri ilişkilendirir ve kayaçların ham madde olarak önemini tartışır. | AG10: =fb!E9 -> 4.1.1.2. Kayaçlarla madenleri ilişkilendirir ve kayaçların ham madde olarak önemini tartışır. | AH10: =G10 -> 14/Eyl/2026-18/Eyl/2026 | AK10: =G10 -> 14/Eyl/2026-18/Eyl/2026 | AL10: =G10 -> 14/Eyl/2026-18/Eyl/2026 | AM10: =ing!C9 -> İNG 1 | AN10: =ing!D9 -> İNG 2
A11: =trhg!H11 -> 21/Eyl/2026-25/Eyl/2026 | B11: =mtm!C10 -> M.4.1.1.2. 10 000’e kadar (10 000 dâhil) yüzer ve biner sayar. | C11: =mtm!D10 -> M.4.1.1.2. 10 000’e kadar (10 000 dâhil) yüzer ve biner sayar. | D11: =mtm!E10 -> M.4.1.1.3. 4, 5 ve 6 basamaklı doğal sayıların bölüklerini ve basamaklarını, basamaklarındaki rakamların basamak değerlerini belirler ve çözümler. | E11: =mtm!F10 -> M.4.1.1.3. 4, 5 ve 6 basamaklı doğal sayıların bölüklerini ve basamaklarını, basamaklarındaki rakamların basamak değerlerini belirler ve çözümler. | F11: =mtm!G10 -> M.4.1.1.3. 4, 5 ve 6 basamaklı doğal sayıların bölüklerini ve basamaklarını, basamaklarındaki rakamların basamak değerlerini belirler ve çözümler. | G11: =A11 -> 21/Eyl/2026-25/Eyl/2026 | H11: =sb!C10 -> 4.1.2. Yaşamına ilişkin belli başlı olayları kronolojik sıraya koyar. | I11: =sb!D10 -> 4.1.2. Yaşamına ilişkin belli başlı olayları kronolojik sıraya koyar. | J11: =sb!E10 -> 4.1.2. Yaşamına ilişkin belli başlı olayları kronolojik sıraya koyar. | K11: =G11 -> 21/Eyl/2026-25/Eyl/2026 | L11: =tr!C10 -> SÜRPRİİİİZ T.4.3.1. Noktalama işaretlerine dikkat ederek sesli ve sessiz okur. | M11: =tr!D10 -> T.4.3.12. Bağlamdan yararlanarak bilmediği kelime ve kelime gruplarının anlamını tahmin eder. | N11: =tr!E10 -> T.4.3.18. Okuduğu metinle ilgili soruları cevaplar. | O11: =tr!F10 -> T.4.3.23. Metin türlerini ayırt eder. | P11: =tr!G10 -> T.4.3.8. Kelimelerin eş anlamlılarını bulur. | Q11: =tr!H10 -> T.4.4.10. Büyük harfleri ve noktalama işaretlerini uygun yerlerde kullanır. | R11: =tr!I10 -> T.4.3.24. Hikâye edici ve bilgilendirici metinleri oluşturan ögeleri tanır. | S11: =tr!J10 -> T.4.4.21. Yazma stratejilerini uygular. | T11: =G11 -> 21/Eyl/2026-25/Eyl/2026 | U11: =mz!C10 -> Mü.4.A.2. İstiklâl Marşı’nı doğru söylemeye özen gösterir | V11: 25/Eyl/2017-29/Eyl/2017 | W11: =tg!C10 -> 4.1.2. Trafikle ilgil temel kavramları açıklar. | X11: =T11 -> 21/Eyl/2026-25/Eyl/2026 | Y11: =gs!C10 -> G.4.1.2. Deneyimlerini farklı fikirler, sanat formları ve kültürel temalarla ilişkilendirerek görsel sanat çalışması oluşturur | AA11: =X11 -> 21/Eyl/2026-25/Eyl/2026 | AD11: =X11 -> 21/Eyl/2026-25/Eyl/2026 | AE11: =fb!C10 -> 4.1.1.2. Kayaçlarla madenleri ilişkilendirir ve kayaçların ham madde olarak önemini tartışır. | AF11: =fb!D10 -> 4.1.1.3. Fosillerin oluşumunu açıklar. | AG11: =fb!E10 -> 4.1.1.3. Fosillerin oluşumunu açıklar. | AH11: =G11 -> 21/Eyl/2026-25/Eyl/2026 | AK11: =G11 -> 21/Eyl/2026-25/Eyl/2026 | AL11: =G11 -> 21/Eyl/2026-25/Eyl/2026 | AM11: =ing!C10 -> 0 | AN11: =ing!D10 -> 0
A12: =trhg!H12 -> 28/Eyl/2026-02/Eki/2026 | B12: =mtm!C11 -> M.4.1.1.4. Doğal sayıları en yakın onluğa veya yüzlüğe yuvarlar. | C12: =mtm!D11 -> M.4.1.1.4. Doğal sayıları en yakın onluğa veya yüzlüğe yuvarlar. | D12: =mtm!E11 -> M.4.1.1.5. En çok altı basamaklı doğal sayıları büyük/küçük sembolü kullanarak sıralar. | E12: =mtm!F11 -> M.4.1.1.5. En çok altı basamaklı doğal sayıları büyük/küçük sembolü kullanarak sıralar. | F12: =mtm!G11 -> M.4.1.1.5. En çok altı basamaklı doğal sayıları büyük/küçük sembolü kullanarak sıralar.. | G12: =A12 -> 28/Eyl/2026-02/Eki/2026 | H12: =sb!C11 -> 4.1.3. Bireysel ilgi, ihtiyaç ve yeteneklerini tanır. | I12: =sb!D11 -> 4.1.3. Bireysel ilgi, ihtiyaç ve yeteneklerini tanır. | J12: =sb!E11 -> 4.1.3. Bireysel ilgi, ihtiyaç ve yeteneklerini tanır. | K12: =G12 -> 28/Eyl/2026-02/Eki/2026 | L12: =tr!C11 -> HAYDİ UÇURTMA YAPALIM T.4.3.4. Metinleri türün özelliklerine uygun biçimde okur. | M12: =tr!D11 -> T.4.1.4. Dinlediklerinde/izlediklerinde geçen, bilmediği kelimelerin anlamını tahmin eder. S.24 .1. ve 2. ETK. | N12: =tr!E11 -> T.4.3.18. Okuduğu metinle ilgili soruları cevaplar. | O12: =tr!F11 -> T.4.3.17. Metnin ana fikri/ana duygusunu belirler. | P12: =tr!G11 -> T.4.3.23. Metin türlerini ayırt eder. | Q12: =tr!H11 -> T.4.3.26. Metindeki gerçek ve hayalî ögeleri ayırt eder. | R12: =tr!I11 -> T.4.4.10. Büyük harfleri ve noktalama işaretlerini uygun yerlerde kullanır. | S12: =tr!J11 -> T.4.3.34. Grafik, tablo ve çizelgelerle ilgili soruları cevaplar. | T12: =G12 -> 28/Eyl/2026-02/Eki/2026 | U12: =mz!C11 -> Mü.4.A.1. Birlikte söyleme kurallarına uyar. | V12: 02/Eki/2017-06/Eki/2017 | W12: =tg!C11 -> 4.1.2. Trafikle ilgil temel kavramları açıklar. | X12: =T12 -> 28/Eyl/2026-02/Eki/2026 | Y12: =gs!C11 -> G.4.1.3. Görsel sanat çalışmasında kompozisyon birliğini oluşturmak için seçimler yapar. | AA12: =X12 -> 28/Eyl/2026-02/Eki/2026 | AD12: =X12 -> 28/Eyl/2026-02/Eki/2026 | AE12: =fb!C11 -> 4.1.2.1. Dünya’nın dönme ve dolanma hareketleri arasındaki farkı açıklar. | AF12: =fb!D11 -> 4.1.2.1. Dünya’nın dönme ve dolanma hareketleri arasındaki farkı açıklar. | AG12: =fb!E11 -> 4.1.2.1. Dünya’nın dönme ve dolanma hareketleri arasındaki farkı açıklar. | AH12: =G12 -> 28/Eyl/2026-02/Eki/2026 | AK12: =G12 -> 28/Eyl/2026-02/Eki/2026 | AL12: =G12 -> 28/Eyl/2026-02/Eki/2026 | AM12: =ing!C11 -> 0 | AN12: =ing!D11 -> 0
A13: =trhg!H13 -> 05/Eki/2026-09/Eki/2026 | B13: =mtm!C12 -> M.4.1.1.6. Belli bir kurala göre artan veya azalan sayı örüntüleri oluşturur ve kuralını açıklar. | C13: =mtm!D12 -> M.4.1.1.6. Belli bir kurala göre artan veya azalan sayı örüntüleri oluşturur ve kuralını açıklar. | D13: =mtm!E12 -> M.4.1.1.6. Belli bir kurala göre artan veya azalan sayı örüntüleri oluşturur ve kuralını açıklar. | E13: =mtm!F12 -> M.4.1.2.1. En çok dört basamaklı doğal sayılarla toplama işlemini yapar. 2 saat | F13: =mtm!G12 -> M.4.1.2.1. En çok dört basamaklı doğal sayılarla toplama işlemini yapar. 2 saat | G13: =A13 -> 05/Eki/2026-09/Eki/2026 | H13: =sb!C12 -> 4.1.4. Kendisini farklı özelliklere sahip diğer bireylerin yerine koyar. | I13: =sb!D12 -> 4.1.4. Kendisini farklı özelliklere sahip diğer bireylerin yerine koyar. | J13: =sb!E12 -> 4.1.4. Kendisini farklı özelliklere sahip diğer bireylerin yerine koyar. | K13: =G13 -> 05/Eki/2026-09/Eki/2026 | L13: =tr!C12 -> Çocukluğum Bitti Mi? (Dinleme Metni) (DİNLEME METNİ) KAŞAĞI(SERBEST OKUMA) T.4.1.1. Görselden/görsellerden hareketle dinleyeceği/izleyeceği metnin konusunu tahmin eder. | M13: =tr!D12 -> T.4.1.13. Konuşmacının sözlü olmayan mesajlarını kavrar. | N13: =tr!E12 -> T.4.1.4. Dinlediklerinde/izlediklerinde geçen, bilmediği kelimelerin anlamını tahmin eder. S.28 2.ETK. | O13: =tr!F12 -> T.4.1.7. Dinlediklerine/izlediklerine yönelik sorulara cevap verir. | P13: =tr!G12 -> T.4.1.5. Dinlediklerinin/izlediklerinin konusunu belirler. | Q13: =tr!H12 -> T.4.4.12. Yazdıklarını paylaşır. | R13: =tr!I12 -> T.4.4.4. Bilgilendirici metin yazar. | S13: =tr!J12 -> Sözün Gücü(Serbest Okuma Metni) | T13: =G13 -> 05/Eki/2026-09/Eki/2026 | U13: =mz!C12 -> Mü.4.A.1. Birlikte söyleme kurallarına uyar. | V13: 09/Eki/2017-13/Eki/2017 | W13: =tg!C12 -> 4.1.3. Trafik işaretleri ve işaret levhalarının önemini araştırır. | X13: =T13 -> 05/Eki/2026-09/Eki/2026 | Y13: =gs!C12 -> G.4.1.4. İki boyutlu yüzey üzerinde derinlik etkisi oluşturur. | AA13: =X13 -> 05/Eki/2026-09/Eki/2026 | AD13: =X13 -> 05/Eki/2026-09/Eki/2026 | AE13: =fb!C12 -> F.4.1.2.2. Dünya’nın hareketleri sonucu gerçekleşen olayları açıklar. | AF13: =fb!D12 -> F.4.1.2.2. Dünya’nın hareketleri sonucu gerçekleşen olayları açıklar. | AG13: =fb!E12 -> F.4.1.2.2. Dünya’nın hareketleri sonucu gerçekleşen olayları açıklar. | AH13: =G13 -> 05/Eki/2026-09/Eki/2026 | AK13: =G13 -> 05/Eki/2026-09/Eki/2026 | AL13: =G13 -> 05/Eki/2026-09/Eki/2026 | AM13: =ing!C12 -> 0 | AN13: =ing!D12 -> 0
A14: =trhg!H14 -> 12/Eki/2026-16/Eki/2026 | B14: =mtm!C13 -> M.4.1.2.1. En çok dört basamaklı doğal sayılarla toplama işlemini yapar | C14: =mtm!D13 -> M.4.1.2.1. En çok dört basamaklı doğal sayılarla toplama işlemini yapar | D14: =mtm!E13 -> M.4.1.3.1. En çok dört basamaklı doğal sayılarla çıkarma işlemini yapar. | E14: =mtm!F13 -> M.4.1.3.1. En çok dört basamaklı doğal sayılarla çıkarma işlemini yapar. | F14: =mtm!G13 -> M.4.1.3.1. En çok dört basamaklı doğal sayılarla çıkarma işlemini yapar. | G14: =A14 -> 12/Eki/2026-16/Eki/2026 | H14: =sb!C13 -> 4.1.5. Diğer bireylerin farklı özelliklerini saygı ile karşılar. TEMA SONU DEĞERLENDİRME ÇALIŞMALARI | I14: =sb!D13 -> 4.1.5. Diğer bireylerin farklı özelliklerini saygı ile karşılar. TEMA SONU DEĞERLENDİRME ÇALIŞMALARI | J14: =sb!E13 -> 4.1.5. Diğer bireylerin farklı özelliklerini saygı ile karşılar. TEMA SONU DEĞERLENDİRME ÇALIŞMALARI | K14: =G14 -> 12/Eki/2026-16/Eki/2026 | L14: =tr!C13 -> Ömrümün En Güzel Rüyası T.4.3.2. Vurgu, tonlama ve telaffuza dikkat ederek okur. | M14: =tr!D13 -> T.4.3.12. Bağlamdan yararlanarak bilmediği kelime ve kelime gruplarının anlamını tahmin eder. | N14: =tr!E13 -> T.4.3.18. Okuduğu metinle ilgili soruları cevaplar. | O14: =tr!F13 -> T.4.3.17. Metnin ana fikri/ana duygusunu belirler. | P14: =tr!G13 -> T4.2.5. Sınıf içindeki tartışma ve konuşmalara katılır. | Q14: =tr!H13 -> T.4.4.10. Büyük harfleri ve noktalama işaretlerini uygun yerlerde kullanır. | R14: =tr!I13 -> T.4.3.7. Kelimelerin zıt anlamlılarını bulur. | S14: =tr!J13 -> T.4.4.20. Harflerin yapısal özelliklerine uygun metin yazar. | T14: =G14 -> 12/Eki/2026-16/Eki/2026 | U14: =mz!C13 -> Mü.4.A.1. Birlikte söyleme kurallarına uyar. | V14: 16/Eki/2017-20/Eki/2017 | W14: =tg!C13 -> 4.1.3. Trafik işaretleri ve işaret levhalarının önemini araştırır. | X14: =T14 -> 12/Eki/2026-16/Eki/2026 | Y14: =gs!C13 -> G.4.1.5. Gözleme dayalı çizimlerinde kontur çizgisini ve gölgeleme tekniklerini kullanır. | AA14: =X14 -> 12/Eki/2026-16/Eki/2026 | AD14: =X14 -> 12/Eki/2026-16/Eki/2026 | AE14: =fb!C13 -> F.4.1.2.2. Dünya’nın hareketleri sonucu gerçekleşen olayları açıklar. | AF14: =fb!D13 -> F.4.1.2.2. Dünya’nın hareketleri sonucu gerçekleşen olayları açıklar. | AG14: =fb!E13 -> F.4.1.2.2. Dünya’nın hareketleri sonucu gerçekleşen olayları açıklar. | AH14: =G14 -> 12/Eki/2026-16/Eki/2026 | AK14: =G14 -> 12/Eki/2026-16/Eki/2026 | AL14: =G14 -> 12/Eki/2026-16/Eki/2026 | AM14: =ing!C13 -> 0 | AN14: =ing!D13 -> 0
A15: =trhg!H15 -> 19/Eki/2026-23/Eki/2026 | B15: =mtm!C14 -> M.4.1.3.2. Üç basamaklı doğal sayılardan 10’un katı olan iki basamaklı doğal sayıları ve 100’ün katı olan üç basamaklı doğal sayıları zihinden çıkarır. | C15: =mtm!D14 -> M.4.1.3.2. Üç basamaklı doğal sayılardan 10’un katı olan iki basamaklı doğal sayıları ve 100’ün katı olan üç basamaklı doğal sayıları zihinden çıkarır. | D15: =mtm!E14 -> M.4.1.3.2. Üç basamaklı doğal sayılardan 10’un katı olan iki basamaklı doğal sayıları ve 100’ün katı olan üç basamaklı doğal sayıları zihinden çıkarır. | E15: =mtm!F14 -> M.4.1.2.2.İki doğal sayının toplamını tahmin eder ve tahminini işlem sonucu ile karşılaştırır. | F15: =mtm!G14 -> M.4.1.2.2.İki doğal sayının toplamını tahmin eder ve tahminini işlem sonucu ile karşılaştırır. | G15: =A15 -> 19/Eki/2026-23/Eki/2026 | H15: =sb!C14 -> 4.2.1. Sözlü, yazılı, görsel kaynaklar ve nesnelerden yararlanarak ailesinin geçmişine dair soyağacı oluşturur. | I15: =sb!D14 -> 4.2.1. Sözlü, yazılı, görsel kaynaklar ve nesnelerden yararlanarak ailesinin geçmişine dair soyağacı oluşturur. | J15: =sb!E14 -> 4.2.1. Sözlü, yazılı, görsel kaynaklar ve nesnelerden yararlanarak ailesinin geçmişine dair soyağacı oluşturur. | K15: =G15 -> 19/Eki/2026-23/Eki/2026 | L15: =tr!C14 -> Atatürk Dumlupınar’da T.4.3.2. Vurgu, tonlama ve telaffuza dikkat ederek okur. | M15: =tr!D14 -> T.4.3.12. Bağlamdan yararlanarak bilmediği kelime ve kelime gruplarının anlamını tahmin eder. | N15: =tr!E14 -> T.4.3.18. Okuduğu metinle ilgili soruları cevaplar. | O15: =tr!F14 -> T.4.3.17. Metnin ana fikri/ana duygusunu belirler. | P15: =tr!G14 -> T.4.4.10. Büyük harfleri ve noktalama işaretlerini uygun yerlerde kullanır. | Q15: =tr!H14 -> T.4.4.12. Yazdıklarını paylaşır. | R15: =tr!I14 -> T.4.3.7. Kelimelerin zıt anlamlılarını bulur. | S15: =tr!J14 -> T.4.4.1. Şiir yazar. T.4.4.20. Harflerin yapısal özelliklerine uygun metin yazar. | T15: =G15 -> 19/Eki/2026-23/Eki/2026 | U15: =mz!C14 -> Mü.4.D.4. Öğrenilen müzikler aracılığıyla millî ve manevi bilinç kazanır. | V15: 23/Eki/2017-27/Eki/2017 | W15: =tg!C14 -> 4.1.4. Yaya olarak trafik kurallarına uyar. | X15: =T15 -> 19/Eki/2026-23/Eki/2026 | Y15: =gs!C14 -> G.4.1.6. Farklı materyalleri kullanarak üç boyutlu çalışmalar yapar. | AA15: =X15 -> 19/Eki/2026-23/Eki/2026 | AD15: =X15 -> 19/Eki/2026-23/Eki/2026 | AE15: =fb!C14 -> F.4.2.1.1. Canlı yaşamı ve besin içerikleri arasındaki ilişkiyi açıklar | AF15: =fb!D14 -> F.4.2.1.1. Canlı yaşamı ve besin içerikleri arasındaki ilişkiyi açıklar | AG15: =fb!E14 -> F.4.2.1.1. Canlı yaşamı ve besin içerikleri arasındaki ilişkiyi açıklar | AH15: =G15 -> 19/Eki/2026-23/Eki/2026 | AK15: =G15 -> 19/Eki/2026-23/Eki/2026 | AL15: =G15 -> 19/Eki/2026-23/Eki/2026 | AM15: =ing!C14 -> 0 | AN15: =ing!D14 -> 0
A16: =trhg!H16 -> 26/Eki/2026-30/Eki/2026 | B16: =mtm!C15 -> M.4.1.2.2.İki doğal sayının toplamını tahmin eder ve tahminini işlem sonucu ile karşılaştırır. | C16: =mtm!D15 -> M.4.1.2.3. En çok dört basamaklı doğal sayıları 100’ün katlarıyla zihinden toplar. | D16: =mtm!E15 -> M.4.1.2.3. En çok dört basamaklı doğal sayıları 100’ün katlarıyla zihinden toplar. | E16: =mtm!F15 -> CUMHURİYET BAYRAMI | F16: =mtm!G15 -> M.4.1.2.3. En çok dört basamaklı doğal sayıları 100’ün katlarıyla zihinden toplar. | G16: =A16 -> 26/Eki/2026-30/Eki/2026 | H16: =sb!C15 -> 4.2.2. Ailesi ve çevresindeki millî kültürü yansıtan ögeleri araştırarak örnekler verir. | I16: =sb!D15 -> 4.2.2. Ailesi ve çevresindeki millî kültürü yansıtan ögeleri araştırarak örnekler verir. | J16: =sb!E15 -> 4.2.2. Ailesi ve çevresindeki millî kültürü yansıtan ögeleri araştırarak örnekler verir. | K16: =G16 -> 26/Eki/2026-30/Eki/2026 | L16: =tr!C15 -> Türk Bayrağı T.4.3.4. Metinleri türün özelliklerine uygun biçimde okur. | M16: =tr!D15 -> T.4.3.12. Bağlamdan yararlanarak bilmediği kelime ve kelime gruplarının anlamını tahmin eder. T.4.3.15. Okuduklarını ana hatlarıyla anlatır.S.50,51. 1.VE 2.ETK. | N16: =tr!E15 -> T.4.3.18. Okuduğu metinle ilgili soruları cevaplar. T.4.3.17. Metnin ana fikri/ana duygusunu belirler. S.51,52 3.VE 4.ETK. | O16: =tr!F15 -> T.4.2.3. Hazırlıklı konuşmalar yapar. | P16: =tr!G15 -> T.4.4.10. Büyük harfleri ve noktalama işaretlerini uygun yerlerde kullanır. | Q16: =tr!H15 -> T.4.3.11. Deyim ve atasözlerinin metnin anlamına katkısını kavrar. | R16: =tr!I15 -> T.4.3.13. Görsellerle ilgili soruları cevaplar. | S16: =tr!J15 -> T.4.3.3. Şiir okur. T.4.4.21. Yazma stratejilerini uygular. | T16: =G16 -> 26/Eki/2026-30/Eki/2026 | U16: =mz!C15 -> Mü.4.D.4. Öğrenilen müzikler aracılığıyla millî ve manevi bilinç kazanır. | V16: 30/Eki/2017-03/Kas/2017 | W16: =tg!C15 -> 4.1.4. Yaya olarak trafik kurallarına uyar. | X16: =T16 -> 26/Eki/2026-30/Eki/2026 | Y16: =gs!C15 -> G.4.1.7. Görsel sanat çalışmalarını oluştururken sanat elemanları ve tasarım ilkelerini kullanır. | AA16: =X16 -> 26/Eki/2026-30/Eki/2026 | AD16: =X16 -> 26/Eki/2026-30/Eki/2026 | AE16: =fb!C15 -> F.4.2.1.2. Su ve minerallerin bütün besinlerde bulunduğu çıkarımını yapar. | AF16: =fb!D15 -> F.4.2.1.2. Su ve minerallerin bütün besinlerde bulunduğu çıkarımını yapar. | AG16: =fb!E15 -> F.4.2.1.2. Su ve minerallerin bütün besinlerde bulunduğu çıkarımını yapar. | AH16: =G16 -> 26/Eki/2026-30/Eki/2026 | AK16: =G16 -> 26/Eki/2026-30/Eki/2026 | AL16: =G16 -> 26/Eki/2026-30/Eki/2026 | AM16: =ing!C15 -> 0 | AN16: =ing!D15 -> 0
A17: =trhg!H17 -> 02/Kas/2026-06/Kas/2026 | B17: =mtm!C16 -> M.4.1.2.4. Doğal sayılarla toplama işlemini gerektiren problemleri çözer. | C17: =mtm!D16 -> M.4.1.2.4. Doğal sayılarla toplama işlemini gerektiren problemleri çözer. | D17: =mtm!E16 -> M.4.1.2.4. Doğal sayılarla toplama işlemini gerektiren problemleri çözer. | E17: =mtm!F16 -> M.4.1.2.4. Doğal sayılarla toplama işlemini gerektiren problemleri çözer. | F17: =mtm!G16 -> M.4.1.2.4. Doğal sayılarla toplama işlemini gerektiren problemleri çözer. | G17: =A17 -> 02/Kas/2026-06/Kas/2026 | H17: =sb!C16 -> 4.2.3. Geleneksel çocuk oyunlarını değişim ve süreklilik açısından günümüzdeki oyunlarla karşılaştırır. | I17: =sb!D16 -> 4.2.3. Geleneksel çocuk oyunlarını değişim ve süreklilik açısından günümüzdeki oyunlarla karşılaştırır. | J17: =sb!E16 -> 4.2.3. Geleneksel çocuk oyunlarını değişim ve süreklilik açısından günümüzdeki oyunlarla karşılaştırır. | K17: =G17 -> 02/Kas/2026-06/Kas/2026 | L17: =tr!C16 -> Çanakkale Türküsü(Dinleme Metni) (DİNLEME /İZLEME METNİ) T.4.1.12. Dinleme stratejilerini uygular. | M17: =tr!D16 -> T.4.1.4. Dinlediklerinde/izlediklerinde geçen, bilmediği kelimelerin anlamını tahmin eder. S.55 1.ETK. | N17: =tr!E16 -> T.4.1.7. Dinlediklerine/izlediklerine yönelik sorulara cevap verir. | O17: =tr!F16 -> T.4.1.9. Dinledikleriyle/izledikleriyle ilgili görüşlerini ifade eder. | P17: =tr!G16 -> T.4.1.6. Dinlediklerinin/izlediklerinin ana fikrini/ana duygusunu belirler. | Q17: =tr!H16 -> T.4.3.34. Grafik, tablo ve çizelgelerle ilgili soruları cevaplar. | R17: =tr!I16 -> T.4.3.13. Görsellerle ilgili soruları cevaplar. | S17: =tr!J16 -> T.4.4.20. Harflerin yapısal özelliklerine uygun metin yazar. | T17: =G17 -> 02/Kas/2026-06/Kas/2026 | U17: =mz!C16 -> Mü.4.A.4. Belirli gün ve haftaların anlamına uygun müzikler söyler. | V17: 06/Kas/2017-10/Kas/2017 | W17: =tg!C16 -> 4.1.5. Günlük yaşantısında çevresindeki güvenli yolları kullanır. | X17: =T17 -> 02/Kas/2026-06/Kas/2026 | Y17: =gs!C16 -> G.4.2.1. Sanatçı ve zanaatkârın rollerini söyler. | AA17: =X17 -> 02/Kas/2026-06/Kas/2026 | AD17: =X17 -> 02/Kas/2026-06/Kas/2026 | AE17: =fb!C16 -> F.4.2.1.3. Sağlıklı bir yaşam için besinlerin tazeliğinin ve doğallığının önemini, araştırma verilerine dayalı olarak tartışır | AF17: =fb!D16 -> F.4.2.1.3. Sağlıklı bir yaşam için besinlerin tazeliğinin ve doğallığının önemini, araştırma verilerine dayalı olarak tartışır | AG17: =fb!E16 -> F.4.2.1.3. Sağlıklı bir yaşam için besinlerin tazeliğinin ve doğallığının önemini, araştırma verilerine dayalı olarak tartışır | AH17: =G17 -> 02/Kas/2026-06/Kas/2026 | AK17: =G17 -> 02/Kas/2026-06/Kas/2026 | AL17: =G17 -> 02/Kas/2026-06/Kas/2026 | AM17: =ing!C16 -> 0 | AN17: =ing!D16 -> 0
A18: =trhg!H18 -> 09/Kas/2026-13/Kas/2026 | B18: =mtm!C17 -> M.4.1.3.3. Doğal sayılarla yapılan çıkarma işleminin sonucunu tahmin eder, tahminini işlem sonucuyla karşılaştırır. | C18: =mtm!D17 -> M.4.1.3.3. Doğal sayılarla yapılan çıkarma işleminin sonucunu tahmin eder, tahminini işlem sonucuyla karşılaştırır. | D18: =mtm!E17 -> M.4.1.3.3. Doğal sayılarla yapılan çıkarma işleminin sonucunu tahmin eder, tahminini işlem sonucuyla karşılaştırır. | E18: =mtm!F17 -> M.4.1.3.3. Doğal sayılarla yapılan çıkarma işleminin sonucunu tahmin eder, tahminini işlem sonucuyla karşılaştırır. | F18: =mtm!G17 -> M.4.1.3.3. Doğal sayılarla yapılan çıkarma işleminin sonucunu tahmin eder, tahminini işlem sonucuyla karşılaştırır. | G18: =A18 -> 09/Kas/2026-13/Kas/2026 | H18: =sb!C17 -> 4.2.4. Millî Mücadele kahramanlarının hayatlarından hareketle Millî Mücadele’nin önemini kavrar. | I18: =sb!D17 -> 4.2.4. Millî Mücadele kahramanlarının hayatlarından hareketle Millî Mücadele’nin önemini kavrar. | J18: =sb!E17 -> 4.2.4. Millî Mücadele kahramanlarının hayatlarından hareketle Millî Mücadele’nin önemini kavrar. | K18: =G18 -> 09/Kas/2026-13/Kas/2026 | L18: =tr!C17 -> Şişli’deki Ev(Serbest Okuma Metni) | M18: =tr!D17 -> Şişli’deki Ev(Serbest Okuma Metni) | N18: =tr!E17 -> T.4.2.4. Konuşma stratejilerini uygular. | O18: =tr!F17 -> T.4.2.4. Konuşma stratejilerini uygular. | P18: =tr!G17 -> TEMA DEĞERLENDİRME ÇALIŞMALARI | Q18: =tr!H17 -> TEMA DEĞERLENDİRME ÇALIŞMALARI | R18: =tr!I17 -> TEMA DEĞERLENDİRME ÇALIŞMALARI | S18: =tr!J17 -> TEMA DEĞERLENDİRME ÇALIŞMALARI | T18: =G18 -> 09/Kas/2026-13/Kas/2026 | U18: =mz!C17 -> Mü.4.A.4. Belirli gün ve haftaların anlamına uygun müzikler söyler. | V18: 13/Kas/2017-17/Kas/2017 | W18: =tg!C17 -> Yazılı Değerlendirme | X18: =T18 -> 09/Kas/2026-13/Kas/2026 | Y18: =gs!C17 -> G.4.2.2. Türk kültürüne ve diğer kültürlere ait mimari yapıların belirgin özelliklerini karşılaştırır | AA18: =X18 -> 09/Kas/2026-13/Kas/2026 | AD18: =X18 -> 09/Kas/2026-13/Kas/2026 | AE18: =fb!C17 -> F.4.2.1.4. İnsan sağlığı ile dengeli beslenmeyi ilişkilendirir | AF18: =fb!D17 -> F.4.2.1.4. İnsan sağlığı ile dengeli beslenmeyi ilişkilendirir | AG18: =fb!E17 -> F.4.2.1.4. İnsan sağlığı ile dengeli beslenmeyi ilişkilendirir | AH18: =G18 -> 09/Kas/2026-13/Kas/2026 | AK18: =G18 -> 09/Kas/2026-13/Kas/2026 | AL18: =G18 -> 09/Kas/2026-13/Kas/2026 | AM18: =ing!C17 -> 0 | AN18: =ing!D17 -> 0
A19: =trhg!H19 -> 16/Kas/2026-20/Kas/2026 | B19: =mtm!C19 -> M.4.1.3.4. Doğal sayılarla toplama ve çıkarma işlemini gerektiren problemleri çözer. | C19: =mtm!D19 -> M.4.1.3.4. Doğal sayılarla toplama ve çıkarma işlemini gerektiren problemleri çözer. | D19: =mtm!E19 -> M.4.1.3.4. Doğal sayılarla toplama ve çıkarma işlemini gerektiren problemleri çözer. | E19: =mtm!F19 -> M.4.1.3.4. Doğal sayılarla toplama ve çıkarma işlemini gerektiren problemleri çözer. | F19: =mtm!G19 -> M.4.1.3.4. Doğal sayılarla toplama ve çıkarma işlemini gerektiren problemleri çözer. | G19: =A19 -> 16/Kas/2026-20/Kas/2026 | H19: =sb!C18 -> ARA TATİL | I19: =sb!D18 -> ARA TATİL | J19: =sb!E18 -> ARA TATİL | K19: =G19 -> 16/Kas/2026-20/Kas/2026 | L19: =tr!C18 -> ARA TATİL | M19: =tr!D18 -> ARA TATİL | N19: =tr!E18 -> ARA TATİL | O19: =tr!F18 -> ARA TATİL | P19: =tr!G18 -> ARA TATİL | Q19: =tr!H18 -> ARA TATİL | R19: =tr!I18 -> ARA TATİL | S19: =tr!J18 -> ARA TATİL | T19: =G19 -> 16/Kas/2026-20/Kas/2026 | U19: =mz!C18 -> ARA TATİL | V19: 20/Kas/2017-24/Kas/2017 | W19: =tg!C18 -> 4.1.6. Taşıt trafiğine kapalı alanlarda oyun araçlarını güvenli kullanır. | X19: =T19 -> 16/Kas/2026-20/Kas/2026 | Y19: =gs!C18 -> ARA TATİL | AA19: =X19 -> 16/Kas/2026-20/Kas/2026 | AD19: =X19 -> 16/Kas/2026-20/Kas/2026 | AE19: =fb!C18 -> F.4.2.1.5. Alkol ve sigara kullanımının insan sağlığına olan olumsuz etkilerinin farkına varır. | AF19: =fb!D18 -> F.4.2.1.5. Alkol ve sigara kullanımının insan sağlığına olan olumsuz etkilerinin farkına varır. | AG19: =fb!E18 -> F.4.2.1.5. Alkol ve sigara kullanımının insan sağlığına olan olumsuz etkilerinin farkına varır. | AH19: =G19 -> 16/Kas/2026-20/Kas/2026 | AK19: =G19 -> 16/Kas/2026-20/Kas/2026 | AL19: =G19 -> 16/Kas/2026-20/Kas/2026 | AM19: =ing!C18 -> ARA TATİL | AN19: =ing!D18 -> ARA TATİL
A20: =trhg!H20 -> 23/Kas/2026-27/Kas/2026 | B20: =mtm!#REF! -> #REF! | C20: =mtm!#REF! -> #REF! | D20: =mtm!#REF! -> #REF! | E20: =mtm!#REF! -> #REF! | F20: =mtm!#REF! -> #REF! | G20: =A20 -> 23/Kas/2026-27/Kas/2026 | H20: =sb!C19 -> 4.2.4. Millî Mücadele kahramanlarının hayatlarından hareketle Millî Mücadele’nin önemini kavrar. | I20: =sb!D19 -> 4.2.4. Millî Mücadele kahramanlarının hayatlarından hareketle Millî Mücadele’nin önemini kavrar. | J20: =sb!E19 -> 4.2.4. Millî Mücadele kahramanlarının hayatlarından hareketle Millî Mücadele’nin önemini kavrar. | K20: =G20 -> 23/Kas/2026-27/Kas/2026 | L20: =tr!C19 -> Yılın Babası T.4.3.4. Metinleri türün özelliklerine uygun biçimde okur. | M20: =tr!D19 -> T.4.3.12. Bağlamdan yararlanarak bilmediği kelime ve kelime gruplarının anlamını tahmin eder. | N20: =tr!E19 -> T.4.3.18. Okuduğu metinle ilgili soruları cevaplar. T.4.3.31. Metinler arasında karşılaştırma yapar. | O20: =tr!F19 -> T.4.3.17. Metnin ana fikri/ana duygusunu belirler. T.4.3.10. Okuduğu metindeki gerçek, mecaz ve terim anlamlı sözcükleri belirler. | P20: =tr!G19 -> T.4.3.29. Görsellerle okuduğu metnin içeriğini ilişkilendirir. T.4.4.10. Büyük harfleri ve noktalama işaretlerini uygun yerlerde kullanır. | Q20: =tr!H19 -> T.4.3.28. Okudukları ile ilgili çıkarımlar yapar. | R20: =tr!I19 -> T.4.4.3. Hikâye edici metin yazar. | S20: =tr!J19 -> T.4.4.20. Harflerin yapısal özelliklerine uygun metin yazar. | T20: =G20 -> 23/Kas/2026-27/Kas/2026 | U20: =mz!C19 -> Mü.4.A.4. Belirli gün ve haftaların anlamına uygun müzikler söyler. | V20: 27/Kas/2017-01/Ara/2017 | W20: =tg!C19 -> 4.1.7. Ulaşım araçlarını çeşitli özellikleri açısından karşılaştırır. | X20: =T20 -> 23/Kas/2026-27/Kas/2026 | Y20: =gs!C19 -> G.4.2.3. Farklı kültürlerde yapılmış sanat eserlerinin genel özelliklerini karşılaştırır. | AA20: =X20 -> 23/Kas/2026-27/Kas/2026 | AD20: =X20 -> 23/Kas/2026-27/Kas/2026 | AE20: =fb!C19 -> F.4.2.1.6. Yakın çevresinde sigara kullanımını azaltmaya yönelik sorumluluk üstlenir. | AF20: =fb!D19 -> F.4.2.1.6. Yakın çevresinde sigara kullanımını azaltmaya yönelik sorumluluk üstlenir. | AG20: =fb!E19 -> F.4.2.1.6. Yakın çevresinde sigara kullanımını azaltmaya yönelik sorumluluk üstlenir. | AH20: =G20 -> 23/Kas/2026-27/Kas/2026 | AK20: =G20 -> 23/Kas/2026-27/Kas/2026 | AL20: =G20 -> 23/Kas/2026-27/Kas/2026 | AM20: =ing!C19 -> 0 | AN20: =ing!D19 -> 0
A21: =trhg!H21 -> 30/Kas/2026-04/Ara/2026 | B21: =mtm!C20 -> M.4.1.4.1 Üç basamaklı doğal sayılarla iki basamaklı doğal sayıları çarpar. | C21: =mtm!D20 -> M.4.1.4.1 Üç basamaklı doğal sayılarla iki basamaklı doğal sayıları çarpar. | D21: =mtm!E20 -> M.4.1.4.1 Üç basamaklı doğal sayılarla iki basamaklı doğal sayıları çarpar. | E21: =mtm!F20 -> M.4.1.4.2. Üç doğal sayı ile yapılan çarpma işleminde sayıların birbirleriyle çarpılma sırasının değişmesinin, sonucu değiştirmediğini gösterir. | F21: =mtm!G20 -> M.4.1.4.2. Üç doğal sayı ile yapılan çarpma işleminde sayıların birbirleriyle çarpılma sırasının değişmesinin, sonucu değiştirmediğini gösterir. | G21: =A21 -> 30/Kas/2026-04/Ara/2026 | H21: =sb!C20 -> 4.3.1. Çevresindeki herhangi bir yerin konumu ile ilgili çıkarımlarda bulunur. | I21: =sb!D20 -> 4.3.1. Çevresindeki herhangi bir yerin konumu ile ilgili çıkarımlarda bulunur. | J21: =sb!E20 -> 4.3.1. Çevresindeki herhangi bir yerin konumu ile ilgili çıkarımlarda bulunur. | K21: =G21 -> 30/Kas/2026-04/Ara/2026 | L21: =tr!C20 -> Ustaların Ustası Mimar Sinan T.4.3.3. Şiir okur. | M21: =tr!D20 -> T.4.3.12. Bağlamdan yararlanarak bilmediği kelime ve kelime gruplarının anlamını tahmin eder. S.71 1.ETK. | N21: =tr!E20 -> T.4.3.18. Okuduğu metinle ilgili soruları cevaplar. T.4.3.21. Okuduğu metnin içeriğine uygun başlık belirler. S.71,72 2.VE 3.ETK. | O21: =tr!F20 -> T.4.3.18. Okuduğu metinle ilgili soruları cevaplar. | P21: =tr!G20 -> T.4.3.16. Okuduğu metnin konusunu belirler. | Q21: =tr!H20 -> T.4.3.27. Okuduğu metindeki kahramanların özelliklerini karşılaştırır. | R21: =tr!I20 -> T.4.4.12. Yazdıklarını paylaşır. | S21: =tr!J20 -> T.4.4.20. Harflerin yapısal özelliklerine uygun metin yazar. | T21: =G21 -> 30/Kas/2026-04/Ara/2026 | U21: =mz!C20 -> Mü.4.B.1. Temel müzik yazı ve öğelerini tanır. | V21: 04/Ara/2017-08/Ara/2017 | W21: =tg!C20 -> 4.1.8. Trafikte geçiş üstünlüğü olan taşıtları tanıtır. | X21: =T21 -> 30/Kas/2026-04/Ara/2026 | Y21: =gs!C20 -> G.4.2.4. Müzedeki farklı kültürlere ait sanat eserlerindeki ortak özellikleri söyler. | AA21: =X21 -> 30/Kas/2026-04/Ara/2026 | AD21: =X21 -> 30/Kas/2026-04/Ara/2026 | AE21: =fb!C20 -> F.4.3.1.1. Kuvvetin, cisimlere hareket kazandırmasına ve cisimlerin şekillerini değiştirmesine yönelik deneyler yapar. | AF21: =fb!D20 -> F.4.3.1.1. Kuvvetin, cisimlere hareket kazandırmasına ve cisimlerin şekillerini değiştirmesine yönelik deneyler yapar. | AG21: =fb!E20 -> F.4.3.1.1. Kuvvetin, cisimlere hareket kazandırmasına ve cisimlerin şekillerini değiştirmesine yönelik deneyler yapar. | AH21: =G21 -> 30/Kas/2026-04/Ara/2026 | AK21: =G21 -> 30/Kas/2026-04/Ara/2026 | AL21: =G21 -> 30/Kas/2026-04/Ara/2026 | AM21: =ing!C20 -> 0 | AN21: =ing!D20 -> 0
A22: =trhg!H22 -> 07/Ara/2026-11/Ara/2026 | B22: =mtm!C21 -> M.4.1.4.3. En çok üç basamaklı doğal sayıları 10, 100 ve 1000’in en çok dokuz katı olan doğal sayılarla; en çok iki basamaklı doğal sayıları 5, 25 ve 50 ile kısa yoldan çarpar. | C22: =mtm!D21 -> M.4.1.4.3. En çok üç basamaklı doğal sayıları 10, 100 ve 1000’in en çok dokuz katı olan doğal sayılarla; en çok iki basamaklı doğal sayıları 5, 25 ve 50 ile kısa yoldan çarpar. | D22: =mtm!E21 -> M.4.1.4.4. En çok üç basamaklı doğal sayıları 10, 100 ve 1000 ile zihinden çarpar. | E22: =mtm!F21 -> M.4.1.4.5. En çok iki basamaklı bir doğal sayı ile bir basamaklı bir doğal sayının çarpımını tahmin eder ve tahminini işlem sonucu ile karşılaştırır. | F22: =mtm!G21 -> M.4.1.4.5. En çok iki basamaklı bir doğal sayı ile bir basamaklı bir doğal sayının çarpımını tahmin eder ve tahminini işlem sonucu ile karşılaştırır. | G22: =A22 -> 07/Ara/2026-11/Ara/2026 | H22: =sb!C21 -> 4.3.2. Günlük yaşamında kullandığı mekânların krokisini çizer. | I22: =sb!D21 -> 4.3.2. Günlük yaşamında kullandığı mekânların krokisini çizer. | J22: =sb!E21 -> 4.3.2. Günlük yaşamında kullandığı mekânların krokisini çizer. | K22: =G22 -> 07/Ara/2026-11/Ara/2026 | L22: =tr!C21 -> Nar Ekşisi Sokak T.4.3.2. Vurgu, tonlama ve telaffuza dikkat ederek okur. | M22: =tr!D21 -> T.4.3.12. Bağlamdan yararlanarak bilmediği kelime ve kelime gruplarının anlamını tahmin eder. | N22: =tr!E21 -> T.4.3.18. Okuduğu metinle ilgili soruları cevaplar. | O22: =tr!F21 -> T.4.3.10. Okuduğu metindeki gerçek, mecaz ve terim anlamlı sözcükleri belirler. T.4.3.11. Deyim ve atasözlerinin metnin anlamına katkısını kavrar. S.81 6. ve 7.ETK. | P22: =tr!G21 -> T.4.4.10. Büyük harfleri ve noktalama işaretlerini uygun yerlerde kullanır. | Q22: =tr!H21 -> T.4.3.25. Yönergeleri kavrar. | R22: =tr!I21 -> T.4.3.28. Okudukları ile ilgili çıkarımlar yapar. | S22: =tr!J21 -> T.4.4.20. Harflerin yapısal özelliklerine uygun metin yazar. | T22: =G22 -> 07/Ara/2026-11/Ara/2026 | U22: =mz!C21 -> Mü.4.B.1. Temel müzik yazı ve öğelerini tanır. | V22: 11/Ara/2017-15/Ara/2017 | W22: =tg!C21 -> 4.1.8. Trafikte geçiş üstünlüğü olan taşıtları tanıtır. | X22: =T22 -> 07/Ara/2026-11/Ara/2026 | Y22: =gs!C21 -> G.4.2.5. Görsel sanat alanındaki meslekleri söyler. | AA22: =X22 -> 07/Ara/2026-11/Ara/2026 | AD22: =X22 -> 07/Ara/2026-11/Ara/2026 | AE22: =fb!C21 -> F.4.3.1.1. Kuvvetin, cisimlere hareket kazandırmasına ve cisimlerin şekillerini değiştirmesine yönelik deneyler yapar. | AF22: =fb!D21 -> F.4.3.1.1. Kuvvetin, cisimlere hareket kazandırmasına ve cisimlerin şekillerini değiştirmesine yönelik deneyler yapar. | AG22: =fb!E21 -> F.4.3.1.1. Kuvvetin, cisimlere hareket kazandırmasına ve cisimlerin şekillerini değiştirmesine yönelik deneyler yapar. | AH22: =G22 -> 07/Ara/2026-11/Ara/2026 | AK22: =G22 -> 07/Ara/2026-11/Ara/2026 | AL22: =G22 -> 07/Ara/2026-11/Ara/2026 | AM22: =ing!C21 -> 0 | AN22: =ing!D21 -> 0
A23: =trhg!H23 -> 14/Ara/2026-18/Ara/2026 | B23: =mtm!C22 -> M.4.1.4.6. Doğal sayılarla çarpma işlemini gerektiren problemleri çözer | C23: =mtm!D22 -> M.4.1.4.6. Doğal sayılarla çarpma işlemini gerektiren problemleri çözer | D23: =mtm!E22 -> M.4.1.4.6. Doğal sayılarla çarpma işlemini gerektiren problemleri çözer | E23: =mtm!F22 -> M.4.1.4.6. Doğal sayılarla çarpma işlemini gerektiren problemleri çözer | F23: =mtm!G22 -> M.4.1.4.6. Doğal sayılarla çarpma işlemini gerektiren problemleri çözer | G23: =A23 -> 14/Ara/2026-18/Ara/2026 | H23: =sb!C22 -> 4.3.3. Yaşadığı çevredeki doğal ve beşerî unsurları ayırt eder. | I23: =sb!D22 -> 4.3.3. Yaşadığı çevredeki doğal ve beşerî unsurları ayırt eder. | J23: =sb!E22 -> 4.3.3. Yaşadığı çevredeki doğal ve beşerî unsurları ayırt eder. | K23: =G23 -> 14/Ara/2026-18/Ara/2026 | L23: =tr!C22 -> Bölüşmek Güzeldir (Dinleme Metni) Tavşanın Ziyafeti (Serbest Okuma Metni) T.4.1.1. Görselden/görsellerden hareketle dinleyeceği/izleyeceği metnin konusunu tahmin eder. T.4.1.12. Dinleme stratejilerini uygular. | M23: =tr!D22 -> T.4.1.7. Dinlediklerine/izlediklerine yönelik sorulara cevap verir. | N23: =tr!E22 -> T.4.1.4. Dinlediklerinde/izlediklerinde geçen, bilmediği kelimelerin anlamını tahmin eder. | O23: =tr!F22 -> T.4.1.3. Dinlediği/izlediği metni ana hatlarıyla anlatır. | P23: =tr!G22 -> T.4.1.7. Dinlediklerine/izlediklerine yönelik sorulara cevap verir. T.4.3.17. Metnin ana fikri/ana duygusunu belirler. | Q23: =tr!H22 -> T.4.1.9. Dinledikleriyle/izledikleriyle ilgili görüşlerini ifade eder. | R23: =tr!I22 -> T.4.4.10. Büyük harfleri ve noktalama işaretlerini uygun yerlerde kullanır. | S23: =tr!J22 -> T.4.4.20. Harflerin yapısal özelliklerine uygun metin yazar. | T23: =G23 -> 14/Ara/2026-18/Ara/2026 | U23: =mz!C22 -> Mü.4.B.1. Temel müzik yazı ve öğelerini tanır. | V23: 18/Ara/2017-22/Ara/2017 | W23: =tg!C22 -> 4.1.9. Trafikle ilgili meslekleri ve kurumları araştırır. | X23: =T23 -> 14/Ara/2026-18/Ara/2026 | Y23: =gs!C22 -> G.4.3.1. Soyut, gerçekçi ve figüratif sanat eserleri arasındaki farkları açıklar. | AA23: =X23 -> 14/Ara/2026-18/Ara/2026 | AD23: =X23 -> 14/Ara/2026-18/Ara/2026 | AE23: =fb!C22 -> 4.3.2.1. Mıknatısı tanır ve kutupları olduğunu keşfeder. | AF23: =fb!D22 -> 4.3.2.2. Mıknatısın etki ettiği maddeleri deney yaparak keşfeder. | AG23: =fb!E22 -> 4.3.2.2. Mıknatısın etki ettiği maddeleri deney yaparak keşfeder. | AH23: =G23 -> 14/Ara/2026-18/Ara/2026 | AK23: =G23 -> 14/Ara/2026-18/Ara/2026 | AL23: =G23 -> 14/Ara/2026-18/Ara/2026 | AM23: =ing!C22 -> 0 | AN23: =ing!D22 -> 0
A24: =trhg!H24 -> 21/Ara/2026-25/Ara/2026 | B24: =mtm!C23 -> M.4.1.5.1. Üç basamaklı doğal sayıları en çok iki basamaklı doğal sayılara böler. | C24: =mtm!D23 -> M.4.1.5.1. Üç basamaklı doğal sayıları en çok iki basamaklı doğal sayılara böler. | D24: =mtm!E23 -> M.4.1.5.2. En çok dört basamaklı bir sayıyı bir basamaklı bir sayıya böler. | E24: =mtm!F23 -> M.4.1.5.2. En çok dört basamaklı bir sayıyı bir basamaklı bir sayıya böler. | F24: =mtm!G23 -> M.4.1.5.2. En çok dört basamaklı bir sayıyı bir basamaklı bir sayıya böler. | G24: =A24 -> 21/Ara/2026-25/Ara/2026 | H24: =sb!C23 -> 4.3.4. Çevresinde meydana gelen hava olaylarını gözlemleyerek bulgularını resimli grafiklere aktarır. | I24: =sb!D23 -> 4.3.4. Çevresinde meydana gelen hava olaylarını gözlemleyerek bulgularını resimli grafiklere aktarır. | J24: =sb!E23 -> 4.3.4. Çevresinde meydana gelen hava olaylarını gözlemleyerek bulgularını resimli grafiklere aktarır. | K24: =G24 -> 21/Ara/2026-25/Ara/2026 | L24: =tr!#REF! -> #REF! | M24: =tr!#REF! -> #REF! | N24: =tr!#REF! -> #REF! | O24: =tr!#REF! -> #REF! | P24: =tr!#REF! -> #REF! | Q24: =tr!#REF! -> #REF! | R24: =tr!#REF! -> #REF! | S24: =tr!#REF! -> #REF! | T24: =G24 -> 21/Ara/2026-25/Ara/2026 | U24: =mz!C23 -> Mü.4.B.1. Temel müzik yazı ve öğelerini tanır. | V24: 25/Ara/2017-29/Ara/2017 | W24: =tg!C23 -> 4.1.9. Trafikle ilgili meslekleri ve kurumları araştırır. | X24: =T24 -> 21/Ara/2026-25/Ara/2026 | Y24: =gs!C23 -> G.4.3.2. Bir sanat eserini seçmesindeki tercih sebebini açıklar. | AA24: =X24 -> 21/Ara/2026-25/Ara/2026 | AD24: =X24 -> 21/Ara/2026-25/Ara/2026 | AE24: =fb!C23 -> 4.3.2.3. Mıknatısların günlük yaşamdaki kullanım alanlarına örnekler verir. | AF24: =fb!D23 -> 4.3.2.4. Mıknatısların yeni kullanım alanları konusunda fikirlerini açıklar. | AG24: =fb!E23 -> 4.3.2.4. Mıknatısların yeni kullanım alanları konusunda fikirlerini açıklar. | AH24: =G24 -> 21/Ara/2026-25/Ara/2026 | AK24: =G24 -> 21/Ara/2026-25/Ara/2026 | AL24: =G24 -> 21/Ara/2026-25/Ara/2026 | AM24: =ing!C23 -> 0 | AN24: =ing!D23 -> 0
A25: =trhg!H25 -> 28/Ara/2026-01/Oca/2027 | B25: =mtm!C24 -> M.4.1.5.3. Son üç basamağı sıfır olan en çok beş basamaklı doğal sayıları 10, 100 ve 1000’e zihinden böler. | C25: =mtm!D24 -> M.4.1.5.3. Son üç basamağı sıfır olan en çok beş basamaklı doğal sayıları 10, 100 ve 1000’e zihinden böler. | D25: =mtm!E24 -> M.4.1.5.4. Bir bölme işleminin sonucunu tahmin eder ve tahminini işlem sonucu ile karşılaştırır. | E25: =mtm!F24 -> M.4.1.5.4. Bir bölme işleminin sonucunu tahmin eder ve tahminini işlem sonucu ile karşılaştırır. | F25: =mtm!G24 -> YILBAŞI TATİLİ | G25: =A25 -> 28/Ara/2026-01/Oca/2027 | H25: =sb!C24 -> SB.4.3.5. Yaşadığı yer ve çevresindeki yer şekilleri ve nüfus özellikleri hakkında çıkarımlarda bulunur. | I25: =sb!D24 -> SB.4.3.5. Yaşadığı yer ve çevresindeki yer şekilleri ve nüfus özellikleri hakkında çıkarımlarda bulunur. | J25: =sb!E24 -> SB.4.3.5. Yaşadığı yer ve çevresindeki yer şekilleri ve nüfus özellikleri hakkında çıkarımlarda bulunur. | K25: =G25 -> 28/Ara/2026-01/Oca/2027 | L25: =tr!C24 -> Gümüşhane T.4.3.4. Metinleri türün özelliklerine uygun biçimde okur. | M25: =tr!D24 -> T.4.3.12. Bağlamdan yararlanarak bilmediği kelime ve kelime gruplarının anlamını tahmin eder. | N25: =tr!E24 -> T.4.3.18. Okuduğu metinle ilgili soruları cevaplar. T.4.3.19. Metinle ilgili sorular sorar. | O25: =tr!F24 -> T.4.3.15. Okuduklarını ana hatlarıyla anlatır. | P25: =tr!G24 -> T.4.3.10. Okuduğu metindeki gerçek, mecaz ve terim anlamlı sözcükleri belirler. | Q25: =tr!H24 -> T.4.4.18. Yazılarında bağlaçları kuralına uygun kullanır. | R25: =tr!I24 -> T.4.4.4. Bilgilendirici metin yazar. | S25: =tr!J24 -> T.4.3.28. Okudukları ile ilgili çıkarımlar yapar. | T25: =G25 -> 28/Ara/2026-01/Oca/2027 | U25: =mz!C24 -> Mü.4.B.4. Öğrendiği seslerin temel özelliklerini ayırt eder. | V25: 01/Oca/2018-05/Oca/2018 | W25: =tg!C24 -> Neler öğrendik? | X25: =T25 -> 28/Ara/2026-01/Oca/2027 | Y25: =gs!C24 -> G.4.3.3. Estetik tercihlerin kişilere göre nasıl değiştiğini ifade eder. | AA25: =X25 -> 28/Ara/2026-01/Oca/2027 | AD25: =X25 -> 28/Ara/2026-01/Oca/2027 | AE25: =fb!C24 -> 4.4.1.1. Beş duyu organını kullanarak maddeyi niteleyen temel özellikleri açıklar. | AF25: =fb!D24 -> 4.4.1.1. Beş duyu organını kullanarak maddeyi niteleyen temel özellikleri açıklar. | AG25: =fb!E24 -> 4.4.1.1. Beş duyu organını kullanarak maddeyi niteleyen temel özellikleri açıklar. | AH25: =G25 -> 28/Ara/2026-01/Oca/2027 | AK25: =G25 -> 28/Ara/2026-01/Oca/2027 | AL25: =G25 -> 28/Ara/2026-01/Oca/2027 | AM25: =ing!C24 -> 0 | AN25: =ing!D24 -> 0
A26: =trhg!H26 -> 04/Oca/2027-08/Oca/2027 | B26: =mtm!C25 -> M.4.1.5.5. Çarpma ve bölme arasındaki ilişkiyi fark eder. | C26: =mtm!D25 -> M.4.1.5.5. Çarpma ve bölme arasındaki ilişkiyi fark eder. | D26: =mtm!E25 -> M.4.1.5.5. Çarpma ve bölme arasındaki ilişkiyi fark eder. | E26: =mtm!F25 -> M.4.1.5.6. Doğal sayılarla en az bir bölme işlemi gerektiren problemleri çözer. | F26: =mtm!G25 -> M.4.1.5.6. Doğal sayılarla en az bir bölme işlemi gerektiren problemleri çözer. | G26: =A26 -> 04/Oca/2027-08/Oca/2027 | H26: =sb!C25 -> SB.4.3.6. Afet öncesi, sırası ve sonrasına yönelik gerekli hazırlıkları yapar | I26: =sb!D25 -> SB.4.3.6. Afet öncesi, sırası ve sonrasına yönelik gerekli hazırlıkları yapar | J26: =sb!E25 -> SB.4.3.6. Afet öncesi, sırası ve sonrasına yönelik gerekli hazırlıkları yapar | K26: =G26 -> 04/Oca/2027-08/Oca/2027 | L26: =tr!C25 -> Bayram Sabahı T.4.3.6 Okuma stratejilerini uygular. | M26: =tr!D25 -> T.4.3.12. Bağlamdan yararlanarak bilmediği kelime ve kelime gruplarının anlamını tahmin eder. | N26: =tr!E25 -> T.4.3.18. Okuduğu metinle ilgili soruları cevaplar. T.4.3.19. Metinle ilgili sorular sorar. | O26: =tr!F25 -> T.4.3.16. Okuduğu metnin konusunu belirler. | P26: =tr!G25 -> T.4.4.10. Büyük harfleri ve noktalama işaretlerini uygun yerlerde kullanır. | Q26: =tr!H25 -> T.4.3.36. Bilgi kaynaklarının güvenilirliğini sorgular. | R26: =tr!I25 -> T.4.2.3. Hazırlıklı konuşmalar yapar. S.110 7.ETK. | S26: =tr!J25 -> T.4.4.21. Yazma stratejilerini uygular. | T26: =G26 -> 04/Oca/2027-08/Oca/2027 | U26: =mz!C25 -> Mü.4.B.4. Öğrendiği seslerin temel özelliklerini ayırt eder. | V26: 08/Oca/2018-12/Oca/2018 | W26: =tg!C25 -> 4.1.10. Trafikte toplu taşıma araçlarını kullanmanın önemini kavrar. | X26: =T26 -> 04/Oca/2027-08/Oca/2027 | Y26: =gs!C25 -> G.4.3.4. Görsel sanat alanındaki etik kurallara uyar. | AA26: =X26 -> 04/Oca/2027-08/Oca/2027 | AD26: =X26 -> 04/Oca/2027-08/Oca/2027 | AE26: =fb!C25 -> 4.4.2.1. Farklı maddelerin kütle ve hacimlerini ölçerek karşılaştırır | AF26: =fb!D25 -> 4.4.2.1. Farklı maddelerin kütle ve hacimlerini ölçerek karşılaştırır | AG26: =fb!E25 -> 4.4.2.2. Ölçülebilir özelliklerini kullanarak maddeyi tanımlar. | AH26: =G26 -> 04/Oca/2027-08/Oca/2027 | AK26: =G26 -> 04/Oca/2027-08/Oca/2027 | AL26: =G26 -> 04/Oca/2027-08/Oca/2027 | AM26: =ing!C25 -> 0 | AN26: =ing!D25 -> 0
A27: =trhg!H27 -> 11/Oca/2027-15/Oca/2027 | B27: =mtm!C26 -> M.4.1.5.7. Aralarında eşitlik durumu olan iki matematiksel ifadeden birinde verilmeyen değeri belirler ve eşitliğin sağlandığını açıklar. | C27: =mtm!D26 -> M.4.1.5.7. Aralarında eşitlik durumu olan iki matematiksel ifadeden birinde verilmeyen değeri belirler ve eşitliğin sağlandığını açıklar. | D27: =mtm!E26 -> M.4.1.5.8. Aralarında eşitlik durumu olmayan iki matematiksel ifadenin eşit olması için yapılması gereken işlemleri açıklar. | E27: =mtm!F26 -> M.4.1.6.1. Basit, bileşik ve tam sayılı kesri tanır ve modellerle gösterir. | F27: =mtm!G26 -> M.4.1.6.1. Basit, bileşik ve tam sayılı kesri tanır ve modellerle gösterir. | G27: =A27 -> 11/Oca/2027-15/Oca/2027 | H27: =sb!C26 -> SB.4.3.6. Afet öncesi, sırası ve sonrasına yönelik gerekli hazırlıkları yapar | I27: =sb!D26 -> SB.4.3.6. Afet öncesi, sırası ve sonrasına yönelik gerekli hazırlıkları yapar | J27: =sb!E26 -> SB.4.3.6. Afet öncesi, sırası ve sonrasına yönelik gerekli hazırlıkları yapar | K27: =G27 -> 11/Oca/2027-15/Oca/2027 | L27: =tr!C28 -> Martı Jonathan Lıvıngston T.4.3.6 Okuma stratejilerini uygular.. | M27: =tr!D28 -> T.4.1.4. Dinlediklerinde/izlediklerinde geçen, bilmediği kelimelerin anlamını tahmin eder. S.85 3.ETK. | N27: =tr!E28 -> T.4.1.3. Dinlediği/izlediği metni ana hatlarıyla anlatır. | O27: =tr!F28 -> T.4.1.7. Dinlediklerine/izlediklerine yönelik sorulara cevap verir. T.4.3.17. Metnin ana fikri/ana duygusunu belirler. | P27: =tr!G28 -> T.4.3.17. Metnin ana fikri/ana duygusunu belirler. | Q27: =tr!H28 -> T.4.1.9. Dinledikleriyle/izledikleriyle ilgili görüşlerini ifade eder. | R27: =tr!I28 -> T.4.2.3. Hazırlıklı konuşmalar yapar. | S27: =tr!J28 -> T.4.4.21. Yazma stratejilerini uygular. | T27: =G27 -> 11/Oca/2027-15/Oca/2027 | U27: =mz!C26 -> Mü.4.B.4. Öğrendiği seslerin temel özelliklerini ayırt eder. | V27: 15/Oca/2018-19/Oca/2018 | W27: =tg!C26 -> 4.1.11. Taşıtlara binerken, taşıtlardan inerken ve taşıtlarda yolculuk ederken kurallara uyar. | X27: =T27 -> 11/Oca/2027-15/Oca/2027 | Y27: =gs!C26 -> G.4.1.1. Görsel sanat çalışmasını oluştururken biçimlendirme basamaklarını kullanır. | AA27: =X27 -> 11/Oca/2027-15/Oca/2027 | AD27: =X27 -> 11/Oca/2027-15/Oca/2027 | AE27: =fb!C26 -> F.4.4.3.1. Maddelerin hâllerine ait temel özellikleri karşılaştırır | AF27: =fb!D26 -> F.4.4.3.1. Maddelerin hâllerine ait temel özellikleri karşılaştırır | AG27: =fb!E26 -> F.4.4.3.1. Maddelerin hâllerine ait temel özellikleri karşılaştırır | AH27: =G27 -> 11/Oca/2027-15/Oca/2027 | AK27: =G27 -> 11/Oca/2027-15/Oca/2027 | AL27: =G27 -> 11/Oca/2027-15/Oca/2027 | AM27: =ing!C26 -> 0 | AN27: =ing!D26 -> 0
A28: =trhg!H28 -> 18/Oca/2027-22/Oca/2027 | B28: =mtm!C27 -> ETKİNLİK HAFTASI | C28: =mtm!D27 -> ETKİNLİK HAFTASI | D28: =mtm!E27 -> ETKİNLİK HAFTASI | E28: =mtm!F27 -> ETKİNLİK HAFTASI | F28: =mtm!G27 -> ETKİNLİK HAFTASI | G28: =A28 -> 18/Oca/2027-22/Oca/2027 | H28: =sb!C27 -> ETKİNLİK HAFTASI | I28: =sb!D27 -> ETKİNLİK HAFTASI | J28: =sb!E27 -> ETKİNLİK HAFTASI | K28: =G28 -> 18/Oca/2027-22/Oca/2027 | L28: =tr!C27 -> ETKİNLİK HAFTASI | M28: =tr!D27 -> ETKİNLİK HAFTASI | N28: =tr!E27 -> ETKİNLİK HAFTASI | O28: =tr!F27 -> ETKİNLİK HAFTASI | P28: =tr!G27 -> ETKİNLİK HAFTASI | Q28: =tr!H27 -> ETKİNLİK HAFTASI | R28: =tr!I27 -> ETKİNLİK HAFTASI | S28: =tr!J27 -> ETKİNLİK HAFTASI | T28: =G28 -> 18/Oca/2027-22/Oca/2027 | U28: =mz!C28 -> Mü.4.B.2. Müzikteki ses yüksekliklerini grafikle gösterir. | V28: 05/Şub/2018-09/Şub/2018 | W28: =tg!C27 -> 4.1.11. Taşıtlara binerken, taşıtlardan inerken ve taşıtlarda yolculuk ederken kurallara uyar. | X28: =T28 -> 18/Oca/2027-22/Oca/2027 | Y28: =gs!C27 -> ETKİNLİK HAFTASI | AA28: =X28 -> 18/Oca/2027-22/Oca/2027 | AD28: =X28 -> 18/Oca/2027-22/Oca/2027 | AE28: =fb!C27 -> 4.4.3.2. Aynı maddenin farklı hâllerine örnekler verir. | AF28: =fb!D27 -> 4.4.3.2. Aynı maddenin farklı hâllerine örnekler verir. | AG28: =fb!E27 -> 4.4.4.1. Maddelerin ısınıp soğumasına yönelik deneyler tasarlar. | AH28: =G28 -> 18/Oca/2027-22/Oca/2027 | AK28: =G28 -> 18/Oca/2027-22/Oca/2027 | AL28: =G28 -> 18/Oca/2027-22/Oca/2027 | AM28: =ing!C27 -> ETKİNLİK HAFTASI | AN28: =ing!D27 -> ETKİNLİK HAFTASI
A29: =trhg!H29 -> 08/Şub/2027-12/Şub/2027 | B29: =mtm!C28 -> M.4.1.6.1. Basit, bileşik ve tam sayılı kesri tanır ve modellerle gösterir. | C29: =mtm!D28 -> M.4.1.6.1. Basit, bileşik ve tam sayılı kesri tanır ve modellerle gösterir. | D29: =mtm!E28 -> M.4.1.6.1. Basit, bileşik ve tam sayılı kesri tanır ve modellerle gösterir. | E29: =mtm!F28 -> M.4.1.6.1. Basit, bileşik ve tam sayılı kesri tanır ve modellerle gösterir. | F29: =mtm!G28 -> M.4.1.6.1. Basit, bileşik ve tam sayılı kesri tanır ve modellerle gösterir. | G29: =A29 -> 08/Şub/2027-12/Şub/2027 | H29: =sb!C28 -> 4.4.1. Çevresindeki teknolojik ürünleri, kullanım alanlarına göre sınıflandırır. | I29: =sb!D28 -> 4.4.1. Çevresindeki teknolojik ürünleri, kullanım alanlarına göre sınıflandırır. | J29: =sb!E28 -> 4.4.1. Çevresindeki teknolojik ürünleri, kullanım alanlarına göre sınıflandırır. | K29: =G29 -> 08/Şub/2027-12/Şub/2027 | L29: =tr!C26 -> Sadece Milli Şair Mi(Dinleme Metni) Evliya Çelebi( Serbest Okuma Metni) T.4.1.12. Dinleme stratejilerini uygular. | M29: =tr!D26 -> T.4.3.15. Okuduklarını ana hatlarıyla anlatır. | N29: =tr!E26 -> T.4.3.12. Bağlamdan yararlanarak bilmediği kelime ve kelime gruplarının anlamını tahmin eder. | O29: =tr!F26 -> T.4.1.7. Dinlediklerine/izlediklerine yönelik sorulara cevap verir. T.4.3.17. Metnin ana fikri/ana duygusunu belirler. | P29: =tr!G26 -> T.4.1.8. Dinlediklerine/izlediklerine farklı başlıklar önerir.T.4.1.11. Dinlediklerinin/izlediklerinin içeriğini değerlendirir. | Q29: =tr!H26 -> T.4.4.10. Büyük harfleri ve noktalama işaretlerini uygun yerlerde kullanır. | R29: =tr!I26 -> ETK. T.4.4.21. Yazma stratejilerini uygular. | S29: =tr!J26 -> Evliya Çelebi( Serbest Okuma Metni) | T29: =G29 -> 08/Şub/2027-12/Şub/2027 | U29: =mz!C29 -> Mü.4.B.2. Müzikteki ses yüksekliklerini grafikle gösterir. | V29: 12/Şub/2018-16/Şub/2018 | W29: =tg!C28 -> 4.1.12. Trafikte karşılaşılabilecek tehlikelere örnekler verir. | X29: =T29 -> 08/Şub/2027-12/Şub/2027 | Y29: =gs!C28 -> G.4.1.3. Görsel sanat çalışmasında kompozisyon birliğini oluşturmak için seçimler yapar. | AA29: =X29 -> 08/Şub/2027-12/Şub/2027 | AD29: =X29 -> 08/Şub/2027-12/Şub/2027 | AE29: =fb!C28 -> 4.4.4.1. Maddelerin ısınıp soğumasına yönelik deneyler tasarlar | AF29: =fb!D28 -> 4.4.4.2. Maddelerin ısı etkisiyle hâl değiştirebileceğine yönelik deney tasarlar. | AG29: =fb!E28 -> 4.4.4.2. Maddelerin ısı etkisiyle hâl değiştirebileceğine yönelik deney tasarlar. | AH29: =G29 -> 08/Şub/2027-12/Şub/2027 | AK29: =G29 -> 08/Şub/2027-12/Şub/2027 | AL29: =G29 -> 08/Şub/2027-12/Şub/2027 | AM29: =ing!C28 -> 0 | AN29: =ing!D28 -> 0
A30: =trhg!H30 -> 15/Şub/2027-19/Şub/2027 | B30: =mtm!C29 -> M.4.1.6.2. Birim kesirleri karşılaştırır ve sıralar. | C30: =mtm!D29 -> M.4.1.6.3. Birçokluğun belirtilen bir basit kesir kadarını belirler. | D30: =mtm!E29 -> M.4.1.6.3. Birçokluğun belirtilen bir basit kesir kadarını belirler. | E30: =mtm!G31 -> M.4.3.4.2. Zaman ölçme birimlerinin kullanıldığı problemleri çözer. | F30: =mtm!G29 -> M.4.1.7.1. Paydaları eşit kesirlerle toplama ve çıkarma işlemi yapar. | G30: =A30 -> 15/Şub/2027-19/Şub/2027 | H30: =sb!C29 -> 4.4.3. Teknolojik ürünlerin geçmişteki ve bugünkü kullanımlarını karşılaştırır. | I30: =sb!D29 -> 4.4.3. Teknolojik ürünlerin geçmişteki ve bugünkü kullanımlarını karşılaştırır. | J30: =sb!E29 -> 4.4.3. Teknolojik ürünlerin geçmişteki ve bugünkü kullanımlarını karşılaştırır. | K30: =G30 -> 15/Şub/2027-19/Şub/2027 | L30: =tr!C29 -> Plastiğin Yolculuğu T.4.3.14. Görsellerden ve başlıktan hareketle okuyacağı metnin konusunu tahmin eder. | M30: =tr!D29 -> T.4.3.12. Bağlamdan yararlanarak bilmediği kelime ve kelime gruplarının anlamını tahmin eder. | N30: =tr!E29 -> T.4.3.18. Okuduğu metinle ilgili soruları cevaplar. | O30: =tr!F29 -> Metindeki renkli, altı çizili, koyu ifadelerin önemli noktaları vurguladığını kavrar | P30: =tr!G29 -> T.4.3.28. Okudukları ile ilgili çıkarımlar yapar. | Q30: =tr!H29 -> T.4.4.10. Büyük harfleri ve noktalama işaretlerini uygun yerlerde kullanır. | R30: =tr!I29 -> T.4.3.13. Görsellerle ilgili soruları cevaplar. | S30: =tr!J29 -> T.4.4.21. Yazma stratejilerini uygular. | T30: =G30 -> 15/Şub/2027-19/Şub/2027 | U30: =mz!C30 -> Mü.4.B.5. Dinlediği müziklerdeki gürlük değişikliklerini fark eder.kullanarak ayırt eder. | V30: 19/Şub/2018-23/Şub/2018 | W30: =tg!C29 -> 4.1.13. Trafikte karşılaşılabileceği tehlikelere karşı alınması gereken önlemleri nedenleriyle açıklar. | X30: =T30 -> 15/Şub/2027-19/Şub/2027 | Y30: =gs!C29 -> G.4.1.4. İki boyutlu yüzey üzerinde derinlik etkisi oluşturur. | AA30: =X30 -> 15/Şub/2027-19/Şub/2027 | AD30: =X30 -> 15/Şub/2027-19/Şub/2027 | AE30: =fb!C29 -> 4.4.5.1. Günlük yaşamında sıklıkla kullandığı maddeleri saf madde ve karışım şeklinde sınıflandırarak aralarındaki farkları açıklar. | AF30: =fb!D29 -> 4.4.5.1. Günlük yaşamında sıklıkla kullandığı maddeleri saf madde ve karışım şeklinde sınıflandırarak aralarındaki farkları açıklar. | AG30: =fb!E29 -> 4.4.5.2. Günlük yaşamda karşılaştığı karışımların ayrılmasında kullanılabilecek yöntemlerden uygun olanı seçer. | AH30: =G30 -> 15/Şub/2027-19/Şub/2027 | AK30: =G30 -> 15/Şub/2027-19/Şub/2027 | AL30: =AH30 -> 15/Şub/2027-19/Şub/2027 | AM30: =ing!C29 -> 0 | AN30: =ing!D29 -> 0
A31: =trhg!H31 -> 22/Şub/2027-26/Şub/2027 | B31: =mtm!C30 -> M.4.1.7.1. Paydaları eşit kesirlerle toplama ve çıkarma işlemi yapar. | C31: =mtm!D30 -> M.4.1.7.1. Paydaları eşit kesirlerle toplama ve çıkarma işlemi yapar. | D31: =mtm!E30 -> M.4.1.7.1. Paydaları eşit kesirlerle toplama ve çıkarma işlemi yapar. | E31: =mtm!F30 -> M.4.1.7.2. Kesirlerle toplama ve çıkarma işlemlerini gerektiren problemleri çözer. | F31: =mtm!G30 -> M.4.1.7.2. Kesirlerle toplama ve çıkarma işlemlerini gerektiren problemleri çözer. | G31: =A31 -> 22/Şub/2027-26/Şub/2027 | H31: =sb!C30 -> 4.4.2. Kullandığı teknolojik ürünlerin mucitlerini ve bu ürünlerin zaman içerisindeki gelişimini araştırır. | I31: =sb!D30 -> 4.4.2. Kullandığı teknolojik ürünlerin mucitlerini ve bu ürünlerin zaman içerisindeki gelişimini araştırır. | J31: =sb!E30 -> 4.4.2. Kullandığı teknolojik ürünlerin mucitlerini ve bu ürünlerin zaman içerisindeki gelişimini araştırır. | K31: =G31 -> 22/Şub/2027-26/Şub/2027 | L31: =tr!C30 -> Kır Kahvesi T.4.3.1. Noktalama işaretlerine dikkat ederek sesli ve sessiz okur.. | M31: =tr!D30 -> T.4.3.12. Bağlamdan yararlanarak bilmediği kelime ve kelime gruplarının anlamını tahmin eder. | N31: =tr!E30 -> T.4.3.18. Okuduğu metinle ilgili soruları cevaplar. | O31: =tr!F30 -> T.4.4.10. Büyük harfleri ve noktalama işaretlerini uygun yerlerde kullanır. | P31: =tr!G30 -> Metindeki renkli, altı çizili, koyu ifadelerin önemli noktaları vurguladığını kavrar | Q31: =tr!H30 -> T.4.3.34. Grafik, tablo ve çizelgelerle ilgili soruları cevaplar. | R31: =tr!I30 -> T.4.4.3. Hikâye edici metin yazar. | S31: =tr!J30 -> T.4.4.21. Yazma stratejilerini uygular. | T31: =G31 -> 22/Şub/2027-26/Şub/2027 | U31: =mz!C31 -> Mü.4.B.5. Dinlediği müziklerdeki gürlük değişikliklerini fark eder.kullanarak ayırt eder. | V31: 26/Şub/2018-02/Mar/2018 | W31: =tg!C30 -> 4.1.14. Taşıt trafiğinde tehlikeli hareketlerden kaçınır. | X31: =T31 -> 22/Şub/2027-26/Şub/2027 | Y31: =gs!C30 -> G.4.1.5. Gözleme dayalı çizimlerinde kontur çizgisini ve gölgeleme tekniklerini kullanır. | AA31: =X31 -> 22/Şub/2027-26/Şub/2027 | AD31: =X31 -> 22/Şub/2027-26/Şub/2027 | AE31: =fb!C30 -> 4.4.5.2. Günlük yaşamda karşılaştığı karışımların ayrılmasında kullanılabilecek yöntemlerden uygun olanı seçer. | AF31: =fb!D30 -> 4.4.5.3. Karışımların ayrılmasını, ülke ekonomisine katkısı ve kaynakların etkili kullanımı bakımından tartışır | AG31: =fb!E30 -> 4.4.5.3. Karışımların ayrılmasını, ülke ekonomisine katkısı ve kaynakların etkili kullanımı bakımından tartışır | AH31: =G31 -> 22/Şub/2027-26/Şub/2027 | AK31: =G31 -> 22/Şub/2027-26/Şub/2027 | AL31: =AH31 -> 22/Şub/2027-26/Şub/2027 | AM31: =ing!C30 -> 0 | AN31: =ing!D30 -> 0
A32: =trhg!H32 -> 01/Mar/2027-05/Mar/2027 | B32: =mtm!C31 -> M.4.3.4.1. Zaman ölçme birimleri arasındaki ilişkiyi açıklar | C32: =mtm!D31 -> M.4.3.4.1. Zaman ölçme birimleri arasındaki ilişkiyi açıklar | D32: =mtm!E31 -> M.4.3.4.1. Zaman ölçme birimleri arasındaki ilişkiyi açıklar | E32: =mtm!F31 -> M.4.3.4.2. Zaman ölçme birimlerinin kullanıldığı problemleri çözer. | F32: =mtm!#REF! -> #REF! | G32: =A32 -> 01/Mar/2027-05/Mar/2027 | H32: =sb!C31 -> 4.4.4. Çevresindeki ihtiyaçlardan yola çıkarak kendine özgü ürünler tasarlamaya yönelik fikirler geliştirir. | I32: =sb!D31 -> 4.4.4. Çevresindeki ihtiyaçlardan yola çıkarak kendine özgü ürünler tasarlamaya yönelik fikirler geliştirir. | J32: =sb!E31 -> 4.4.4. Çevresindeki ihtiyaçlardan yola çıkarak kendine özgü ürünler tasarlamaya yönelik fikirler geliştirir. | K32: =G32 -> 01/Mar/2027-05/Mar/2027 | L32: =tr!C31 -> Kış (Dinleme Metni) T.4.4.5. Hayalî ögeler barındıran kısa metin yazar. | M32: =tr!D31 -> T.4.3.22. Şekil, sembol ve işaretlerin anlamlarını kavrar. | N32: =tr!E31 -> T.4.4.21. Yazma stratejilerini uygular. | O32: =tr!F31 -> Dünyamıza Neler Oluyor? (Serbest Okuma Metni) | P32: =tr!G31 -> Dünyamıza Neler Oluyor? (Serbest Okuma Metni) | Q32: =tr!H31 -> TEMA DEĞERLENDİRME ÇALIŞMLARI | R32: =tr!I31 -> TEMA DEĞERLENDİRME ÇALIŞMLARI | S32: =tr!J31 -> TEMA DEĞERLENDİRME ÇALIŞMLARI | T32: =G32 -> 01/Mar/2027-05/Mar/2027 | U32: =mz!#REF! -> #REF! | V32: 05/Mar/2018-09/Mar/2018 | W32: =tg!C31 -> 4.1.15. Trafikte sorumlu, saygılı ve sabırlı olmanın gerekliliğini sorgular. | X32: =T32 -> 01/Mar/2027-05/Mar/2027 | Y32: =gs!C31 -> G.4.1.6. Farklı materyalleri kullanarak üç boyutlu çalışmalar yapar. | AA32: =X32 -> 01/Mar/2027-05/Mar/2027 | AD32: =X32 -> 01/Mar/2027-05/Mar/2027 | AE32: =fb!C31 -> 4.5.1.1. Geçmişte ve günümüzde kullanılan aydınlatma araçlarını karşılaştırır | AF32: =fb!D31 -> 4.5.1.1. Geçmişte ve günümüzde kullanılan aydınlatma araçlarını karşılaştırır | AG32: =fb!E31 -> 4.5.1.1. Geçmişte ve günümüzde kullanılan aydınlatma araçlarını karşılaştırır | AH32: =G32 -> 01/Mar/2027-05/Mar/2027 | AK32: =G32 -> 01/Mar/2027-05/Mar/2027 | AL32: =AH32 -> 01/Mar/2027-05/Mar/2027 | AM32: =ing!C31 -> 0 | AN32: =ing!D31 -> 0
A33: =trhg!H33 -> 08/Mar/2027-12/Mar/2027 | B33: =mtm!C32 -> RAMAZAN BAYRAMI | C33: =mtm!D32 -> RAMAZAN BAYRAMI | D33: =mtm!E32 -> RAMAZAN BAYRAMI | E33: =mtm!F32 -> RAMAZAN BAYRAMI | F33: =mtm!G32 -> RAMAZAN BAYRAMI | G33: =A33 -> 08/Mar/2027-12/Mar/2027 | H33: =sb!C32 -> RAMAZAN BAYRAMI | I33: =sb!D32 -> RAMAZAN BAYRAMI | J33: =sb!E32 -> RAMAZAN BAYRAMI | K33: =G33 -> 08/Mar/2027-12/Mar/2027 | L33: =tr!C33 -> Ünlü Ressam T.4.3.14. Görsellerden ve başlıktan hareketle okuyacağı metnin konusunu tahmin eder. | M33: =tr!D33 -> T.4.3.12. Bağlamdan yararlanarak bilmediği kelime ve kelime gruplarının anlamını tahmin eder. | N33: =tr!E33 -> T.4.3.18. Okuduğu metinle ilgili soruları cevaplar. | O33: =tr!F33 -> T.4.3.27. Okuduğu metindeki kahramanların özelliklerini karşılaştırır. T.4.3.21. Okuduğu metnin içeriğine uygun başlık belirler. | P33: =tr!G33 -> T.4.3.29. Görsellerle okuduğu metnin içeriğini ilişkilendirir. | Q33: =tr!H33 -> T.4.4.10. Büyük harfleri ve noktalama işaretlerini uygun yerlerde kullanır. | R33: =tr!I33 -> T.4.3.22. Şekil, sembol ve işaretlerin anlamlarını kavrar. | S33: =tr!J33 -> T.4.4.21. Yazma stratejilerini uygular. | T33: =G33 -> 08/Mar/2027-12/Mar/2027 | U33: =mz!C34 -> Mü.4.A.4. Belirli gün ve haftaların anlamına uygun müzikler söyler. | V33: 12/Mar/2018-16/Mar/2018 | W33: =tg!C32 -> 4.1.16. Trafik kurallarına uymanın birey ve toplum hayatına etkilerini tartışır. | X33: =T33 -> 08/Mar/2027-12/Mar/2027 | Y33: =gs!C32 -> RAMAZAN BAYRAMI | AA33: =X33 -> 08/Mar/2027-12/Mar/2027 | AD33: =X33 -> 08/Mar/2027-12/Mar/2027 | AE33: =fb!C32 -> 4.5.1.2. Gelecekte kullanılabilecek aydınlatma araçlarına yönelik tasarım yapar. | AF33: =fb!D32 -> 4.5.1.2. Gelecekte kullanılabilecek aydınlatma araçlarına yönelik tasarım yapar. | AG33: =fb!E32 -> 4.5.2.1. Uygun aydınlatma hakkında araştırma yapar. | AH33: =G33 -> 08/Mar/2027-12/Mar/2027 | AK33: =G33 -> 08/Mar/2027-12/Mar/2027 | AL33: =AH33 -> 08/Mar/2027-12/Mar/2027 | AM33: =ing!C32 -> RAMAZAN BAYRAMI | AN33: =ing!D32 -> RAMAZAN BAYRAMI
A34: =trhg!H34 -> 15/Mar/2027-19/Mar/2027 | B34: =mtm!C33 -> M.4.4.1.1. Sütun grafiğini inceler, grafik üzerinde yorum ve tahminler yapar. | C34: =mtm!D33 -> M.4.4.1.1. Sütun grafiğini inceler, grafik üzerinde yorum ve tahminler yapar. | D34: =mtm!E33 -> M.4.4.1.1. Sütun grafiğini inceler, grafik üzerinde yorum ve tahminler yapar. | E34: =mtm!F33 -> M.4.4.1.2. Sütun grafiğini oluşturur. | F34: =mtm!G33 -> M.4.4.1.2. Sütun grafiğini oluşturur. | G34: =A34 -> 15/Mar/2027-19/Mar/2027 | H34: =sb!C33 -> 4.4.5. Teknolojik ürünleri kendisine, başkalarına ve doğaya zarar vermeden kullanır. | I34: =sb!D33 -> 4.4.5. Teknolojik ürünleri kendisine, başkalarına ve doğaya zarar vermeden kullanır. | J34: =sb!E33 -> 4.4.5. Teknolojik ürünleri kendisine, başkalarına ve doğaya zarar vermeden kullanır. | K34: =G34 -> 15/Mar/2027-19/Mar/2027 | L34: =tr!#REF! -> #REF! | M34: =tr!#REF! -> #REF! | N34: =tr!#REF! -> #REF! | O34: =tr!#REF! -> #REF! | P34: =tr!#REF! -> #REF! | Q34: =tr!#REF! -> #REF! | R34: =tr!#REF! -> #REF! | S34: =tr!#REF! -> #REF! | T34: =G34 -> 15/Mar/2027-19/Mar/2027 | U34: =mz!C35 -> Mü.4.C.4. Farklı ritmik yapıdaki ezgilere uygun hareket eder. | V34: 19/Mar/2018-23/Mar/2018 | W34: =tg!C33 -> 4.1.17. Trafik kurallarının etkin bir şekilde uygulanmasına yönelik. Önerilerde bulunur. | X34: =T34 -> 15/Mar/2027-19/Mar/2027 | Y34: =gs!C33 -> G.4.1.7. Görsel sanat çalışmalarını oluştururken sanat elemanları ve tasarım ilkelerini kullanır. | AA34: =X34 -> 15/Mar/2027-19/Mar/2027 | AD34: =X34 -> 15/Mar/2027-19/Mar/2027 | AE34: =fb!C33 -> 4.5.2.1. Uygun aydınlatma hakkında araştırma yapar. | AF34: =fb!D33 -> 4.5.2.2. Aydınlatma araçlarının tasarruflu kullanımının aile ve ülke ekonomisi bakımından önemini tartışır. | AG34: =fb!E33 -> 4.5.3.1. Işık kirliliğinin nedenlerini sorgular. | AH34: =G34 -> 15/Mar/2027-19/Mar/2027 | AK34: =G34 -> 15/Mar/2027-19/Mar/2027 | AL34: =AH34 -> 15/Mar/2027-19/Mar/2027 | AM34: =ing!C33 -> 0 | AN34: =ing!D33 -> 0
A35: =trhg!H35 -> 22/Mar/2027-26/Mar/2027 | B35: =mtm!C34 -> M.4.4.1.3. Elde ettiği veriyi sunmak amacıyla farklı gösterimler kullanır. | C35: =mtm!D34 -> M.4.4.1.3. Elde ettiği veriyi sunmak amacıyla farklı gösterimler kullanır. | D35: =mtm!E34 -> M.4.4.1.1. Sütun grafiğini inceler, grafik üzerinde yorum ve tahminler yapar. | E35: =mtm!F34 -> M.4.4.1.1. Sütun grafiğini inceler, grafik üzerinde yorum ve tahminler yapar. | F35: =mtm!G34 -> M.4.4.1.1. Sütun grafiğini inceler, grafik üzerinde yorum ve tahminler yapar. | G35: =A35 -> 22/Mar/2027-26/Mar/2027 | H35: =sb!C34 -> 4.5.1. İstek ve ihtiyaçlarını ayırt ederek ikisi arasında bilinçli seçimler yapar. | I35: =sb!D34 -> 4.5.1. İstek ve ihtiyaçlarını ayırt ederek ikisi arasında bilinçli seçimler yapar. | J35: =sb!E34 -> 4.5.1. İstek ve ihtiyaçlarını ayırt ederek ikisi arasında bilinçli seçimler yapar. | K35: =G35 -> 22/Mar/2027-26/Mar/2027 | L35: =tr!C34 -> Ham Maddesi Metal Olan Geleneksel El Sanatları T.4.3.6 Okuma stratejilerini uygular. | M35: =tr!D34 -> T.4.3.12. Bağlamdan yararlanarak bilmediği kelime ve kelime gruplarının anlamını tahmin eder. T.4.3.18. Okuduğu metinle ilgili soruları cevaplar. | N35: =tr!E34 -> T.4.3.16. Okuduğu metnin konusunu belirler. T.4.3.21. Okuduğu metnin içeriğine uygun başlık belirler. | O35: =tr!F34 -> T.4.3.27. Okuduğu metindeki kahramanların özelliklerini karşılaştırır. | P35: =tr!G34 -> T.4.3.11. Deyim ve atasözlerinin metnin anlamına katkısını kavrar. | Q35: =tr!H34 -> T.4.4.10. Büyük harfleri ve noktalama işaretlerini uygun yerlerde kullanır. | R35: =tr!I34 -> T.4.4.12. Yazdıklarını paylaşır. | S35: =tr!J34 -> T.4.4.21. Yazma stratejilerini uygular. | T35: =G35 -> 22/Mar/2027-26/Mar/2027 | U35: =mz!C36 -> Mü.4.C.4. Farklı ritmik yapıdaki ezgilere uygun hareket eder. | V35: 26/Mar/2018-30/Mar/2018 | W35: =tg!C34 -> 4.1.17. Trafik kurallarının etkin bir şekilde uygulanmasına yönelik. Önerilerde bulunur. | X35: =T35 -> 22/Mar/2027-26/Mar/2027 | Y35: =gs!C34 -> G.4.2.2. Türk kültürüne ve diğer kültürlere ait mimari yapıların belirgin özelliklerini karşılaştırır. | AA35: =X35 -> 22/Mar/2027-26/Mar/2027 | AD35: =X35 -> 22/Mar/2027-26/Mar/2027 | AE35: =fb!C34 -> 4.5.3.2. Işık kirliliğinin, doğal hayata ve gök cisimlerinin gözlenmesine olan olumsuz etkilerini açıklar. | AF35: =fb!D34 -> 4.5.3.2. Işık kirliliğinin, doğal hayata ve gök cisimlerinin gözlenmesine olan olumsuz etkilerini açıklar. | AG35: =fb!E34 -> 4.5.3.3. Işık kirliliğini azaltmaya yönelik çözümler üretir. | AH35: =G35 -> 22/Mar/2027-26/Mar/2027 | AK35: =G35 -> 22/Mar/2027-26/Mar/2027 | AL35: =AH35 -> 22/Mar/2027-26/Mar/2027 | AM35: =ing!C34 -> 0 | AN35: =ing!D34 -> 0
A36: =trhg!H36 -> 29/Mar/2027-02/Nis/2027 | B36: =mtm!C35 -> M.4.2.1.1. Üçgen, kare ve dikdörtgenin kenarlarını ve köşelerini isimlendirir. | C36: =mtm!D35 -> M.4.2.1.2. Kare ve dikdörtgenin kenar özelliklerini belirler. | D36: =mtm!E35 -> M.4.2.1.2. Kare ve dikdörtgenin kenar özelliklerini belirler. | E36: =mtm!F35 -> M.4.2.1.3. Üçgenleri kenar uzunluklarına göre sınırlandırır. | F36: =mtm!G35 -> M.4.2.1.3. Üçgenleri kenar uzunluklarına göre sınırlandırır. | G36: =A36 -> 29/Mar/2027-02/Nis/2027 | H36: =sb!C35 -> 4.5.2. Ailesi ve yakın çevresindeki başlıca ekonomik faaliyetleri tanır. | I36: =sb!D35 -> 4.5.2. Ailesi ve yakın çevresindeki başlıca ekonomik faaliyetleri tanır. | J36: =sb!E35 -> 4.5.2. Ailesi ve yakın çevresindeki başlıca ekonomik faaliyetleri tanır. | K36: =G36 -> 29/Mar/2027-02/Nis/2027 | L36: =tr!C35 -> Biz Okuruz Metinleri türün özelliklerine uygun biçimde okur. | M36: =tr!D35 -> T.4.3.12. Bağlamdan yararlanarak bilmediği kelime ve kelime gruplarının anlamını tahmin eder. | N36: =tr!E35 -> T.4.3.18. Okuduğu metinle ilgili soruları cevaplar. | O36: =tr!F35 -> T.4.3.27. Okuduğu metindeki kahramanların özelliklerini karşılaştırır. | P36: =tr!G35 -> T.4.3.11. Deyim ve atasözlerinin metnin anlamına katkısını kavrar. | Q36: =tr!H35 -> T.4.3.31. Metinler arasında karşılaştırma yapar. | R36: =tr!I35 -> T.4.4.10. Büyük harfleri ve noktalama işaretlerini uygun yerlerde kullanır. | S36: =tr!J35 -> T.4.4.21. Yazma stratejilerini uygular. | T36: =G36 -> 29/Mar/2027-02/Nis/2027 | U36: =mz!C37 -> Mü.4.A.4. Belirli gün ve haftaların anlamına uygun müzikler söyler. | V36: 02/Nis/2018-06/Nis/2018 | W36: =tg!C35 -> Neler öğrendik? | X36: =T36 -> 29/Mar/2027-02/Nis/2027 | Y36: =gs!C35 -> G.4.2.3. Farklı kültürlerde yapılmış sanat eserlerinin genel özelliklerini karşılaştırır. | AA36: =X36 -> 29/Mar/2027-02/Nis/2027 | AD36: =X36 -> 29/Mar/2027-02/Nis/2027 | AE36: =fb!C35 -> 4.5.3.3. Işık kirliliğini azaltmaya yönelik çözümler üretir. | AF36: =fb!D35 -> 4.5.4.1. Geçmişte ve günümüzde kullanılan ses teknolojilerini karşılaştırır. | AG36: =fb!E35 -> 4.5.4.1. Geçmişte ve günümüzde kullanılan ses teknolojilerini karşılaştırır. | AH36: =G36 -> 29/Mar/2027-02/Nis/2027 | AK36: =G36 -> 29/Mar/2027-02/Nis/2027 | AL36: =AH36 -> 29/Mar/2027-02/Nis/2027 | AM36: =ing!C35 -> 0 | AN36: =ing!D35 -> 0
A37: =trhg!H37 -> 05/Nis/2027-09/Nis/2027 | B37: =mtm!C36 -> M.4.2.1.4. Açınımı verilen küpü oluşturur. | C37: =mtm!D36 -> M.4.2.1.4. Açınımı verilen küpü oluşturur. | D37: =mtm!E36 -> M.4.2.1.4. Açınımı verilen küpü oluşturur. | E37: =mtm!F36 -> M.4.2.1.5.İzometrik ya da kareli kâğıda eş küplerle çizilmiş olarak verilen modellere uygun basit yapılar oluşturur | F37: =mtm!G36 -> M.4.2.1.5.İzometrik ya da kareli kâğıda eş küplerle çizilmiş olarak verilen modellere uygun basit yapılar oluşturur | G37: =A37 -> 05/Nis/2027-09/Nis/2027 | H37: =sb!C36 -> 4.5.3. Sorumluluk sahibi bir birey olarak bilinçli tüketici davranışları sergiler. | I37: =sb!D36 -> 4.5.3. Sorumluluk sahibi bir birey olarak bilinçli tüketici davranışları sergiler. | J37: =sb!E36 -> 4.5.3. Sorumluluk sahibi bir birey olarak bilinçli tüketici davranışları sergiler. | K37: =G37 -> 05/Nis/2027-09/Nis/2027 | L37: =tr!#REF! -> #REF! | M37: =tr!#REF! -> #REF! | N37: =tr!#REF! -> #REF! | O37: =tr!#REF! -> #REF! | P37: =tr!#REF! -> #REF! | Q37: =tr!#REF! -> #REF! | R37: =tr!#REF! -> #REF! | S37: =tr!#REF! -> #REF! | T37: =G37 -> 05/Nis/2027-09/Nis/2027 | U37: =mz!C38 -> Mü.4.A.4. Belirli gün ve haftaların anlamına uygun müzikler söyler. | V37: 09/Nis/2018-13/Nis/2018 | W37: =tg!C36 -> 4.2.1. Taşıtlarda bulunması gereken ilk yardım malzemelerini tanıtır. | X37: =T37 -> 05/Nis/2027-09/Nis/2027 | Y37: =gs!C36 -> G.4.2.4. Müzedeki farklı kültürlere ait sanat eserlerindeki ortak özellikleri söyler. | AA37: =X37 -> 05/Nis/2027-09/Nis/2027 | AD37: =X37 -> 05/Nis/2027-09/Nis/2027 | AE37: =fb!C36 -> 4.5.4.1. Geçmişte ve günümüzde kullanılan ses teknolojilerini karşılaştırır. | AF37: =fb!D36 -> 4.5.4.2. Şiddetli sese sahip teknolojik araçların olumlu ve olumsuz etkilerini araştırır. | AG37: =fb!E36 -> 4.5.5.1. Ses kirliliğinin nedenlerini sorgular. | AH37: =G37 -> 05/Nis/2027-09/Nis/2027 | AK37: =G37 -> 05/Nis/2027-09/Nis/2027 | AL37: =AH37 -> 05/Nis/2027-09/Nis/2027 | AM37: =ing!C36 -> 0 | AN37: =ing!D36 -> 0
A38: =trhg!H38 -> 12/Nis/2027-16/Nis/2027 | B38: =mtm!C37 -> M.4.2.3.1. Düzlemi tanır ve örneklendirir. | C38: =mtm!D37 -> M.4.2.3.1. Düzlemi tanır ve örneklendirir. | D38: =mtm!E37 -> M.4.2.3.1. Düzlemi tanır ve örneklendirir. | E38: =mtm!F37 -> M.4.2.3.1. Düzlemi tanır ve örneklendirir. | F38: =mtm!G37 -> M.4.2.3.1. Düzlemi tanır ve örneklendirir. | G38: =A38 -> 12/Nis/2027-16/Nis/2027 | H38: =sb!C37 -> 4.5.4. Kendine ait örnek bir bütçe oluşturur. | I38: =sb!D37 -> 4.5.4. Kendine ait örnek bir bütçe oluşturur. | J38: =sb!E37 -> 4.5.4. Kendine ait örnek bir bütçe oluşturur. | K38: =G38 -> 12/Nis/2027-16/Nis/2027 | L38: =tr!C37 -> Şarkı (Serbest Okuma Metni T.4.3.14. Görsellerden ve başlıktan hareketle okuyacağı metnin konusunu tahmin eder.T.4.1.12. Dinleme stratejilerini uygular | M38: =tr!D37 -> T.4.1.7. Dinlediklerine/izlediklerine yönelik sorulara cevap verir. | N38: =tr!E37 -> T.4.1.4. Dinlediklerinde/izlediklerinde geçen, bilmediği kelimelerin anlamını tahmin eder. | O38: =tr!F37 -> T.4.1.7. Dinlediklerine/izlediklerine yönelik sorulara cevap verir. | P38: =tr!G37 -> T.4.1.6. Dinlediklerinin/izlediklerinin ana fikrini/ana duygusunu belirler. | Q38: =tr!H37 -> T.4.3.13. Görsellerle ilgili soruları cevaplar. | R38: =tr!I37 -> T.4.4.12. Yazdıklarını paylaşır. | S38: =tr!J37 -> T.4.4.21. Yazma stratejilerini uygular. | T38: =G38 -> 12/Nis/2027-16/Nis/2027 | U38: =mz!C39 -> Mü.4.D.3. Farklı türlerdeki müzikleri dinleyerek müzik kültürünü geliştirir. | V38: 16/Nis/2018-20/Nis/2018 | W38: =tg!C37 -> 4.2.1. Taşıtlarda bulunması gereken ilk yardım malzemelerini tanıtır. | X38: =T38 -> 12/Nis/2027-16/Nis/2027 | Y38: =gs!C37 -> G.4.2.5. Görsel sanat alanındaki meslekleri söyler. | AA38: =X38 -> 12/Nis/2027-16/Nis/2027 | AD38: =X38 -> 12/Nis/2027-16/Nis/2027 | AE38: =fb!C37 -> 4.5.5.2. Ses kirliliğinin insan sağlığı ve çevre üzerindeki olumsuz etkilerini açıklar. | AF38: =fb!D37 -> 4.5.5.2. Ses kirliliğinin insan sağlığı ve çevre üzerindeki olumsuz etkilerini açıklar. | AG38: =fb!E37 -> 4.5.5.3. Ses kirliliğini azaltmaya yönelik çözümler üretir. | AH38: =G38 -> 12/Nis/2027-16/Nis/2027 | AK38: =G38 -> 12/Nis/2027-16/Nis/2027 | AL38: =AH38 -> 12/Nis/2027-16/Nis/2027 | AM38: =ing!C37 -> 0 | AN38: =ing!D37 -> 0
A39: =trhg!H39 -> 19/Nis/2027-23/Nis/2027 | B39: =mtm!C38 -> M.4.2.3.2. Açıyı oluşturan ışınları ve köşeyi belirler, açıyı isimlendirir ve sembolle gösterir. | C39: =mtm!D38 -> M.4.2.3.2. Açıyı oluşturan ışınları ve köşeyi belirler, açıyı isimlendirir ve sembolle gösterir. | D39: =mtm!E38 -> M.4.2.3.3. Açıları, standart olmayan birimlerle ölçer ve standart ölçme birimlerinin gerekliliğini açıklar. | E39: =mtm!F38 -> M.4.2.3.3. Açıları, standart olmayan birimlerle ölçer ve standart ölçme birimlerinin gerekliliğini açıklar. | F39: =mtm!G38 -> 23 NİSAN ULUSAL EGEMENLİK VE ÇOCUK BAYRAMI | G39: =A39 -> 19/Nis/2027-23/Nis/2027 | H39: =sb!C38 -> 4.5.5. Çevresindeki kaynakları israf etmeden kullanır | I39: =sb!D38 -> 4.5.5. Çevresindeki kaynakları israf etmeden kullanır | J39: =sb!E38 -> 4.5.5. Çevresindeki kaynakları israf etmeden kullanır | K39: =G39 -> 19/Nis/2027-23/Nis/2027 | L39: =tr!C38 -> Ayakkabı Tamircisi T.4.3.1. Noktalama işaretlerine dikkat ederek sesli ve sessiz okur. | M39: =tr!D38 -> T.4.3.12. Bağlamdan yararlanarak bilmediği kelime ve kelime gruplarının anlamını tahmin eder. | N39: =tr!E38 -> T.4.3.18. Okuduğu metinle ilgili soruları cevaplar. | O39: =tr!F38 -> T.4.3.16. Okuduğu metnin konusunu belirler. | P39: =tr!G38 -> T.4.4.10. Büyük harfleri ve noktalama işaretlerini uygun yerlerde kullanır. | Q39: =tr!H38 -> T.4.3.13. Görsellerle ilgili soruları cevaplar. | R39: =tr!I38 -> T4.2.5. Sınıf içindeki tartışma ve konuşmalara katılır. 4.3.33. Medya metinlerini değerlendirir. | S39: =tr!J38 -> T.4.4.21. Yazma stratejilerini uygular. | T39: =G39 -> 19/Nis/2027-23/Nis/2027 | U39: =mz!C40 -> Mü.4.C.1. Dinlediği müziklerle ilgili duygu ve düşüncelerini ifade eder. | V39: 23/Nis/2018-27/Nis/2018 | W39: =tg!C38 -> 4.2.2. Trafikte ilk yardım gerektiren durumlarda kimlerden ve nasıl yardım istenmesi gerektiğini açıklar. | X39: =T39 -> 19/Nis/2027-23/Nis/2027 | Y39: =gs!C38 -> G.4.3.2. Bir sanat eserini seçmesindeki tercih sebebini açıklar. | AA39: =X39 -> 19/Nis/2027-23/Nis/2027 | AD39: =X39 -> 19/Nis/2027-23/Nis/2027 | AE39: =fb!C38 -> 4.6.1.1. Kaynakların kullanımında tasarruflu davranmaya özen gösterir. | AF39: =fb!D38 -> 4.6.1.1. Kaynakların kullanımında tasarruflu davranmaya özen gösterir. | AG39: =fb!E38 -> 4.6.1.1. Kaynakların kullanımında tasarruflu davranmaya özen gösterir. | AH39: =G39 -> 19/Nis/2027-23/Nis/2027 | AK39: =G39 -> 19/Nis/2027-23/Nis/2027 | AL39: =AH39 -> 19/Nis/2027-23/Nis/2027 | AM39: =ing!C38 -> 0 | AN39: =ing!D38 -> 0
A40: =trhg!H40 -> 26/Nis/2027-30/Nis/2027 | B40: M.4.3.2.1. Kare ve dikdörtgenin çevre uzunlukları ile kenar uzunlukları arasındaki ilişkiyi açıklar. | C40: M.4.3.2.1. Kare ve dikdörtgenin çevre uzunlukları ile kenar uzunlukları arasındaki ilişkiyi açıklar. | D40: M.4.3.2.2. Aynı çevre uzunluğuna sahip farklı geometrik şekiller oluşturur. | E40: M.4.3.2.3. Şekillerin çevre uzunluklarını hesaplamayla ilgili problemleri çözer. | F40: M.4.3.2.3. Şekillerin çevre uzunluklarını hesaplamayla ilgili problemleri çözer. | G40: =A40 -> 26/Nis/2027-30/Nis/2027 | H40: =sb!C39 -> 4.6.1. Çocuk olarak haklarının farkına varır. | I40: =sb!D39 -> 4.6.1. Çocuk olarak haklarının farkına varır. | J40: =sb!E39 -> 4.6.1. Çocuk olarak haklarının farkına varır. | K40: =G40 -> 26/Nis/2027-30/Nis/2027 | L40: =tr!C39 -> Tatlı Dile Dair T.4.3.14. Görsellerden ve başlıktan hareketle okuyacağı metnin konusunu tahmin eder. | M40: =tr!D39 -> T.4.3.12. Bağlamdan yararlanarak bilmediği kelime ve kelime gruplarının anlamını tahmin eder. | N40: =tr!E39 -> T.4.3.18. Okuduğu metinle ilgili soruları cevaplar. | O40: =tr!F39 -> T.4.3.17. Metnin ana fikri/ana duygusunu belirler. T.4.3.28. Okudukları ile ilgili çıkarımlar yapar. | P40: =tr!G39 -> T4.2.5. Sınıf içindeki tartışma ve konuşmalara katılır.S.188 5.ETK | Q40: =tr!H39 -> .T.4.3.30. Metindeki renkli, altı çizili, koyu ifadelerin önemli noktaları vurguladığını kavrar. | R40: =tr!I39 -> T.4.4.10. Büyük harfleri ve noktalama işaretlerini uygun yerlerde kullanır. | S40: =tr!J39 -> T.4.4.21. Yazma stratejilerini uygular. | T40: =G40 -> 26/Nis/2027-30/Nis/2027 | U40: =mz!C41 -> Mü.4.A.5. Müzik çalışmalarını sergiler. | V40: 30/Nis/2018-04/May/2018 | W40: =tg!C39 -> 4.2.2. Trafikte ilk yardım gerektiren durumlarda kimlerden ve nasıl yardım istenmesi gerektiğini açıklar. | X40: =T40 -> 26/Nis/2027-30/Nis/2027 | Y40: =gs!C39 -> G.4.3.3. Estetik tercihlerin kişilere göre nasıl değiştiğini ifade eder. | AA40: =X40 -> 26/Nis/2027-30/Nis/2027 | AD40: =X40 -> 26/Nis/2027-30/Nis/2027 | AE40: =fb!C39 -> F.4.6.1.2. Yaşam için gerekli olan kaynakların ve geri dönüşümün önemini fark eder. | AF40: =fb!D39 -> F.4.6.1.2. Yaşam için gerekli olan kaynakların ve geri dönüşümün önemini fark eder. | AG40: =fb!E39 -> F.4.6.1.2. Yaşam için gerekli olan kaynakların ve geri dönüşümün önemini fark eder. | AH40: =G40 -> 26/Nis/2027-30/Nis/2027 | AK40: =G40 -> 26/Nis/2027-30/Nis/2027 | AL40: =AH40 -> 26/Nis/2027-30/Nis/2027 | AM40: =ing!C39 -> 0 | AN40: =ing!D39 -> 0
A41: =trhg!H41 -> 03/May/2027-07/May/2027 | B41: M.4.3.3.1. Şekillerin alanlarının, bu alanı kaplayan birim karelerin sayısı olduğunu belirler. | C41: =mtm!D40 -> M.4.2.2.1. Ayna simetrisini, geometrik şekiller ve modeller üzerinde açıklayarak simetri doğrusunu çizer. | D41: =mtm!E40 -> M.4.2.2.2. Verilen şeklin doğruya göre simetriğini çizer. | E41: =mtm!F40 -> M.4.2.2.2. Verilen şeklin doğruya göre simetriğini çizer. | F41: 19 MAYIS ATATÜRK'Ü ANMA GENÇLİK VE SPOR BAYRAMI | G41: =A41 -> 03/May/2027-07/May/2027 | H41: =sb!C42 -> 4.6.4. Ülkesinin bağımsızlığı ile bireysel özgürlüğü arasındaki ilişkiyi açıklar. | I41: =sb!D42 -> 4.6.4. Ülkesinin bağımsızlığı ile bireysel özgürlüğü arasındaki ilişkiyi açıklar. | J41: =sb!E42 -> 4.6.4. Ülkesinin bağımsızlığı ile bireysel özgürlüğü arasındaki ilişkiyi açıklar. | K41: =G41 -> 03/May/2027-07/May/2027 | L41: =tr!C40 -> Ayşe Nine T.4.3.4. Metinleri türün özelliklerine uygun biçimde okur. | M41: =tr!D40 -> T.4.3.12. Bağlamdan yararlanarak bilmediği kelime ve kelime gruplarının anlamını tahmin eder. | N41: =tr!E40 -> T.4.3.18. Okuduğu metinle ilgili soruları cevaplar. | O41: =tr!F40 -> T.4.3.16. Okuduğu metnin konusunu belirler. T.4.3.28. Okudukları ile ilgili çıkarımlar yapar. | P41: =tr!G40 -> T4.2.5. Sınıf içindeki tartışma ve konuşmalara katılır. | Q41: =tr!H40 -> T.4.3.21. Okuduğu metnin içeriğine uygun başlık belirler. | R41: =tr!I40 -> T.4.4.18. Yazılarında bağlaçları kuralına uygun kullanır. | S41: =tr!J40 -> T.4.3.13. Görsellerle ilgili soruları cevaplar. | T41: =G41 -> 03/May/2027-07/May/2027 | U41: =mz!C42 -> Mü.4.A.5. Müzik çalışmalarını sergiler. | V41: 07/May/2018-11/May/2018 | W41: =tg!C40 -> 4.2.3. İlk yardım uygulamalarında doğru müdahalenin önemini tartışır. | X41: =T41 -> 03/May/2027-07/May/2027 | Y41: =gs!C40 -> G.4.3.4. Görsel sanat alanındaki etik kurallara uyar. | AA41: =X41 -> 03/May/2027-07/May/2027 | AD41: =X41 -> 03/May/2027-07/May/2027 | AE41: =fb!C40 -> F.4.6.1.2. Yaşam için gerekli olan kaynakların ve geri dönüşümün önemini fark eder. | AF41: =fb!D40 -> F.4.6.1.2. Yaşam için gerekli olan kaynakların ve geri dönüşümün önemini fark eder. | AG41: =fb!E40 -> F.4.6.1.2. Yaşam için gerekli olan kaynakların ve geri dönüşümün önemini fark eder. | AH41: =G41 -> 03/May/2027-07/May/2027 | AK41: =G41 -> 03/May/2027-07/May/2027 | AL41: =AH41 -> 03/May/2027-07/May/2027 | AM41: =ing!C40 -> 0 | AN41: =ing!D40 -> 0
A42: =trhg!H42 -> 10/May/2027-14/May/2027 | B42: =mtm!C41 -> M.4.3.1.1. Standart uzunluk ölçme birimlerinden milimetrenin kullanım alanlarını belirtir. | C42: =mtm!D41 -> M.4.3.1.2. Uzunluk ölçme birimleri arasındaki ilişkileri açıklar ve birbiri cinsinden yazar. | D42: =mtm!E41 -> M.4.3.1.1. Standart uzunluk ölçme birimlerinden milimetrenin kullanım alanlarını belirtir. | E42: =mtm!F41 -> Atatürk'ün ölçülerle ilgili getirdiği yeniliklerin tarihlerini içeren problemleri çözebilme | F42: =mtm!G41 -> M.4.3.1.3. Doğrudan ölçebileceği bir uzunluğu en uygun uzunluk ölçme birimiyle tahmin eder ve tahminini ölçme yaparak kontrol eder. | G42: =A42 -> 10/May/2027-14/May/2027 | H42: =sb!C41 -> 4.6.3. Okul yaşamında gerekli gördüğü eğitsel sosyal etkinlikleri önerir. | I42: =sb!D41 -> 4.6.3. Okul yaşamında gerekli gördüğü eğitsel sosyal etkinlikleri önerir. | J42: =sb!E41 -> 4.6.4. Ülkesinin bağımsızlığı ile bireysel özgürlüğü arasındaki ilişkiyi açıklar. | K42: =G42 -> 10/May/2027-14/May/2027 | L42: =tr!C41 -> Çiftçiyle Oğulları (Dinleme Metni) Görsellerden ve başlıktan hareketle okuyacağı metnin konusunu tahmin eder | M42: =tr!D41 -> T.4.1.7. Dinlediklerine/izlediklerine yönelik sorulara cevap verir. | N42: =tr!E41 -> T.4.1.4. Dinlediklerinde/izlediklerinde geçen, bilmediği kelimelerin anlamını tahmin eder. | O42: =tr!F41 -> T.4.1.6. Dinlediklerinin/izlediklerinin ana fikrini/ana duygusunu belirler. | P42: =tr!G41 -> T.4.4.12. Yazdıklarını paylaşır. | Q42: =tr!H41 -> T.4.4.21. Yazma stratejilerini uygular. | R42: =tr!#REF! -> #REF! | S42: =tr!#REF! -> #REF! | T42: =G42 -> 10/May/2027-14/May/2027 | U42: =mz!#REF! -> #REF! | V42: 14/May/2018-18/May/2018 | W42: =tg!C41 -> Yazılı Değerlendirme | X42: =T42 -> 10/May/2027-14/May/2027 | Y42: =gs!C41 -> G.4.1.1. Görsel sanat çalışmasını oluştururken biçimlendirme basamaklarını kullanır. | AA42: =X42 -> 10/May/2027-14/May/2027 | AD42: =X42 -> 10/May/2027-14/May/2027 | AE42: =fb!C41 -> F.4.7.1.1. Basit elektrik devresini oluşturan devre elemanlarını işlevleri ile tanır | AF42: =fb!D41 -> F.4.7.1.1. Basit elektrik devresini oluşturan devre elemanlarını işlevleri ile tanır | AG42: =fb!E41 -> F.4.7.1.1. Basit elektrik devresini oluşturan devre elemanlarını işlevleri ile tanır | AH42: =G42 -> 10/May/2027-14/May/2027 | AK42: =G42 -> 10/May/2027-14/May/2027 | AL42: =AH42 -> 10/May/2027-14/May/2027 | AM42: =ing!C41 -> 0 | AN42: =ing!D41 -> 0
A43: =trhg!H43 -> 17/May/2027-21/May/2027 | B43: =mtm!C42 -> BAYRAM TATİLİ | C43: =mtm!D42 -> BAYRAM TATİLİ | D43: =mtm!E42 -> BAYRAM TATİLİ | E43: =mtm!F42 -> M.4.3.1.4. Uzunluk ölçme birimlerinin kullanıldığı en çok üç işlem gerektiren problemleri çözer. | F43: =mtm!G42 -> M.4.3.1.4. Uzunluk ölçme birimlerinin kullanıldığı en çok üç işlem gerektiren problemleri çözer. | G43: =A43 -> 17/May/2027-21/May/2027 | H43: =sb!#REF! -> #REF! | I43: =sb!#REF! -> #REF! | J43: =sb!#REF! -> #REF! | K43: =G43 -> 17/May/2027-21/May/2027 | L43: =tr!#REF! -> #REF! | M43: =tr!#REF! -> #REF! | N43: =tr!C42 -> Bir Varmış Bir Yokmuş Televizyon Bozulmuş T.4.3.6 Okuma stratejilerini uygular. | O43: =tr!D42 -> T.4.3.17. Metnin ana fikri/ana duygusunu belirler. T.4.3.10. Okuduğu metindeki gerçek, mecaz ve terim anlamlı sözcükleri belirler. | P43: =tr!E42 -> T.4.3.29. Görsellerle okuduğu metnin içeriğini ilişkilendirir. T.4.4.10. Büyük harfleri ve noktalama işaretlerini uygun yerlerde kullanır. | Q43: =tr!F42 -> T.4.3.28. Okudukları ile ilgili çıkarımlar yapar. | R43: =tr!G42 -> T.4.4.3. Hikâye edici metin yazar. | S43: =tr!H42 -> T.4.4.20. Harflerin yapısal özelliklerine uygun metin yazar. | T43: =G43 -> 17/May/2027-21/May/2027 | U43: =mz!#REF! -> #REF! | V43: 21/May/2018-25/May/2018 | W43: =tg!C42 -> 4.2.3. İlk yardım uygulamalarında doğru müdahalenin önemini tartışır. | X43: =T43 -> 17/May/2027-21/May/2027 | Y43: =gs!C42 -> G.4.1.3. Görsel sanat çalışmasında kompozisyon birliğini oluşturmak için seçimler yapar. | AA43: =X43 -> 17/May/2027-21/May/2027 | AD43: =X43 -> 17/May/2027-21/May/2027 | AE43: =fb!C42 -> F.4.7.1.2. Çalışan bir elektrik devresi kurar. | AF43: =fb!D42 -> F.4.7.1.2. Çalışan bir elektrik devresi kurar. | AG43: =fb!E42 -> F.4.7.1.2. Çalışan bir elektrik devresi kurar. | AH43: =G43 -> 17/May/2027-21/May/2027 | AK43: =G43 -> 17/May/2027-21/May/2027 | AL43: =AH43 -> 17/May/2027-21/May/2027 | AM43: =ing!C42 -> 0 | AN43: =ing!D42 -> 0
A44: =trhg!H44 -> 24/May/2027-28/May/2027 | B44: =mtm!C43 -> M.4.3.3.2. Kare ve dikdörtgenin alanını toplama ve çarpma işlemleri ile ilişkilendirir. | C44: =mtm!D43 -> M.4.3.2.2. Aynı çevre uzunluğuna sahip farklı geometrik şekiller oluşturur. | D44: =mtm!E43 -> M.4.3.2.2. Aynı çevre uzunluğuna sahip farklı geometrik şekiller oluşturur. | E44: =mtm!F43 -> M.4.3.2.3. Şekillerin çevre uzunluklarını hesaplamayla ilgili problemleri çözer. | F44: =mtm!G43 -> M.4.3.2.3. Şekillerin çevre uzunluklarını hesaplamayla ilgili problemleri çözer. | G44: =A44 -> 24/May/2027-28/May/2027 | H44: =sb!C43 -> 4.7.1. Dünya üzerindeki çeşitli ülkeleri tanıtır. | I44: =sb!D43 -> 4.7.2. Türkiye’nin komşuları ve diğer Türk Cumhuriyetleri ile olan ilişkilerini kavrar. | J44: =sb!E43 -> 4.7.2. Türkiye’nin komşuları ve diğer Türk Cumhuriyetleri ile olan ilişkilerini kavrar. | K44: =G44 -> 24/May/2027-28/May/2027 | L44: =tr!C43 -> İnternet Acayip Bir Şey T.4.3.6 Okuma stratejilerini uygular. | M44: =tr!D43 -> T.4.3.35. Bilgi kaynaklarını etkili bir şekilde kullanır. | N44: =tr!E43 -> T.4.3.18. Okuduğu metinle ilgili soruları cevaplar. | O44: =tr!F43 -> T.4.3.16. Okuduğu metnin konusunu belirler. | P44: =tr!G43 -> T.4.3.28. Okudukları ile ilgili çıkarımlar yapar. | Q44: =tr!H43 -> T.4.3.13. Görsellerle ilgili soruları cevaplar. | R44: =tr!I43 -> Görsellerden ve başlıktan hareketle okuyacağı metnin konusunu tahmin eder . | S44: =tr!J43 -> a) Olayların oluş sırasına göre yazılmasının gerekliliği hatırlatılır. | T44: =G44 -> 24/May/2027-28/May/2027 | U44: =mz!C43 -> Mü.4.A.5. Müzik çalışmalarını sergiler. | V44: 28/May/2018-01/Haz/2018 | W44: =tg!C43 -> 4.2.4. Hafif yaralanmalarda yapıması gerekli ilk yardım uygulamalarını araştırır. | X44: =T44 -> 24/May/2027-28/May/2027 | Y44: =gs!C43 -> G.4.1.4. İki boyutlu yüzey üzerinde derinlik etkisi oluşturur. | AA44: =X44 -> 24/May/2027-28/May/2027 | AD44: =X44 -> 24/May/2027-28/May/2027 | AE44: =fb!C43 -> F.4.7.1.3. Evde ve okuldaki elektrik düğmelerinin ve kabloların birer devre elemanı olduğunu bilir. | AF44: =fb!D43 -> F.4.7.1.3. Evde ve okuldaki elektrik düğmelerinin ve kabloların birer devre elemanı olduğunu bilir. | AG44: =fb!E43 -> F.4.7.1.3. Evde ve okuldaki elektrik düğmelerinin ve kabloların birer devre elemanı olduğunu bilir. | AH44: =G44 -> 24/May/2027-28/May/2027 | AK44: =G44 -> 24/May/2027-28/May/2027 | AL44: =AH44 -> 24/May/2027-28/May/2027 | AM44: =ing!C43 -> 0 | AN44: =ing!D43 -> 0
A45: =trhg!H45 -> 31/May/2027-04/Haz/2027 | B45: =mtm!C44 -> M.4.3.3.1. Şekillerin alanlarının, bu alanı kaplayan birim karelerin sayısı olduğunu belirler. | C45: =mtm!C46 -> M.4.3.6.2. Litre ve mililitre arasındaki ilişkiyi açıklar ve birbirine dönüştürür | D45: =mtm!E44 -> M.4.3.3.1. Şekillerin alanlarının, bu alanı kaplayan birim karelerin sayısı olduğunu belirler. | E45: =mtm!F44 -> M.4.3.3.2. Kare ve dikdörtgenin alanını toplama ve çarpma işlemleri ile ilişkilendirir. | F45: =mtm!G44 -> M.4.3.3.2. Kare ve dikdörtgenin alanını toplama ve çarpma işlemleri ile ilişkilendirir. | G45: =A45 -> 31/May/2027-04/Haz/2027 | H45: =sb!C44 -> 4.7.2. Türkiye’nin komşuları ve diğer Türk Cumhuriyetleri ile olan ilişkilerini kavrar. | I45: =sb!D44 -> 4.7.2. Türkiye’nin komşuları ve diğer Türk Cumhuriyetleri ile olan ilişkilerini kavrar. | J45: =sb!E44 -> 4.7.2. Türkiye’nin komşuları ve diğer Türk Cumhuriyetleri ile olan ilişkilerini kavrar. | K45: =G45 -> 31/May/2027-04/Haz/2027 | L45: =tr!C44 -> Teknoloji T.4.3.19. Metinle ilgili sorular sorar. | M45: =tr!D44 -> T.4.3.35. Bilgi kaynaklarını etkili bir şekilde kullanır. | N45: =tr!E44 -> T.4.3.18. Okuduğu metinle ilgili soruları cevaplar. | O45: =tr!F44 -> T.4.3.16. Okuduğu metnin konusunu belirler. | P45: =tr!G44 -> T4.2.5. Sınıf içindeki tartışma ve konuşmalara katılır. | Q45: =tr!H44 -> T.4.4.11. Yazdıklarını düzenler. | R45: =tr!I44 -> T.4.3.32. Kısa ve basit dijital metinlerdeki mesajı kavrar. T.4.4.1. Şiir yazar. | S45: =tr!J44 -> T.4.4.20. Harflerin yapısal özelliklerine uygun metin yazar. | T45: =G45 -> 31/May/2027-04/Haz/2027 | U45: =mz!C44 -> Mü.4.D.1. Müzik arşivi oluşturmanın önemini fark eder. | V45: 04/Haz/2018-08/Haz/2018 | W45: =tg!C44 -> 4.2.4. Hafif yaralanmalarda yapıması gerekli ilk yardım uygulamalarını araştırır. | X45: =T45 -> 31/May/2027-04/Haz/2027 | Y45: =gs!C44 -> G.4.1.5. Gözleme dayalı çizimlerinde kontur çizgisini ve gölgeleme tekniklerini kullanır. | AA45: =X45 -> 31/May/2027-04/Haz/2027 | AD45: =X45 -> 31/May/2027-04/Haz/2027 | AE45: =fb!C44 -> Genel Değerlendirme | AF45: =fb!D44 -> Genel Değerlendirme | AG45: =fb!E44 -> Genel Değerlendirme | AH45: =G45 -> 31/May/2027-04/Haz/2027 | AK45: =G45 -> 31/May/2027-04/Haz/2027 | AL45: =AH45 -> 31/May/2027-04/Haz/2027 | AM45: =ing!C44 -> 0 | AN45: =ing!D44 -> 0

Sheet sb
C8: 1. DERS | D8: 2. DERS | E8: 3. DERS
A9: 1. HAFTA | B9: =trhg!H10 -> 14/Eyl/2026-18/Eyl/2026 | C9: 4.1.1. Resmî kimlik belgesini inceleyerek kişisel kimliğine ilişkin çıkarımlarda bulunur. | D9: 4.1.1. Resmî kimlik belgesini inceleyerek kişisel kimliğine ilişkin çıkarımlarda bulunur. | E9: 4.1.1. Resmî kimlik belgesini inceleyerek kişisel kimliğine ilişkin çıkarımlarda bulunur.
A10: 2. HAFTA | B10: =trhg!H11 -> 21/Eyl/2026-25/Eyl/2026 | C10: 4.1.2. Yaşamına ilişkin belli başlı olayları kronolojik sıraya koyar. | D10: 4.1.2. Yaşamına ilişkin belli başlı olayları kronolojik sıraya koyar. | E10: 4.1.2. Yaşamına ilişkin belli başlı olayları kronolojik sıraya koyar.
A11: 3. HAFTA | B11: =trhg!H12 -> 28/Eyl/2026-02/Eki/2026 | C11: 4.1.3. Bireysel ilgi, ihtiyaç ve yeteneklerini tanır. | D11: 4.1.3. Bireysel ilgi, ihtiyaç ve yeteneklerini tanır. | E11: 4.1.3. Bireysel ilgi, ihtiyaç ve yeteneklerini tanır.
A12: 4. HAFTA | B12: =trhg!H13 -> 05/Eki/2026-09/Eki/2026 | C12: 4.1.4. Kendisini farklı özelliklere sahip diğer bireylerin yerine koyar. | D12: 4.1.4. Kendisini farklı özelliklere sahip diğer bireylerin yerine koyar. | E12: 4.1.4. Kendisini farklı özelliklere sahip diğer bireylerin yerine koyar.
A13: 5. HAFTA | B13: =trhg!H14 -> 12/Eki/2026-16/Eki/2026 | C13: 4.1.5. Diğer bireylerin farklı özelliklerini saygı ile karşılar. TEMA SONU DEĞERLENDİRME ÇALIŞMALARI | D13: 4.1.5. Diğer bireylerin farklı özelliklerini saygı ile karşılar. TEMA SONU DEĞERLENDİRME ÇALIŞMALARI | E13: 4.1.5. Diğer bireylerin farklı özelliklerini saygı ile karşılar. TEMA SONU DEĞERLENDİRME ÇALIŞMALARI
A14: 6. HAFTA | B14: =trhg!H15 -> 19/Eki/2026-23/Eki/2026 | C14: 4.2.1. Sözlü, yazılı, görsel kaynaklar ve nesnelerden yararlanarak ailesinin geçmişine dair soyağacı oluşturur. | D14: 4.2.1. Sözlü, yazılı, görsel kaynaklar ve nesnelerden yararlanarak ailesinin geçmişine dair soyağacı oluşturur. | E14: 4.2.1. Sözlü, yazılı, görsel kaynaklar ve nesnelerden yararlanarak ailesinin geçmişine dair soyağacı oluşturur.
A15: 7. HAFTA | B15: =trhg!H16 -> 26/Eki/2026-30/Eki/2026 | C15: 4.2.2. Ailesi ve çevresindeki millî kültürü yansıtan ögeleri araştırarak örnekler verir. | D15: 4.2.2. Ailesi ve çevresindeki millî kültürü yansıtan ögeleri araştırarak örnekler verir. | E15: 4.2.2. Ailesi ve çevresindeki millî kültürü yansıtan ögeleri araştırarak örnekler verir.
A16: 8. HAFTA | B16: =trhg!H17 -> 02/Kas/2026-06/Kas/2026 | C16: 4.2.3. Geleneksel çocuk oyunlarını değişim ve süreklilik açısından günümüzdeki oyunlarla karşılaştırır. | D16: 4.2.3. Geleneksel çocuk oyunlarını değişim ve süreklilik açısından günümüzdeki oyunlarla karşılaştırır. | E16: 4.2.3. Geleneksel çocuk oyunlarını değişim ve süreklilik açısından günümüzdeki oyunlarla karşılaştırır.
A17: 9. HAFTA | B17: =trhg!H18 -> 09/Kas/2026-13/Kas/2026 | C17: 4.2.4. Millî Mücadele kahramanlarının hayatlarından hareketle Millî Mücadele’nin önemini kavrar. | D17: 4.2.4. Millî Mücadele kahramanlarının hayatlarından hareketle Millî Mücadele’nin önemini kavrar. | E17: 4.2.4. Millî Mücadele kahramanlarının hayatlarından hareketle Millî Mücadele’nin önemini kavrar.
A18: ARA TATİL | B18: =trhg!H19 -> 16/Kas/2026-20/Kas/2026 | C18: ARA TATİL | D18: ARA TATİL | E18: ARA TATİL
A19: 10. HAFTA | B19: =trhg!H20 -> 23/Kas/2026-27/Kas/2026 | C19: 4.2.4. Millî Mücadele kahramanlarının hayatlarından hareketle Millî Mücadele’nin önemini kavrar. | D19: 4.2.4. Millî Mücadele kahramanlarının hayatlarından hareketle Millî Mücadele’nin önemini kavrar. | E19: 4.2.4. Millî Mücadele kahramanlarının hayatlarından hareketle Millî Mücadele’nin önemini kavrar.
A20: 11. HAFTA | B20: =trhg!H21 -> 30/Kas/2026-04/Ara/2026 | C20: 4.3.1. Çevresindeki herhangi bir yerin konumu ile ilgili çıkarımlarda bulunur. | D20: 4.3.1. Çevresindeki herhangi bir yerin konumu ile ilgili çıkarımlarda bulunur. | E20: 4.3.1. Çevresindeki herhangi bir yerin konumu ile ilgili çıkarımlarda bulunur.
... A47: 37. HAFTA | B47: =trhg!H48 -> 21/Haz/2027-25/Haz/2027 | C47: Etkinlik Haftası | D47: Etkinlik Haftası | E47: Etkinlik Haftası

Sheet fb
C8: 1. DERS | D8: 2. DERS | E8: 3. DERS
A9: 1. HAFTA | B9: =trhg!H10 -> 14/Eyl/2026-18/Eyl/2026 | C9: 4.1.1.1. Yer kabuğunun kara tabakasının kayaçlardan oluştuğunu belirtir. | D9: 4.1.1.2. Kayaçlarla madenleri ilişkilendirir ve kayaçların ham madde olarak önemini tartışır. | E9: 4.1.1.2. Kayaçlarla madenleri ilişkilendirir ve kayaçların ham madde olarak önemini tartışır.
A10: 2. HAFTA | B10: =trhg!H11 -> 21/Eyl/2026-25/Eyl/2026 | C10: 4.1.1.2. Kayaçlarla madenleri ilişkilendirir ve kayaçların ham madde olarak önemini tartışır. | D10: 4.1.1.3. Fosillerin oluşumunu açıklar. | E10: 4.1.1.3. Fosillerin oluşumunu açıklar.
A11: 3. HAFTA | B11: =trhg!H12 -> 28/Eyl/2026-02/Eki/2026 | C11: 4.1.2.1. Dünya’nın dönme ve dolanma hareketleri arasındaki farkı açıklar. | D11: 4.1.2.1. Dünya’nın dönme ve dolanma hareketleri arasındaki farkı açıklar. | E11: 4.1.2.1. Dünya’nın dönme ve dolanma hareketleri arasındaki farkı açıklar.
A12: 4. HAFTA | B12: =trhg!H13 -> 05/Eki/2026-09/Eki/2026 | C12: F.4.1.2.2. Dünya’nın hareketleri sonucu gerçekleşen olayları açıklar. | D12: F.4.1.2.2. Dünya’nın hareketleri sonucu gerçekleşen olayları açıklar. | E12: F.4.1.2.2. Dünya’nın hareketleri sonucu gerçekleşen olayları açıklar.
A13: 5. HAFTA | B13: =trhg!H14 -> 12/Eki/2026-16/Eki/2026 | C13: F.4.1.2.2. Dünya’nın hareketleri sonucu gerçekleşen olayları açıklar. | D13: F.4.1.2.2. Dünya’nın hareketleri sonucu gerçekleşen olayları açıklar. | E13: F.4.1.2.2. Dünya’nın hareketleri sonucu gerçekleşen olayları açıklar.
A14: 6. HAFTA | B14: =trhg!H15 -> 19/Eki/2026-23/Eki/2026 | C14: F.4.2.1.1. Canlı yaşamı ve besin içerikleri arasındaki ilişkiyi açıklar | D14: F.4.2.1.1. Canlı yaşamı ve besin içerikleri arasındaki ilişkiyi açıklar | E14: F.4.2.1.1. Canlı yaşamı ve besin içerikleri arasındaki ilişkiyi açıklar
A15: 7. HAFTA | B15: =trhg!H16 -> 26/Eki/2026-30/Eki/2026 | C15: F.4.2.1.2. Su ve minerallerin bütün besinlerde bulunduğu çıkarımını yapar. | D15: F.4.2.1.2. Su ve minerallerin bütün besinlerde bulunduğu çıkarımını yapar. | E15: F.4.2.1.2. Su ve minerallerin bütün besinlerde bulunduğu çıkarımını yapar.
A16: 8. HAFTA | B16: =trhg!H17 -> 02/Kas/2026-06/Kas/2026 | C16: F.4.2.1.3. Sağlıklı bir yaşam için besinlerin tazeliğinin ve doğallığının önemini, araştırma verilerine dayalı olarak tartışır | D16: F.4.2.1.3. Sağlıklı bir yaşam için besinlerin tazeliğinin ve doğallığının önemini, araştırma verilerine dayalı olarak tartışır | E16: F.4.2.1.3. Sağlıklı bir yaşam için besinlerin tazeliğinin ve doğallığının önemini, araştırma verilerine dayalı olarak tartışır
A17: 9. HAFTA | B17: =trhg!H18 -> 09/Kas/2026-13/Kas/2026 | C17: F.4.2.1.4. İnsan sağlığı ile dengeli beslenmeyi ilişkilendirir | D17: F.4.2.1.4. İnsan sağlığı ile dengeli beslenmeyi ilişkilendirir | E17: F.4.2.1.4. İnsan sağlığı ile dengeli beslenmeyi ilişkilendirir
A18: 10. HAFTA | B18: =trhg!H19 -> 16/Kas/2026-20/Kas/2026 | C18: F.4.2.1.5. Alkol ve sigara kullanımının insan sağlığına olan olumsuz etkilerinin farkına varır. | D18: F.4.2.1.5. Alkol ve sigara kullanımının insan sağlığına olan olumsuz etkilerinin farkına varır. | E18: F.4.2.1.5. Alkol ve sigara kullanımının insan sağlığına olan olumsuz etkilerinin farkına varır.
A19: 11. HAFTA | B19: =trhg!H20 -> 23/Kas/2026-27/Kas/2026 | C19: F.4.2.1.6. Yakın çevresinde sigara kullanımını azaltmaya yönelik sorumluluk üstlenir. | D19: F.4.2.1.6. Yakın çevresinde sigara kullanımını azaltmaya yönelik sorumluluk üstlenir. | E19: F.4.2.1.6. Yakın çevresinde sigara kullanımını azaltmaya yönelik sorumluluk üstlenir.
A20: 12. HAFTA | B20: =trhg!H21 -> 30/Kas/2026-04/Ara/2026 | C20: F.4.3.1.1. Kuvvetin, cisimlere hareket kazandırmasına ve cisimlerin şekillerini değiştirmesine yönelik deneyler yapar. | D20: F.4.3.1.1. Kuvvetin, cisimlere hareket kazandırmasına ve cisimlerin şekillerini değiştirmesine yönelik deneyler yapar. | E20: F.4.3.1.1. Kuvvetin, cisimlere hareket kazandırmasına ve cisimlerin şekillerini değiştirmesine yönelik deneyler yapar.
... A44: 36. HAFTA | B44: =trhg!H45 -> 31/May/2027-04/Haz/2027 | C44: Genel Değerlendirme | D44: Genel Değerlendirme | E44: Genel Değerlendirme
A45: 37. HAFTA | B45: =trhg!#REF! -> #REF!
A46: 38. HAFTA | B46: =trhg!H46 -> 07/Haz/2027-11/Haz/2027
A47: 39. HAFTA | B47: =trhg!H47 -> 14/Haz/2027-18/Haz/2027
A48: 40. HAFTA | B48: =trhg!H48 -> 21/Haz/2027-25/Haz/2027

Sheet tr
C8: 1.DERS | D8: 2.DERS | E8: 3.DERS | F8: 4.DERS | G8: 5. DERS | H8: 6.DERS | I8: 7. DERS | J8: 8. DERS
A9: 1. HAFTA | B9: =trhg!H10 -> 14/Eyl/2026-18/Eyl/2026 | C9: OKULUM AÇILIYOR T.4.2.2. Hazırlıksız konuşmalar yapar. T.4.3.3. Şiir okur. | D9: T.4.3.12. Bağlamdan yararlanarak bilmediği kelime ve kelime gruplarının anlamını tahmin eder. | E9: T.4.3.18. Okuduğu metinle ilgili soruları cevaplar. | F9: T.4.3.17. Metnin ana fikri/ana duygusunu belirler. | G9: T.4.4.10. Büyük harfleri ve noktalama işaretlerini uygun yerlerde kullanır. | H9: T.4.3.8. Kelimelerin zıt anlamlılarını bulur. | I9: T.4.3.32. Kısa ve basit dijital metinlerdeki mesajı kavrar. | J9: T.4.4.21. Yazma stratejilerini uygular.
A10: 2. HAFTA | B10: =trhg!H11 -> 21/Eyl/2026-25/Eyl/2026 | C10: SÜRPRİİİİZ T.4.3.1. Noktalama işaretlerine dikkat ederek sesli ve sessiz okur. | D10: T.4.3.12. Bağlamdan yararlanarak bilmediği kelime ve kelime gruplarının anlamını tahmin eder. | E10: T.4.3.18. Okuduğu metinle ilgili soruları cevaplar. | F10: T.4.3.23. Metin türlerini ayırt eder. | G10: T.4.3.8. Kelimelerin eş anlamlılarını bulur. | H10: T.4.4.10. Büyük harfleri ve noktalama işaretlerini uygun yerlerde kullanır. | I10: T.4.3.24. Hikâye edici ve bilgilendirici metinleri oluşturan ögeleri tanır. | J10: T.4.4.21. Yazma stratejilerini uygular.
A11: 3. HAFTA | B11: =trhg!H12 -> 28/Eyl/2026-02/Eki/2026 | C11: HAYDİ UÇURTMA YAPALIM T.4.3.4. Metinleri türün özelliklerine uygun biçimde okur. | D11: T.4.1.4. Dinlediklerinde/izlediklerinde geçen, bilmediği kelimelerin anlamını tahmin eder. S.24 .1. ve 2. ETK. | E11: T.4.3.18. Okuduğu metinle ilgili soruları cevaplar. | F11: T.4.3.17. Metnin ana fikri/ana duygusunu belirler. | G11: T.4.3.23. Metin türlerini ayırt eder. | H11: T.4.3.26. Metindeki gerçek ve hayalî ögeleri ayırt eder. | I11: T.4.4.10. Büyük harfleri ve noktalama işaretlerini uygun yerlerde kullanır. | J11: T.4.3.34. Grafik, tablo ve çizelgelerle ilgili soruları cevaplar.
A12: 4. HAFTA | B12: =trhg!H13 -> 05/Eki/2026-09/Eki/2026 | C12: Çocukluğum Bitti Mi? (Dinleme Metni) (DİNLEME METNİ) KAŞAĞI(SERBEST OKUMA) T.4.1.1. Görselden/görsellerden hareketle dinleyeceği/izleyeceği metnin konusunu tahmin eder. | D12: T.4.1.13. Konuşmacının sözlü olmayan mesajlarını kavrar. | E12: T.4.1.4. Dinlediklerinde/izlediklerinde geçen, bilmediği kelimelerin anlamını tahmin eder. S.28 2.ETK. | F12: T.4.1.7. Dinlediklerine/izlediklerine yönelik sorulara cevap verir. | G12: T.4.1.5. Dinlediklerinin/izlediklerinin konusunu belirler. | H12: T.4.4.12. Yazdıklarını paylaşır. | I12: T.4.4.4. Bilgilendirici metin yazar. | J12: Sözün Gücü(Serbest Okuma Metni)
A13: 5. HAFTA | B13: =trhg!H14 -> 12/Eki/2026-16/Eki/2026 | C13: Ömrümün En Güzel Rüyası T.4.3.2. Vurgu, tonlama ve telaffuza dikkat ederek okur. | D13: T.4.3.12. Bağlamdan yararlanarak bilmediği kelime ve kelime gruplarının anlamını tahmin eder. | E13: T.4.3.18. Okuduğu metinle ilgili soruları cevaplar. | F13: T.4.3.17. Metnin ana fikri/ana duygusunu belirler. | G13: T4.2.5. Sınıf içindeki tartışma ve konuşmalara katılır. | H13: T.4.4.10. Büyük harfleri ve noktalama işaretlerini uygun yerlerde kullanır. | I13: T.4.3.7. Kelimelerin zıt anlamlılarını bulur. | J13: T.4.4.20. Harflerin yapısal özelliklerine uygun metin yazar.
A14: 6. HAFTA | B14: =trhg!H15 -> 19/Eki/2026-23/Eki/2026 | C14: Atatürk Dumlupınar’da T.4.3.2. Vurgu, tonlama ve telaffuza dikkat ederek okur. | D14: T.4.3.12. Bağlamdan yararlanarak bilmediği kelime ve kelime gruplarının anlamını tahmin eder. | E14: T.4.3.18. Okuduğu metinle ilgili soruları cevaplar. | F14: T.4.3.17. Metnin ana fikri/ana duygusunu belirler. | G14: T.4.4.10. Büyük harfleri ve noktalama işaretlerini uygun yerlerde kullanır. | H14: T.4.4.12. Yazdıklarını paylaşır. | I14: T.4.3.7. Kelimelerin zıt anlamlılarını bulur. | J14: T.4.4.1. Şiir yazar. T.4.4.20. Harflerin yapısal özelliklerine uygun metin yazar.
A15: 7. HAFTA | B15: =trhg!H16 -> 26/Eki/2026-30/Eki/2026 | C15: Türk Bayrağı T.4.3.4. Metinleri türün özelliklerine uygun biçimde okur. | D15: T.4.3.12. Bağlamdan yararlanarak bilmediği kelime ve kelime gruplarının anlamını tahmin eder. T.4.3.15. Okuduklarını ana hatlarıyla anlatır.S.50,51. 1.VE 2.ETK. | E15: T.4.3.18. Okuduğu metinle ilgili soruları cevaplar. T.4.3.17. Metnin ana fikri/ana duygusunu belirler. S.51,52 3.VE 4.ETK. | F15: T.4.2.3. Hazırlıklı konuşmalar yapar. | G15: T.4.4.10. Büyük harfleri ve noktalama işaretlerini uygun yerlerde kullanır. | H15: T.4.3.11. Deyim ve atasözlerinin metnin anlamına katkısını kavrar. | I15: T.4.3.13. Görsellerle ilgili soruları cevaplar. | J15: T.4.3.3. Şiir okur. T.4.4.21. Yazma stratejilerini uygular.
A16: 8. HAFTA | B16: =trhg!H17 -> 02/Kas/2026-06/Kas/2026 | C16: Çanakkale Türküsü(Dinleme Metni) (DİNLEME /İZLEME METNİ) T.4.1.12. Dinleme stratejilerini uygular. | D16: T.4.1.4. Dinlediklerinde/izlediklerinde geçen, bilmediği kelimelerin anlamını tahmin eder. S.55 1.ETK. | E16: T.4.1.7. Dinlediklerine/izlediklerine yönelik sorulara cevap verir. | F16: T.4.1.9. Dinledikleriyle/izledikleriyle ilgili görüşlerini ifade eder. | G16: T.4.1.6. Dinlediklerinin/izlediklerinin ana fikrini/ana duygusunu belirler. | H16: T.4.3.34. Grafik, tablo ve çizelgelerle ilgili soruları cevaplar. | I16: T.4.3.13. Görsellerle ilgili soruları cevaplar. | J16: T.4.4.20. Harflerin yapısal özelliklerine uygun metin yazar.
A17: 9. HAFTA | B17: =trhg!H18 -> 09/Kas/2026-13/Kas/2026 | C17: Şişli’deki Ev(Serbest Okuma Metni) | D17: Şişli’deki Ev(Serbest Okuma Metni) | E17: T.4.2.4. Konuşma stratejilerini uygular. | F17: T.4.2.4. Konuşma stratejilerini uygular. | G17: TEMA DEĞERLENDİRME ÇALIŞMALARI | H17: TEMA DEĞERLENDİRME ÇALIŞMALARI | I17: TEMA DEĞERLENDİRME ÇALIŞMALARI | J17: TEMA DEĞERLENDİRME ÇALIŞMALARI
A18: ARA TATİL | B18: =trhg!H19 -> 16/Kas/2026-20/Kas/2026 | C18: ARA TATİL | D18: ARA TATİL | E18: ARA TATİL | F18: ARA TATİL | G18: ARA TATİL | H18: ARA TATİL | I18: ARA TATİL | J18: ARA TATİL
A19: 10. HAFTA | B19: =trhg!H20 -> 23/Kas/2026-27/Kas/2026 | C19: Yılın Babası T.4.3.4. Metinleri türün özelliklerine uygun biçimde okur. | D19: T.4.3.12. Bağlamdan yararlanarak bilmediği kelime ve kelime gruplarının anlamını tahmin eder. | E19: T.4.3.18. Okuduğu metinle ilgili soruları cevaplar. T.4.3.31. Metinler arasında karşılaştırma yapar. | F19: T.4.3.17. Metnin ana fikri/ana duygusunu belirler. T.4.3.10. Okuduğu metindeki gerçek, mecaz ve terim anlamlı sözcükleri belirler. | G19: T.4.3.29. Görsellerle okuduğu metnin içeriğini ilişkilendirir. T.4.4.10. Büyük harfleri ve noktalama işaretlerini uygun yerlerde kullanır. | H19: T.4.3.28. Okudukları ile ilgili çıkarımlar yapar. | I19: T.4.4.3. Hikâye edici metin yazar. | J19: T.4.4.20. Harflerin yapısal özelliklerine uygun metin yazar.
A20: 11. HAFTA | B20: =trhg!H21 -> 30/Kas/2026-04/Ara/2026 | C20: Ustaların Ustası Mimar Sinan T.4.3.3. Şiir okur. | D20: T.4.3.12. Bağlamdan yararlanarak bilmediği kelime ve kelime gruplarının anlamını tahmin eder. S.71 1.ETK. | E20: T.4.3.18. Okuduğu metinle ilgili soruları cevaplar. T.4.3.21. Okuduğu metnin içeriğine uygun başlık belirler. S.71,72 2.VE 3.ETK. | F20: T.4.3.18. Okuduğu metinle ilgili soruları cevaplar. | G20: T.4.3.16. Okuduğu metnin konusunu belirler. | H20: T.4.3.27. Okuduğu metindeki kahramanların özelliklerini karşılaştırır. | I20: T.4.4.12. Yazdıklarını paylaşır. | J20: T.4.4.20. Harflerin yapısal özelliklerine uygun metin yazar.
... A41: 31. HAFTA | B41: =trhg!H42 -> 10/May/2027-14/May/2027 | C41: Çiftçiyle Oğulları (Dinleme Metni) Görsellerden ve başlıktan hareketle okuyacağı metnin konusunu tahmin eder | D41: T.4.1.7. Dinlediklerine/izlediklerine yönelik sorulara cevap verir. | E41: T.4.1.4. Dinlediklerinde/izlediklerinde geçen, bilmediği kelimelerin anlamını tahmin eder. | F41: T.4.1.6. Dinlediklerinin/izlediklerinin ana fikrini/ana duygusunu belirler. | G41: T.4.4.12. Yazdıklarını paylaşır. | H41: T.4.4.21. Yazma stratejilerini uygular. | I41: Bebeğe Ninni (SERBEST OKUMA METNİ) | J41: Bebeğe Ninni (SERBEST OKUMA METNİ)
A42: 32. HAFTA | B42: =trhg!H43 -> 17/May/2027-21/May/2027 | C42: Bir Varmış Bir Yokmuş Televizyon Bozulmuş T.4.3.6 Okuma stratejilerini uygular. | D42: =F19 -> T.4.3.17. Metnin ana fikri/ana duygusunu belirler. T.4.3.10. Okuduğu metindeki gerçek, mecaz ve terim anlamlı sözcükleri belirler. | E42: =G19 -> T.4.3.29. Görsellerle okuduğu metnin içeriğini ilişkilendirir. T.4.4.10. Büyük harfleri ve noktalama işaretlerini uygun yerlerde kullanır. | F42: =H19 -> T.4.3.28. Okudukları ile ilgili çıkarımlar yapar. | G42: =I19 -> T.4.4.3. Hikâye edici metin yazar. | H42: =J19 -> T.4.4.20. Harflerin yapısal özelliklerine uygun metin yazar. | I42: T.4.1.6. Dinlediklerinin/izlediklerinin ana fikrini/ana duygusunu belirler. | J42: T.4.4.11. Yazdıklarını düzenler.
A43: 33. HAFTA | B43: =trhg!H44 -> 24/May/2027-28/May/2027 | C43: İnternet Acayip Bir Şey T.4.3.6 Okuma stratejilerini uygular. | D43: T.4.3.35. Bilgi kaynaklarını etkili bir şekilde kullanır. | E43: T.4.3.18. Okuduğu metinle ilgili soruları cevaplar. | F43: T.4.3.16. Okuduğu metnin konusunu belirler. | G43: T.4.3.28. Okudukları ile ilgili çıkarımlar yapar. | H43: T.4.3.13. Görsellerle ilgili soruları cevaplar. | I43: Görsellerden ve başlıktan hareketle okuyacağı metnin konusunu tahmin eder . | J43: a) Olayların oluş sırasına göre yazılmasının gerekliliği hatırlatılır.
A44: 34. HAFTA | B44: =trhg!H45 -> 31/May/2027-04/Haz/2027 | C44: Teknoloji T.4.3.19. Metinle ilgili sorular sorar. | D44: T.4.3.35. Bilgi kaynaklarını etkili bir şekilde kullanır. | E44: T.4.3.18. Okuduğu metinle ilgili soruları cevaplar. | F44: T.4.3.16. Okuduğu metnin konusunu belirler. | G44: T4.2.5. Sınıf içindeki tartışma ve konuşmalara katılır. | H44: T.4.4.11. Yazdıklarını düzenler. | I44: T.4.3.32. Kısa ve basit dijital metinlerdeki mesajı kavrar. T.4.4.1. Şiir yazar. | J44: T.4.4.20. Harflerin yapısal özelliklerine uygun metin yazar.
A45: 35. HAFTA | B45: =trhg!H46 -> 07/Haz/2027-11/Haz/2027 | C45: Robotlar (Dinleme Metni) T.4.3.1. Noktalama işaretlerine dikkat ederek sesli ve sessiz okur. | D45: T.4.3.12. Bağlamdan yararlanarak bilmediği kelime ve kelime gruplarının anlamını tahmin eder. | E45: T.4.3.18. Okuduğu metinle ilgili soruları cevaplar. | F45: T.4.3.16. Okuduğu metnin konusunu belirler. | G45: T.4.3.13. Görsellerle ilgili soruları cevaplar. | H45: T.4.2.1. Kelimeleri anlamlarına uygun kullanır. T.4.3.10. Okuduğu metindeki gerçek, mecaz ve terim anlamlı sözcükleri belirler. | I45: T.4.3.7. Kelimelerin zıt/eş anlamlılarını bulur. | J45: T.4.4.21. Yazma stratejilerini uygular.
A46: 36. HAFTA | B46: =trhg!H47 -> 14/Haz/2027-18/Haz/2027 | C46: Siberkent (Serbest Okuma Metni) T.4.1.7. Dinlediklerine/izlediklerine yönelik sorulara cevap verir. | D46: T.4.1.4. Dinlediklerinde/izlediklerinde geçen, bilmediği kelimelerin anlamını tahmin eder. | E46: T.4.1.7. Dinlediklerine/izlediklerine yönelik sorulara cevap verir. | F46: T.4.1.8. Dinlediklerine/izlediklerine farklı başlıklar önerir. T.4.1.6. Dinlediklerinin/izlediklerinin ana fikrini/ana duygusunu belirler. | G46: T.4.2.4. Konuşma stratejilerini uygular. | H46: TEMA DEĞERLENDİRME ÇALIŞMLARI | I46: TEMA DEĞERLENDİRME ÇALIŞMLARI | J46: TEMA DEĞERLENDİRME ÇALIŞMLARI
A47: 37. HAFTA | B47: =trhg!H48 -> 21/Haz/2027-25/Haz/2027 | C47: ETKİNLİK HAFTASI | D47: ETKİNLİK HAFTASI | E47: ETKİNLİK HAFTASI | F47: ETKİNLİK HAFTASI | G47: ETKİNLİK HAFTASI | H47: ETKİNLİK HAFTASI | I47: ETKİNLİK HAFTASI | J47: ETKİNLİK HAFTASI

Sheet mtm
C8: 1 DERS | D8: 2 DERS | E8: 3 DERS | F8: 4 DERS | G8: 5 DERS
A9: 1. HAFTA | B9: =trhg!H10 -> 14/Eyl/2026-18/Eyl/2026 | C9: M.4.1.1.1. 4, 5 ve 6 basamaklı doğal sayıları okur ve yazar. | D9: M.4.1.1.1. 4, 5 ve 6 basamaklı doğal sayıları okur ve yazar. | E9: M.4.1.1.1. 4, 5 ve 6 basamaklı doğal sayıları okur ve yazar. | F9: M.4.1.1.1. 4, 5 ve 6 basamaklı doğal sayıları okur ve yazar. | G9: M.4.1.1.2. 10 000’e kadar (10 000 dâhil) yüzer ve biner sayar.
A10: 2. HAFTA | B10: =trhg!H11 -> 21/Eyl/2026-25/Eyl/2026 | C10: M.4.1.1.2. 10 000’e kadar (10 000 dâhil) yüzer ve biner sayar. | D10: M.4.1.1.2. 10 000’e kadar (10 000 dâhil) yüzer ve biner sayar. | E10: M.4.1.1.3. 4, 5 ve 6 basamaklı doğal sayıların bölüklerini ve basamaklarını, basamaklarındaki rakamların basamak değerlerini belirler ve çözümler. | F10: M.4.1.1.3. 4, 5 ve 6 basamaklı doğal sayıların bölüklerini ve basamaklarını, basamaklarındaki rakamların basamak değerlerini belirler ve çözümler. | G10: M.4.1.1.3. 4, 5 ve 6 basamaklı doğal sayıların bölüklerini ve basamaklarını, basamaklarındaki rakamların basamak değerlerini belirler ve çözümler.
A11: 3. HAFTA | B11: =trhg!H12 -> 28/Eyl/2026-02/Eki/2026 | C11: M.4.1.1.4. Doğal sayıları en yakın onluğa veya yüzlüğe yuvarlar. | D11: M.4.1.1.4. Doğal sayıları en yakın onluğa veya yüzlüğe yuvarlar. | E11: M.4.1.1.5. En çok altı basamaklı doğal sayıları büyük/küçük sembolü kullanarak sıralar. | F11: M.4.1.1.5. En çok altı basamaklı doğal sayıları büyük/küçük sembolü kullanarak sıralar. | G11: M.4.1.1.5. En çok altı basamaklı doğal sayıları büyük/küçük sembolü kullanarak sıralar..
A12: 4. HAFTA | B12: =trhg!H13 -> 05/Eki/2026-09/Eki/2026 | C12: M.4.1.1.6. Belli bir kurala göre artan veya azalan sayı örüntüleri oluşturur ve kuralını açıklar. | D12: M.4.1.1.6. Belli bir kurala göre artan veya azalan sayı örüntüleri oluşturur ve kuralını açıklar. | E12: M.4.1.1.6. Belli bir kurala göre artan veya azalan sayı örüntüleri oluşturur ve kuralını açıklar. | F12: M.4.1.2.1. En çok dört basamaklı doğal sayılarla toplama işlemini yapar. 2 saat | G12: M.4.1.2.1. En çok dört basamaklı doğal sayılarla toplama işlemini yapar. 2 saat
A13: 5. HAFTA | B13: =trhg!H14 -> 12/Eki/2026-16/Eki/2026 | C13: M.4.1.2.1. En çok dört basamaklı doğal sayılarla toplama işlemini yapar | D13: M.4.1.2.1. En çok dört basamaklı doğal sayılarla toplama işlemini yapar | E13: M.4.1.3.1. En çok dört basamaklı doğal sayılarla çıkarma işlemini yapar. | F13: M.4.1.3.1. En çok dört basamaklı doğal sayılarla çıkarma işlemini yapar. | G13: M.4.1.3.1. En çok dört basamaklı doğal sayılarla çıkarma işlemini yapar.
A14: 6. HAFTA | B14: =trhg!H15 -> 19/Eki/2026-23/Eki/2026 | C14: M.4.1.3.2. Üç basamaklı doğal sayılardan 10’un katı olan iki basamaklı doğal sayıları ve 100’ün katı olan üç basamaklı doğal sayıları zihinden çıkarır. | D14: M.4.1.3.2. Üç basamaklı doğal sayılardan 10’un katı olan iki basamaklı doğal sayıları ve 100’ün katı olan üç basamaklı doğal sayıları zihinden çıkarır. | E14: M.4.1.3.2. Üç basamaklı doğal sayılardan 10’un katı olan iki basamaklı doğal sayıları ve 100’ün katı olan üç basamaklı doğal sayıları zihinden çıkarır. | F14: M.4.1.2.2.İki doğal sayının toplamını tahmin eder ve tahminini işlem sonucu ile karşılaştırır. | G14: M.4.1.2.2.İki doğal sayının toplamını tahmin eder ve tahminini işlem sonucu ile karşılaştırır.
A15: 7. HAFTA | B15: =trhg!H16 -> 26/Eki/2026-30/Eki/2026 | C15: M.4.1.2.2.İki doğal sayının toplamını tahmin eder ve tahminini işlem sonucu ile karşılaştırır. | D15: M.4.1.2.3. En çok dört basamaklı doğal sayıları 100’ün katlarıyla zihinden toplar. | E15: M.4.1.2.3. En çok dört basamaklı doğal sayıları 100’ün katlarıyla zihinden toplar. | F15: CUMHURİYET BAYRAMI | G15: M.4.1.2.3. En çok dört basamaklı doğal sayıları 100’ün katlarıyla zihinden toplar.
A16: 8. HAFTA | B16: =trhg!H17 -> 02/Kas/2026-06/Kas/2026 | C16: M.4.1.2.4. Doğal sayılarla toplama işlemini gerektiren problemleri çözer. | D16: M.4.1.2.4. Doğal sayılarla toplama işlemini gerektiren problemleri çözer. | E16: M.4.1.2.4. Doğal sayılarla toplama işlemini gerektiren problemleri çözer. | F16: M.4.1.2.4. Doğal sayılarla toplama işlemini gerektiren problemleri çözer. | G16: M.4.1.2.4. Doğal sayılarla toplama işlemini gerektiren problemleri çözer.
A17: 9. HAFTA | B17: =trhg!H18 -> 09/Kas/2026-13/Kas/2026 | C17: M.4.1.3.3. Doğal sayılarla yapılan çıkarma işleminin sonucunu tahmin eder, tahminini işlem sonucuyla karşılaştırır. | D17: M.4.1.3.3. Doğal sayılarla yapılan çıkarma işleminin sonucunu tahmin eder, tahminini işlem sonucuyla karşılaştırır. | E17: M.4.1.3.3. Doğal sayılarla yapılan çıkarma işleminin sonucunu tahmin eder, tahminini işlem sonucuyla karşılaştırır. | F17: M.4.1.3.3. Doğal sayılarla yapılan çıkarma işleminin sonucunu tahmin eder, tahminini işlem sonucuyla karşılaştırır. | G17: M.4.1.3.3. Doğal sayılarla yapılan çıkarma işleminin sonucunu tahmin eder, tahminini işlem sonucuyla karşılaştırır.
A18: ARA TATİL | B18: =trhg!H19 -> 16/Kas/2026-20/Kas/2026 | C18: ARA TATİL | D18: ARA TATİL | E18: ARA TATİL | F18: ARA TATİL | G18: ARA TATİL
A19: 10. HAFTA | B19: =trhg!H20 -> 23/Kas/2026-27/Kas/2026 | C19: M.4.1.3.4. Doğal sayılarla toplama ve çıkarma işlemini gerektiren problemleri çözer. | D19: M.4.1.3.4. Doğal sayılarla toplama ve çıkarma işlemini gerektiren problemleri çözer. | E19: M.4.1.3.4. Doğal sayılarla toplama ve çıkarma işlemini gerektiren problemleri çözer. | F19: M.4.1.3.4. Doğal sayılarla toplama ve çıkarma işlemini gerektiren problemleri çözer. | G19: M.4.1.3.4. Doğal sayılarla toplama ve çıkarma işlemini gerektiren problemleri çözer.
A20: 11. HAFTA | B20: =trhg!H21 -> 30/Kas/2026-04/Ara/2026 | C20: M.4.1.4.1 Üç basamaklı doğal sayılarla iki basamaklı doğal sayıları çarpar. | D20: M.4.1.4.1 Üç basamaklı doğal sayılarla iki basamaklı doğal sayıları çarpar. | E20: M.4.1.4.1 Üç basamaklı doğal sayılarla iki basamaklı doğal sayıları çarpar. | F20: M.4.1.4.2. Üç doğal sayı ile yapılan çarpma işleminde sayıların birbirleriyle çarpılma sırasının değişmesinin, sonucu değiştirmediğini gösterir. | G20: M.4.1.4.2. Üç doğal sayı ile yapılan çarpma işleminde sayıların birbirleriyle çarpılma sırasının değişmesinin, sonucu değiştirmediğini gösterir.
... A47: 37. HAFTA | B47: =trhg!H48 -> 21/Haz/2027-25/Haz/2027 | C47: ETKİNLİK HAFTASI | D47: ETKİNLİK HAFTASI | E47: ETKİNLİK HAFTASI | F47: ETKİNLİK HAFTASI | G47: ETKİNLİK HAFTASI

Sheet ing
C8: 1.DERS | D8: 2.DERS
A9: 1. HAFTA | B9: =trhg!H10 -> 14/Eyl/2026-18/Eyl/2026 | C9: İNG 1 | D9: İNG 2
A10: 2. HAFTA | B10: =trhg!H11 -> 21/Eyl/2026-25/Eyl/2026
A11: 3. HAFTA | B11: =trhg!H12 -> 28/Eyl/2026-02/Eki/2026
A12: 4. HAFTA | B12: =trhg!H13 -> 05/Eki/2026-09/Eki/2026
A13: 5. HAFTA | B13: =trhg!H14 -> 12/Eki/2026-16/Eki/2026
A14: 6. HAFTA | B14: =trhg!H15 -> 19/Eki/2026-23/Eki/2026
A15: 7. HAFTA | B15: =trhg!H16 -> 26/Eki/2026-30/Eki/2026
A16: 8. HAFTA | B16: =trhg!H17 -> 02/Kas/2026-06/Kas/2026
A17: 9. HAFTA | B17: =trhg!H18 -> 09/Kas/2026-13/Kas/2026
A18: ARATATİL | B18: =trhg!H19 -> 16/Kas/2026-20/Kas/2026 | C18: ARA TATİL | D18: ARA TATİL
A19: 10. HAFTA | B19: =trhg!H20 -> 23/Kas/2026-27/Kas/2026
A20: 11. HAFTA | B20: =trhg!H21 -> 30/Kas/2026-04/Ara/2026
A21: 12. HAFTA | B21: =trhg!H22 -> 07/Ara/2026-11/Ara/2026
A22: 13. HAFTA | B22: =trhg!H23 -> 14/Ara/2026-18/Ara/2026
A23: 14. HAFTA | B23: =trhg!H24 -> 21/Ara/2026-25/Ara/2026
A24: 15. HAFTA | B24: =trhg!H25 -> 28/Ara/2026-01/Oca/2027
A25: 16. HAFTA | B25: =trhg!H26 -> 04/Oca/2027-08/Oca/2027
A26: 17. HAFTA | B26: =trhg!H27 -> 11/Oca/2027-15/Oca/2027
A27: 18. HAFTA | B27: =trhg!H28 -> 18/Oca/2027-22/Oca/2027 | C27: ETKİNLİK HAFTASI | D27: ETKİNLİK HAFTASI
A28: 19. HAFTA | B28: =trhg!H29 -> 08/Şub/2027-12/Şub/2027
A29: 20. HAFTA | B29: =trhg!H30 -> 15/Şub/2027-19/Şub/2027
A30: 21. HAFTA | B30: =trhg!H31 -> 22/Şub/2027-26/Şub/2027
A31: 22. HAFTA | B31: =trhg!H32 -> 01/Mar/2027-05/Mar/2027
A32: BAYRAM | B32: =trhg!H33 -> 08/Mar/2027-12/Mar/2027 | C32: RAMAZAN BAYRAMI | D32: RAMAZAN BAYRAMI
A33: 23. HAFTA | B33: =trhg!H34 -> 15/Mar/2027-19/Mar/2027
A34: 24. HAFTA | B34: =trhg!H35 -> 22/Mar/2027-26/Mar/2027
A35: 25. HAFTA | B35: =trhg!H36 -> 29/Mar/2027-02/Nis/2027
A36: 26. HAFTA | B36: =trhg!H37 -> 05/Nis/2027-09/Nis/2027
A37: 27. HAFTA | B37: =trhg!H38 -> 12/Nis/2027-16/Nis/2027
A38: 28. HAFTA | B38: =trhg!H39 -> 19/Nis/2027-23/Nis/2027
A39: 29. HAFTA | B39: =trhg!H40 -> 26/Nis/2027-30/Nis/2027
A40: 30. HAFTA | B40: =trhg!H41 -> 03/May/2027-07/May/2027
A41: 31. HAFTA | B41: =trhg!H42 -> 10/May/2027-14/May/2027
A42: 32. HAFTA | B42: =trhg!H43 -> 17/May/2027-21/May/2027
A43: 33. HAFTA | B43: =trhg!H44 -> 24/May/2027-28/May/2027
A44: 34. HAFTA | B44: =trhg!H45 -> 31/May/2027-04/Haz/2027
... A46: 36. HAFTA | B46: =trhg!H47 -> 14/Haz/2027-18/Haz/2027
A47: 37. HAFTA | B47: =trhg!H48 -> 21/Haz/2027-25/Haz/2027 | C47: ETKİNLİK HAFTASI | D47: ETKİNLİK HAFTASI
B66: www.egitimhane.com

Sheet mz
C8: 1. DERS
A9: 1. HAFTA | B9: =trhg!H10 -> 14/Eyl/2026-18/Eyl/2026 | C9: Mü.4.A.2. İstiklâl Marşı’nı doğru söylemeye özen gösterir
A10: 2. HAFTA | B10: =trhg!H11 -> 21/Eyl/2026-25/Eyl/2026 | C10: Mü.4.A.2. İstiklâl Marşı’nı doğru söylemeye özen gösterir
A11: 3. HAFTA | B11: =trhg!H12 -> 28/Eyl/2026-02/Eki/2026 | C11: Mü.4.A.1. Birlikte söyleme kurallarına uyar.
A12: 4. HAFTA | B12: =trhg!H13 -> 05/Eki/2026-09/Eki/2026 | C12: Mü.4.A.1. Birlikte söyleme kurallarına uyar.
A13: 5. HAFTA | B13: =trhg!H14 -> 12/Eki/2026-16/Eki/2026 | C13: Mü.4.A.1. Birlikte söyleme kurallarına uyar.
A14: 6. HAFTA | B14: =trhg!H15 -> 19/Eki/2026-23/Eki/2026 | C14: Mü.4.D.4. Öğrenilen müzikler aracılığıyla millî ve manevi bilinç kazanır.
A15: 7. HAFTA | B15: =trhg!H16 -> 26/Eki/2026-30/Eki/2026 | C15: Mü.4.D.4. Öğrenilen müzikler aracılığıyla millî ve manevi bilinç kazanır.
A16: 8. HAFTA | B16: =trhg!H17 -> 02/Kas/2026-06/Kas/2026 | C16: Mü.4.A.4. Belirli gün ve haftaların anlamına uygun müzikler söyler.
A17: 9. HAFTA | B17: =trhg!H18 -> 09/Kas/2026-13/Kas/2026 | C17: Mü.4.A.4. Belirli gün ve haftaların anlamına uygun müzikler söyler.
A18: ARA TATİL | B18: =trhg!H19 -> 16/Kas/2026-20/Kas/2026 | C18: ARA TATİL
A19: 10. HAFTA | B19: =trhg!H20 -> 23/Kas/2026-27/Kas/2026 | C19: Mü.4.A.4. Belirli gün ve haftaların anlamına uygun müzikler söyler.
A20: 11. HAFTA | B20: =trhg!H21 -> 30/Kas/2026-04/Ara/2026 | C20: Mü.4.B.1. Temel müzik yazı ve öğelerini tanır.
... A47: 37. HAFTA | B47: =trhg!H48 -> 21/Haz/2027-25/Haz/2027 | C47: ETKİNLİK HAFTASI

Sheet gs
C8: 1.DERS
A9: 1. HAFTA | B9: =trhg!H10 -> 14/Eyl/2026-18/Eyl/2026 | C9: G.4.1.1. Görsel sanat çalışmasını oluştururken biçimlendirme basamaklarını kullanır.
A10: 2. HAFTA | B10: =trhg!H11 -> 21/Eyl/2026-25/Eyl/2026 | C10: G.4.1.2. Deneyimlerini farklı fikirler, sanat formları ve kültürel temalarla ilişkilendirerek görsel sanat çalışması oluşturur
A11: 3. HAFTA | B11: =trhg!H12 -> 28/Eyl/2026-02/Eki/2026 | C11: G.4.1.3. Görsel sanat çalışmasında kompozisyon birliğini oluşturmak için seçimler yapar.
A12: 4. HAFTA | B12: =trhg!H13 -> 05/Eki/2026-09/Eki/2026 | C12: G.4.1.4. İki boyutlu yüzey üzerinde derinlik etkisi oluşturur.
A13: 5. HAFTA | B13: =trhg!H14 -> 12/Eki/2026-16/Eki/2026 | C13: G.4.1.5. Gözleme dayalı çizimlerinde kontur çizgisini ve gölgeleme tekniklerini kullanır.
A14: 6. HAFTA | B14: =trhg!H15 -> 19/Eki/2026-23/Eki/2026 | C14: G.4.1.6. Farklı materyalleri kullanarak üç boyutlu çalışmalar yapar.
A15: 7. HAFTA | B15: =trhg!H16 -> 26/Eki/2026-30/Eki/2026 | C15: G.4.1.7. Görsel sanat çalışmalarını oluştururken sanat elemanları ve tasarım ilkelerini kullanır.
A16: 8. HAFTA | B16: =trhg!H17 -> 02/Kas/2026-06/Kas/2026 | C16: G.4.2.1. Sanatçı ve zanaatkârın rollerini söyler.
A17: 9. HAFTA | B17: =trhg!H18 -> 09/Kas/2026-13/Kas/2026 | C17: G.4.2.2. Türk kültürüne ve diğer kültürlere ait mimari yapıların belirgin özelliklerini karşılaştırır
A18: ARA TATİL | B18: =trhg!H19 -> 16/Kas/2026-20/Kas/2026 | C18: ARA TATİL
A19: 10. HAFTA | B19: =trhg!H20 -> 23/Kas/2026-27/Kas/2026 | C19: G.4.2.3. Farklı kültürlerde yapılmış sanat eserlerinin genel özelliklerini karşılaştırır.
A20: 11. HAFTA | B20: =trhg!H21 -> 30/Kas/2026-04/Ara/2026 | C20: G.4.2.4. Müzedeki farklı kültürlere ait sanat eserlerindeki ortak özellikleri söyler.
... A47: 37. HAFTA | B47: =trhg!H48 -> 21/Haz/2027-25/Haz/2027 | C47: ETKİNLİK HAFTASI

Sheet BEO
C8: 1. DERS | D8: 2. DERS
A9: 1. HAFTA | B9: =trhg!H10 -> 14/Eyl/2026-18/Eyl/2026 | C9: 4.1.1.1. Yer değiştirme hareketlerini artan kuvvet, hız ve çeviklikle yapar | D9: 4.1.1.1. Yer değiştirme hareketlerini artan kuvvet, hız ve çeviklikle yapar
A10: 2. HAFTA | B10: =trhg!H11 -> 21/Eyl/2026-25/Eyl/2026 | C10: 4.1.1.1. Yer değiştirme hareketlerini artan kuvvet, hız ve çeviklikle yapar. | D10: 4.1.1.1. Yer değiştirme hareketlerini artan kuvvet, hız ve çeviklikle yapar.
A11: 3. HAFTA | B11: =trhg!H12 -> 28/Eyl/2026-02/Eki/2026 | C11: 4.1.1.2. Oyunlarda dengeleme gerektiren hareketleri etkili kullanır. | D11: 4.1.1.2. Oyunlarda dengeleme gerektiren hareketleri etkili kullanır.
A12: 4. HAFTA | B12: =trhg!H13 -> 05/Eki/2026-09/Eki/2026 | C12: 4.1.1.2. Oyunlarda dengeleme gerektiren hareketleri etkili kullanır. | D12: 4.1.1.2. Oyunlarda dengeleme gerektiren hareketleri etkili kullanır.
A13: 5. HAFTA | B13: =trhg!H14 -> 12/Eki/2026-16/Eki/2026 | C13: 4.2.3.1. Bayram, kutlama ve törenlerde sorumluluk alır. | D13: 4.2.3.1. Bayram, kutlama ve törenlerde sorumluluk alır.
A14: 6. HAFTA | B14: =trhg!H15 -> 19/Eki/2026-23/Eki/2026 | C14: 4.2.3.1. Bayram, kutlama ve törenlerde sorumluluk alır. | D14: 4.2.3.1. Bayram, kutlama ve törenlerde sorumluluk alır.
A15: 7. HAFTA | B15: =trhg!H16 -> 26/Eki/2026-30/Eki/2026 | C15: 4.1.1.3. Oyunlarda nesne kontrolü gerektiren hareketleri etkili kullanır | D15: 4.1.1.3. Oyunlarda nesne kontrolü gerektiren hareketleri etkili kullanır
A16: 8. HAFTA | B16: =trhg!H17 -> 02/Kas/2026-06/Kas/2026 | C16: 4.1.1.3. Oyunlarda nesne kontrolü gerektiren hareketleri etkili kullanır | D16: 4.1.1.3. Oyunlarda nesne kontrolü gerektiren hareketleri etkili kullanır
A17: 9. HAFTA | B17: =trhg!H18 -> 09/Kas/2026-13/Kas/2026 | C17: 4.1.1.4. Özgün, modern danslar yapar. | D17: 4.1.1.4. Özgün, modern danslar yapar.
A18: 10. HAFTA | B18: =trhg!H19 -> 16/Kas/2026-20/Kas/2026 | C18: 4.1.1.5. Kurallı takım oyunları oynar. | D18: 4.1.1.5. Kurallı takım oyunları oynar.
A19: 11. HAFTA | B19: =trhg!H20 -> 23/Kas/2026-27/Kas/2026 | C19: 4.1.1.5. Kurallı takım oyunları oynar. | D19: 4.1.1.5. Kurallı takım oyunları oynar.
A20: 12. HAFTA | B20: =trhg!H21 -> 30/Kas/2026-04/Ara/2026 | C20: 4.1.2.1. Hareket becerileri ile ilgili kavramları yerinde kullanır. | D20: 4.1.2.1. Hareket becerileri ile ilgili kavramları yerinde kullanır.
... A45: 37. HAFTA | B45: =trhg!H46 -> 07/Haz/2027-11/Haz/2027 | C45: 4.1.2.3. Oyun ve fiziki etkinliklerde kendisinin ve arkadaşlarının performanslarını değerlendirir. | D45: 4.1.2.3. Oyun ve fiziki etkinliklerde kendisinin ve arkadaşlarının performanslarını değerlendirir.
A46: 38. HAFTA | B46: =trhg!H47 -> 14/Haz/2027-18/Haz/2027
A47: 39. HAFTA | B47: =trhg!H48 -> 21/Haz/2027-25/Haz/2027
C80: www.egitimhane.com

Sheet ih
C8: 1.DERS | D8: 2.DERS
A9: 1. HAFTA | B9: =trhg!H10 -> 14/Eyl/2026-18/Eyl/2026 | C9: Y4.1.1. İnsan olmanın niteliklerini açıklar. | D9: Y4.1.1. İnsan olmanın niteliklerini açıklar.
A10: 2. HAFTA | B10: =trhg!H11 -> 21/Eyl/2026-25/Eyl/2026 | C10: Y4.1.2. İnsanın doğuştan gelen temel ve vazgeçilmez hakları olduğunu bilir. | D10: Y4.1.2. İnsanın doğuştan gelen temel ve vazgeçilmez hakları olduğunu bilir.
A11: 3. HAFTA | B11: =trhg!H12 -> 28/Eyl/2026-02/Eki/2026 | C11: Y4.1.3. Haklarına kendi yaşamından örnekler verir. | D11: Y4.1.3. Haklarına kendi yaşamından örnekler verir.
A12: 4. HAFTA | B12: =trhg!H13 -> 05/Eki/2026-09/Eki/2026 | C12: Y4.1.4. Çocuk ile yetişkin arasındaki farkları açıklar. | D12: Y4.1.4. Çocuk ile yetişkin arasındaki farkları açıklar.
A13: 5. HAFTA | B13: =trhg!H14 -> 12/Eki/2026-16/Eki/2026 | C13: Y4.1.4. Çocuk ile yetişkin arasındaki farkları açıklar. | D13: Y4.1.4. Çocuk ile yetişkin arasındaki farkları açıklar.
A14: 6. HAFTA | B14: =trhg!H15 -> 19/Eki/2026-23/Eki/2026 | C14: Y4.2.1. Hak, özgürlük ve sorumluluk arasındaki ilişkiyi fark eder. | D14: Y4.2.1. Hak, özgürlük ve sorumluluk arasındaki ilişkiyi fark eder.
A15: 7. HAFTA | B15: =trhg!H16 -> 26/Eki/2026-30/Eki/2026 | C15: Y4.2.2. İnsan olma sorumluluğunu taşımanın yollarını açıklar. | D15: Y4.2.2. İnsan olma sorumluluğunu taşımanın yollarını açıklar.
A16: 8. HAFTA | B16: =trhg!H17 -> 02/Kas/2026-06/Kas/2026 | C16: Y4.2.3. Hak ve özgürlüklerini kullanabilen ve kullanamayan çocukların yaşantılarını karşılaştırır. | D16: Y4.2.3. Hak ve özgürlüklerini kullanabilen ve kullanamayan çocukların yaşantılarını karşılaştırır.
A17: 9. HAFTA | B17: =trhg!H18 -> 09/Kas/2026-13/Kas/2026 | C17: Y4.2.4. Hak ve özgürlüklerinin ihlal edildiği ya da kısıtlandığı durumlarda hissettiklerini ifade eder. | D17: Y4.2.4. Hak ve özgürlüklerinin ihlal edildiği ya da kısıtlandığı durumlarda hissettiklerini ifade eder.
A18: ARA TATİL | B18: =trhg!H19 -> 16/Kas/2026-20/Kas/2026 | C18: ARA TATİL | D18: ARA TATİL
A19: 10. HAFTA | B19: =trhg!H20 -> 23/Kas/2026-27/Kas/2026 | C19: Y4.2.5. Hak ve özgürlüklerin ihlal edildiği veya kısıtlandığı durumların çözümünde ne tür sorumluluklar üstlenebileceğine ilişkin örnekler verir. | D19: Y4.2.5. Hak ve özgürlüklerin ihlal edildiği veya kısıtlandığı durumların çözümünde ne tür sorumluluklar üstlenebileceğine ilişkin örnekler verir.
A20: 11. HAFTA | B20: =trhg!H21 -> 30/Kas/2026-04/Ara/2026 | C20: Y4.2.6. Hak ve özgürlüklere saygı gösterir. | D20: Y4.2.6. Hak ve özgürlüklere saygı gösterir.
... A47: 37. HAFTA | B47: =trhg!H48 -> 21/Haz/2027-25/Haz/2027 | C47: ETKİNLİK HAFTASI | D47: ETKİNLİK HAFTASI

Sheet tg
C8: 1. DERS
A9: 1. HAFTA | B9: =trhg!H10 -> 14/Eyl/2026-18/Eyl/2026 | C9: 4.1.1. Trafikte kendisinin ve başkalarının hayatının önemli olduğunu fark eder.
A10: 2. HAFTA | B10: =trhg!H11 -> 21/Eyl/2026-25/Eyl/2026 | C10: 4.1.2. Trafikle ilgil temel kavramları açıklar.
A11: 3. HAFTA | B11: =trhg!H12 -> 28/Eyl/2026-02/Eki/2026 | C11: 4.1.2. Trafikle ilgil temel kavramları açıklar.
A12: 4. HAFTA | B12: =trhg!H13 -> 05/Eki/2026-09/Eki/2026 | C12: 4.1.3. Trafik işaretleri ve işaret levhalarının önemini araştırır.
A13: 5. HAFTA | B13: =trhg!H14 -> 12/Eki/2026-16/Eki/2026 | C13: 4.1.3. Trafik işaretleri ve işaret levhalarının önemini araştırır.
A14: 6. HAFTA | B14: =trhg!H15 -> 19/Eki/2026-23/Eki/2026 | C14: 4.1.4. Yaya olarak trafik kurallarına uyar.
A15: 7. HAFTA | B15: =trhg!H16 -> 26/Eki/2026-30/Eki/2026 | C15: 4.1.4. Yaya olarak trafik kurallarına uyar.
A16: 8. HAFTA | B16: =trhg!H17 -> 02/Kas/2026-06/Kas/2026 | C16: 4.1.5. Günlük yaşantısında çevresindeki güvenli yolları kullanır.
A17: 9. HAFTA | B17: =trhg!H18 -> 09/Kas/2026-13/Kas/2026 | C17: Yazılı Değerlendirme
A18: 10. HAFTA | B18: =trhg!H19 -> 16/Kas/2026-20/Kas/2026 | C18: 4.1.6. Taşıt trafiğine kapalı alanlarda oyun araçlarını güvenli kullanır.
A19: 11. HAFTA | B19: =trhg!H20 -> 23/Kas/2026-27/Kas/2026 | C19: 4.1.7. Ulaşım araçlarını çeşitli özellikleri açısından karşılaştırır.
A20: 12. HAFTA | B20: =trhg!H21 -> 30/Kas/2026-04/Ara/2026 | C20: 4.1.8. Trafikte geçiş üstünlüğü olan taşıtları tanıtır.
... A44: 36. HAFTA | B44: =trhg!H45 -> 31/May/2027-04/Haz/2027 | C44: 4.2.4. Hafif yaralanmalarda yapıması gerekli ilk yardım uygulamalarını araştırır.
A45: 37. HAFTA | B45: =trhg!#REF! -> #REF!
A46: 38. HAFTA | B46: =trhg!H46 -> 07/Haz/2027-11/Haz/2027
A47: 39. HAFTA | B47: =trhg!H47 -> 14/Haz/2027-18/Haz/2027
A48: 40. HAFTA | B48: =trhg!H48 -> 21/Haz/2027-25/Haz/2027

Sheet dkab
C8: 1.DERS | D8: 2.DERS
A9: 1. HAFTA | B9: =trhg!H10 -> 14/Eyl/2026-18/Eyl/2026 | C9: 4.1.1. Dinî ifadeleri, günlük konuşmalarda doğru ve yerinde kullanır. | D9: 4.1.1. Dinî ifadeleri, günlük konuşmalarda doğru ve yerinde kullanır.
A10: 2. HAFTA | B10: =trhg!H11 -> 21/Eyl/2026-25/Eyl/2026 | C10: 4.1.1. Dinî ifadeleri, günlük konuşmalarda doğru ve yerinde kullanır. | D10: 4.1.1. Dinî ifadeleri, günlük konuşmalarda doğru ve yerinde kullanır.
A11: 3. HAFTA | B11: =trhg!H12 -> 28/Eyl/2026-02/Eki/2026 | C11: 4.1.1. Dinî ifadeleri, günlük konuşmalarda doğru ve yerinde kullanır. | D11: 4.1.1. Dinî ifadeleri, günlük konuşmalarda doğru ve yerinde kullanır. | AE11: =dkab!C10554 -> 0
A12: 4. HAFTA | B12: =trhg!H13 -> 05/Eki/2026-09/Eki/2026 | C12: 4.1.2 Tekbir ve salavatı söyler. | D12: 4.1.2 Tekbir ve salavatı söyler.
A13: 5. HAFTA | B13: =trhg!H14 -> 12/Eki/2026-16/Eki/2026 | C13: 4.1.3. Dilek ve dualarda kullanılan dinî ifadelere örnekler verir. | D13: 4.1.3. Dilek ve dualarda kullanılan dinî ifadelere örnekler verir.
A14: 6. HAFTA | B14: =trhg!H15 -> 19/Eki/2026-23/Eki/2026 | C14: 4.1.4. Sübhaneke duasını okur, anlamını söyler. | D14: 4.1.4. Sübhaneke duasını okur, anlamını söyler.
A15: 7. HAFTA | B15: =trhg!H16 -> 26/Eki/2026-30/Eki/2026 | C15: 4.1.4. Sübhaneke duasını okur, anlamını söyler. | D15: 4.1.4. Sübhaneke duasını okur, anlamını söyler.
A16: 8. HAFTA | B16: =trhg!H17 -> 02/Kas/2026-06/Kas/2026 | C16: 4.1.4. Sübhaneke duasını okur, anlamını söyler. | D16: 4.1.4. Sübhaneke duasını okur, anlamını söyler.
A17: 9. HAFTA | B17: =trhg!H18 -> 09/Kas/2026-13/Kas/2026 | C17: 4.2.1. İslam’ın inanç esaslarını sıralar. | D17: 4.2.1. İslam’ın inanç esaslarını sıralar.
A18: ARA TATİL | B18: =trhg!H19 -> 16/Kas/2026-20/Kas/2026 | C18: ARA TATİL | D18: ARA TATİL
A19: 10. HAFTA | B19: =trhg!H20 -> 23/Kas/2026-27/Kas/2026 | C19: 4.2.1. İslam’ın inanç esaslarını sıralar. | D19: 4.2.1. İslam’ın inanç esaslarını sıralar.
A20: 11. HAFTA | B20: =trhg!H21 -> 30/Kas/2026-04/Ara/2026 | C20: 4.2.İslam’ın şartlarını söyler. | D20: 4.2.İslam’ın şartlarını söyler.
A21: 12. HAFTA | B21: =trhg!H22 -> 07/Ara/2026-11/Ara/2026 | C21: 4.2. İslam’ın şartlarını söyler. | D21: 4.2. İslam’ın şartlarını söyler.
A22: 13. HAFTA | B22: =trhg!H23 -> 14/Ara/2026-18/Ara/2026 | C22: 4.2.3. Kur’an-ı Kerim’in iç düzeni ile ilgili kavramları tanımlar. | D22: 4.2.3. Kur’an-ı Kerim’in iç düzeni ile ilgili kavramları tanımlar.
A23: 14. HAFTA | B23: =trhg!H24 -> 21/Ara/2026-25/Ara/2026 | C23: 4.2.3. Kur’an-ı Kerim’in iç düzeni ile ilgili kavramları tanımlar. | D23: 4.2.3. Kur’an-ı Kerim’in iç düzeni ile ilgili kavramları tanımlar.
... A47: 37. HAFTA | B47: =trhg!H48 -> 21/Haz/2027-25/Haz/2027 | C47: ETKİNLİK HAFTASI | D47: ETKİNLİK HAFTASI

Sheet ana
C12: OKUL ADI : | E12: ŞÜKRÜPAŞA İLKOKULU
C13: SINIF : | E13: 4 / B
C14: ÖĞRETMEN:
I53: www.egitimhane.com

Sheet OKU
B7: Sayfa koruması yoktur. | K7: ÖNEMLİ NOT: Cep telefonlarına yükleyip kullanabilirsiniz. Sol üst köşedeki HAFTA yazan kutucuğun yanındaki sayıya çift tıkladığımızda sayı aktif hale gelecektir. Sayıyı değiştirerek istediğiniz haftanın kazanımlarını görebilirsiniz. Excel ,E-tablo vb ile açabilirsiniz. Ben "OfficeSuite" kullanıyordum.Ancak son güncellemede sayfa boş görünüyor. onun yerine şu an "WPS Office" kullanmaya başladım. Herkese kolay gelsin. E Tablo olan her programda çalışır.
B8: İNDİS bilenler ders programını kolaylıkla değiştirebilir.
B9: Ana Sayfa Görüntüsünü Değiştirdim.
B10: "trhg"yani tarih giriş kısmı tamamen açık.
B11: Sayfa adları kısaltılmıştır.
B12: "SD" kısmındaki haftalık plan yazıcıda tam sayfa olacak şekilde ayarlanmıştır.
B13: "topk" kısmı orjinal formata sadık kalmak içindir.
B14: Kazanımları kontrol ediniz, Kılavuz kitabınızla uygunluğunu KONTROL ediniz.
B15: Kazanımlarda değişikliği yapabilirsiniz.
B16: HDPO ( HAFTALIK DERS PROGRAMI OLUŞTURMA) eklenmiştir. KONTROL ETMENİZİ TAVSİYE EDERİM…
B17: 4. sınıflar için uyarlanıp düzenlenmiştir.
B18: Eğitim emekçilerine selamlar olsun...
B21: Köprü Ekle / Eklemek (Oluşturmak): Köprü oluşturmak istediğimizde, sağ tıklayıp işaretlediğimizde el işareti oluşur ve çerçevelenir. Köprü ekle tuşuna basıldığında / veya köprü düzenle tıklandığında açılan sayfanın (Köprü Ekle) sol köşesinde bulunan Bağla bölmesinin altında bulunan Bu Belgeye Yerleştir tıklandığında derslerin kısaltmaları yan tarafta açılacaktır. İstediğiniz derse bağlantı kurduğunuzda ana sayfada tıklandığında o sayfaya ulaşılacak ve sayfa açılacaktır. Bilgi almak için şu sayfayı ziyaret edebilirsiniz : https://www.youtube.com/watch?v=e54OGuAavsk
